BEGIN:VCALENDAR
VERSION:2.0
PRODID:-//KSPU//Teacher Schedule Calendar//EN
CALSCALE:GREGORIAN
METHOD:PUBLISH
X-WR-CALNAME:Майер Р.Р. Расписание
X-PUBLISHED-TTL:PT15M
BEGIN:VEVENT
UID:968886_971@kspu.ru
DTSTAMP:20260419T215242Z
DTSTART:20251212T014000Z
DTEND:20251212T031000Z
SUMMARY:Организационное собрание DO-Б25Б-01 Прочее
DESCRIPTION:Предмет: Организационное собрание\nГруппа: DO-Б25Б-01\nПреподаватель: Майер Р.Р.\nТип занятия: Прочее\nАудитория: 4‑3‑02
LOCATION:4‑3‑02
END:VEVENT
BEGIN:VEVENT
UID:969696_971@kspu.ru
DTSTAMP:20260419T215242Z
DTSTART:20251216T014000Z
DTEND:20251216T031000Z
SUMMARY:Организационное собрание DO-Б25Б-01 Прочее
DESCRIPTION:Предмет: Организационное собрание\nГруппа: DO-Б25Б-01\nПреподаватель: Майер Р.Р.\nТип занятия: Прочее\nАудитория: 4‑3‑07
LOCATION:4‑3‑07
END:VEVENT
END:VCALENDAR