BEGIN:VCALENDAR
VERSION:2.0
PRODID:-//KSPU//Teacher Schedule Calendar//EN
CALSCALE:GREGORIAN
METHOD:PUBLISH
X-WR-CALNAME:Гаврилова О.М. Расписание
X-PUBLISHED-TTL:PT15M
BEGIN:VEVENT
UID:927996_769@kspu.ru
DTSTAMP:20260421T050115Z
DTSTART:20250908T084000Z
DTEND:20250908T101000Z
SUMMARY:Организационное собрание Учебно-методическое управление 1 Прочее
DESCRIPTION:Предмет: Организационное собрание\nГруппа: Учебно-методическое управление 1\nПреподаватель: Гаврилова О.М.\nТип занятия: Прочее\nАудитория: 1‑4‑02
LOCATION:1‑4‑02
END:VEVENT
END:VCALENDAR