BEGIN:VCALENDAR
VERSION:2.0
PRODID:-//KSPU//Teacher Schedule Calendar//EN
CALSCALE:GREGORIAN
METHOD:PUBLISH
X-WR-CALNAME:Баранов А.М. Расписание
X-PUBLISHED-TTL:PT15M
BEGIN:VEVENT
UID:900243_698@kspu.ru
DTSTAMP:20260420T051227Z
DTSTART:20250901T032000Z
DTEND:20250901T045000Z
SUMMARY:Теоретическая физика DO-Б22А-01 Лабораторное занятие (Подгруппа Б)
DESCRIPTION:Предмет: Теоретическая физика\nГруппа: DO-Б22А-01\nПреподаватель: Баранов А.М.\nТип занятия: Лабораторное занятие\nАудитория: 4‑2‑13
LOCATION:4‑2‑13
END:VEVENT
BEGIN:VEVENT
UID:900254_698@kspu.ru
DTSTAMP:20260420T051227Z
DTSTART:20250901T052000Z
DTEND:20250901T065000Z
SUMMARY:Теоретическая физика DO-Б22А-01 Лабораторное занятие (Подгруппа A)
DESCRIPTION:Предмет: Теоретическая физика\nГруппа: DO-Б22А-01\nПреподаватель: Баранов А.М.\nТип занятия: Лабораторное занятие\nАудитория: 4‑2‑13
LOCATION:4‑2‑13
END:VEVENT
BEGIN:VEVENT
UID:900265_698@kspu.ru
DTSTAMP:20260420T051227Z
DTSTART:20250901T070000Z
DTEND:20250901T083000Z
SUMMARY:Теоретическая физика DO-Б22А-01 Лекция
DESCRIPTION:Предмет: Теоретическая физика\nГруппа: DO-Б22А-01\nПреподаватель: Баранов А.М.\nТип занятия: Лекция\nАудитория: 4‑2‑13
LOCATION:4‑2‑13
END:VEVENT
BEGIN:VEVENT
UID:910287_698@kspu.ru
DTSTAMP:20260420T051227Z
DTSTART:20250903T014000Z
DTEND:20250903T031000Z
SUMMARY:Теоретическая физика DO-Б23Б-01 Лекция
DESCRIPTION:Предмет: Теоретическая физика\nГруппа: DO-Б23Б-01\nПреподаватель: Баранов А.М.\nТип занятия: Лекция\nАудитория: 4‑2‑13
LOCATION:4‑2‑13
END:VEVENT
BEGIN:VEVENT
UID:910301_698@kspu.ru
DTSTAMP:20260420T051227Z
DTSTART:20250903T032000Z
DTEND:20250903T045000Z
SUMMARY:Теоретическая физика DO-Б23Б-01 Лабораторное занятие
DESCRIPTION:Предмет: Теоретическая физика\nГруппа: DO-Б23Б-01\nПреподаватель: Баранов А.М.\nТип занятия: Лабораторное занятие\nАудитория: 4‑2‑13
LOCATION:4‑2‑13
END:VEVENT
BEGIN:VEVENT
UID:900244_698@kspu.ru
DTSTAMP:20260420T051227Z
DTSTART:20250908T032000Z
DTEND:20250908T045000Z
SUMMARY:Теоретическая физика DO-Б22А-01 Лабораторное занятие (Подгруппа Б)
DESCRIPTION:Предмет: Теоретическая физика\nГруппа: DO-Б22А-01\nПреподаватель: Баранов А.М.\nТип занятия: Лабораторное занятие\nАудитория: 4‑2‑13
LOCATION:4‑2‑13
END:VEVENT
BEGIN:VEVENT
UID:900255_698@kspu.ru
DTSTAMP:20260420T051227Z
DTSTART:20250908T052000Z
DTEND:20250908T065000Z
SUMMARY:Теоретическая физика DO-Б22А-01 Лабораторное занятие (Подгруппа A)
DESCRIPTION:Предмет: Теоретическая физика\nГруппа: DO-Б22А-01\nПреподаватель: Баранов А.М.\nТип занятия: Лабораторное занятие\nАудитория: 4‑2‑13
LOCATION:4‑2‑13
END:VEVENT
BEGIN:VEVENT
UID:900266_698@kspu.ru
DTSTAMP:20260420T051227Z
DTSTART:20250908T070000Z
DTEND:20250908T083000Z
SUMMARY:Теоретическая физика DO-Б22А-01 Лекция
DESCRIPTION:Предмет: Теоретическая физика\nГруппа: DO-Б22А-01\nПреподаватель: Баранов А.М.\nТип занятия: Лекция\nАудитория: 4‑2‑13
LOCATION:4‑2‑13
END:VEVENT
BEGIN:VEVENT
UID:910288_698@kspu.ru
DTSTAMP:20260420T051227Z
DTSTART:20250910T014000Z
DTEND:20250910T031000Z
SUMMARY:Теоретическая физика DO-Б23Б-01 Лекция
DESCRIPTION:Предмет: Теоретическая физика\nГруппа: DO-Б23Б-01\nПреподаватель: Баранов А.М.\nТип занятия: Лекция\nАудитория: 4‑2‑13
LOCATION:4‑2‑13
END:VEVENT
BEGIN:VEVENT
UID:910302_698@kspu.ru
DTSTAMP:20260420T051227Z
DTSTART:20250910T032000Z
DTEND:20250910T045000Z
SUMMARY:Теоретическая физика DO-Б23Б-01 Лабораторное занятие
DESCRIPTION:Предмет: Теоретическая физика\nГруппа: DO-Б23Б-01\nПреподаватель: Баранов А.М.\nТип занятия: Лабораторное занятие\nАудитория: 4‑2‑13
LOCATION:4‑2‑13
END:VEVENT
BEGIN:VEVENT
UID:900245_698@kspu.ru
DTSTAMP:20260420T051227Z
DTSTART:20250915T032000Z
DTEND:20250915T045000Z
SUMMARY:Теоретическая физика DO-Б22А-01 Лабораторное занятие (Подгруппа Б)
DESCRIPTION:Предмет: Теоретическая физика\nГруппа: DO-Б22А-01\nПреподаватель: Баранов А.М.\nТип занятия: Лабораторное занятие\nАудитория: 4‑2‑13
LOCATION:4‑2‑13
END:VEVENT
BEGIN:VEVENT
UID:900256_698@kspu.ru
DTSTAMP:20260420T051227Z
DTSTART:20250915T052000Z
DTEND:20250915T065000Z
SUMMARY:Теоретическая физика DO-Б22А-01 Лабораторное занятие (Подгруппа A)
DESCRIPTION:Предмет: Теоретическая физика\nГруппа: DO-Б22А-01\nПреподаватель: Баранов А.М.\nТип занятия: Лабораторное занятие\nАудитория: 4‑2‑13
LOCATION:4‑2‑13
END:VEVENT
BEGIN:VEVENT
UID:900267_698@kspu.ru
DTSTAMP:20260420T051227Z
DTSTART:20250915T070000Z
DTEND:20250915T083000Z
SUMMARY:Теоретическая физика DO-Б22А-01 Лекция
DESCRIPTION:Предмет: Теоретическая физика\nГруппа: DO-Б22А-01\nПреподаватель: Баранов А.М.\nТип занятия: Лекция\nАудитория: 4‑2‑13
LOCATION:4‑2‑13
END:VEVENT
BEGIN:VEVENT
UID:910289_698@kspu.ru
DTSTAMP:20260420T051227Z
DTSTART:20250917T014000Z
DTEND:20250917T031000Z
SUMMARY:Теоретическая физика DO-Б23Б-01 Лекция
DESCRIPTION:Предмет: Теоретическая физика\nГруппа: DO-Б23Б-01\nПреподаватель: Баранов А.М.\nТип занятия: Лекция\nАудитория: 4‑2‑13
LOCATION:4‑2‑13
END:VEVENT
BEGIN:VEVENT
UID:910303_698@kspu.ru
DTSTAMP:20260420T051227Z
DTSTART:20250917T032000Z
DTEND:20250917T045000Z
SUMMARY:Теоретическая физика DO-Б23Б-01 Лабораторное занятие
DESCRIPTION:Предмет: Теоретическая физика\nГруппа: DO-Б23Б-01\nПреподаватель: Баранов А.М.\nТип занятия: Лабораторное занятие\nАудитория: 4‑2‑13
LOCATION:4‑2‑13
END:VEVENT
BEGIN:VEVENT
UID:900246_698@kspu.ru
DTSTAMP:20260420T051227Z
DTSTART:20250922T032000Z
DTEND:20250922T045000Z
SUMMARY:Теоретическая физика DO-Б22А-01 Лабораторное занятие (Подгруппа Б)
DESCRIPTION:Предмет: Теоретическая физика\nГруппа: DO-Б22А-01\nПреподаватель: Баранов А.М.\nТип занятия: Лабораторное занятие\nАудитория: 4‑2‑13
LOCATION:4‑2‑13
END:VEVENT
BEGIN:VEVENT
UID:900257_698@kspu.ru
DTSTAMP:20260420T051227Z
DTSTART:20250922T052000Z
DTEND:20250922T065000Z
SUMMARY:Теоретическая физика DO-Б22А-01 Лабораторное занятие (Подгруппа A)
DESCRIPTION:Предмет: Теоретическая физика\nГруппа: DO-Б22А-01\nПреподаватель: Баранов А.М.\nТип занятия: Лабораторное занятие\nАудитория: 4‑2‑13
LOCATION:4‑2‑13
END:VEVENT
BEGIN:VEVENT
UID:900268_698@kspu.ru
DTSTAMP:20260420T051227Z
DTSTART:20250922T070000Z
DTEND:20250922T083000Z
SUMMARY:Теоретическая физика DO-Б22А-01 Лекция
DESCRIPTION:Предмет: Теоретическая физика\nГруппа: DO-Б22А-01\nПреподаватель: Баранов А.М.\nТип занятия: Лекция\nАудитория: 4‑2‑13
LOCATION:4‑2‑13
END:VEVENT
BEGIN:VEVENT
UID:910291_698@kspu.ru
DTSTAMP:20260420T051227Z
DTSTART:20250924T014000Z
DTEND:20250924T031000Z
SUMMARY:Теоретическая физика DO-Б23Б-01 Лекция
DESCRIPTION:Предмет: Теоретическая физика\nГруппа: DO-Б23Б-01\nПреподаватель: Баранов А.М.\nТип занятия: Лекция\nАудитория: 4‑2‑13
LOCATION:4‑2‑13
END:VEVENT
BEGIN:VEVENT
UID:910304_698@kspu.ru
DTSTAMP:20260420T051227Z
DTSTART:20250924T032000Z
DTEND:20250924T045000Z
SUMMARY:Теоретическая физика DO-Б23Б-01 Лабораторное занятие
DESCRIPTION:Предмет: Теоретическая физика\nГруппа: DO-Б23Б-01\nПреподаватель: Баранов А.М.\nТип занятия: Лабораторное занятие\nАудитория: 4‑2‑13
LOCATION:4‑2‑13
END:VEVENT
BEGIN:VEVENT
UID:900247_698@kspu.ru
DTSTAMP:20260420T051227Z
DTSTART:20250929T052000Z
DTEND:20250929T065000Z
SUMMARY:Теоретическая физика DO-Б22А-01 Лабораторное занятие (Подгруппа Б)
DESCRIPTION:Предмет: Теоретическая физика\nГруппа: DO-Б22А-01\nПреподаватель: Баранов А.М.\nТип занятия: Лабораторное занятие\nАудитория: 4‑2‑13
LOCATION:4‑2‑13
END:VEVENT
BEGIN:VEVENT
UID:900258_698@kspu.ru
DTSTAMP:20260420T051227Z
DTSTART:20250929T070000Z
DTEND:20250929T083000Z
SUMMARY:Теоретическая физика DO-Б22А-01 Лабораторное занятие (Подгруппа A)
DESCRIPTION:Предмет: Теоретическая физика\nГруппа: DO-Б22А-01\nПреподаватель: Баранов А.М.\nТип занятия: Лабораторное занятие\nАудитория: 4‑2‑13
LOCATION:4‑2‑13
END:VEVENT
BEGIN:VEVENT
UID:900269_698@kspu.ru
DTSTAMP:20260420T051227Z
DTSTART:20250929T084000Z
DTEND:20250929T101000Z
SUMMARY:Теоретическая физика DO-Б22А-01 Лекция
DESCRIPTION:Предмет: Теоретическая физика\nГруппа: DO-Б22А-01\nПреподаватель: Баранов А.М.\nТип занятия: Лекция\nАудитория: 4‑2‑13
LOCATION:4‑2‑13
END:VEVENT
BEGIN:VEVENT
UID:910292_698@kspu.ru
DTSTAMP:20260420T051227Z
DTSTART:20251001T014000Z
DTEND:20251001T031000Z
SUMMARY:Теоретическая физика DO-Б23Б-01 Лекция
DESCRIPTION:Предмет: Теоретическая физика\nГруппа: DO-Б23Б-01\nПреподаватель: Баранов А.М.\nТип занятия: Лекция\nАудитория: 4‑2‑13
LOCATION:4‑2‑13
END:VEVENT
BEGIN:VEVENT
UID:910305_698@kspu.ru
DTSTAMP:20260420T051227Z
DTSTART:20251001T032000Z
DTEND:20251001T045000Z
SUMMARY:Теоретическая физика DO-Б23Б-01 Лабораторное занятие
DESCRIPTION:Предмет: Теоретическая физика\nГруппа: DO-Б23Б-01\nПреподаватель: Баранов А.М.\nТип занятия: Лабораторное занятие\nАудитория: 4‑2‑13
LOCATION:4‑2‑13
END:VEVENT
BEGIN:VEVENT
UID:900248_698@kspu.ru
DTSTAMP:20260420T051227Z
DTSTART:20251006T032000Z
DTEND:20251006T045000Z
SUMMARY:Теоретическая физика DO-Б22А-01 Лабораторное занятие (Подгруппа Б)
DESCRIPTION:Предмет: Теоретическая физика\nГруппа: DO-Б22А-01\nПреподаватель: Баранов А.М.\nТип занятия: Лабораторное занятие\nАудитория: 4‑2‑13
LOCATION:4‑2‑13
END:VEVENT
BEGIN:VEVENT
UID:900259_698@kspu.ru
DTSTAMP:20260420T051227Z
DTSTART:20251006T052000Z
DTEND:20251006T065000Z
SUMMARY:Теоретическая физика DO-Б22А-01 Лабораторное занятие (Подгруппа A)
DESCRIPTION:Предмет: Теоретическая физика\nГруппа: DO-Б22А-01\nПреподаватель: Баранов А.М.\nТип занятия: Лабораторное занятие\nАудитория: 4‑2‑13
LOCATION:4‑2‑13
END:VEVENT
BEGIN:VEVENT
UID:900270_698@kspu.ru
DTSTAMP:20260420T051227Z
DTSTART:20251006T070000Z
DTEND:20251006T083000Z
SUMMARY:Теоретическая физика DO-Б22А-01 Лекция
DESCRIPTION:Предмет: Теоретическая физика\nГруппа: DO-Б22А-01\nПреподаватель: Баранов А.М.\nТип занятия: Лекция\nАудитория: 4‑2‑13
LOCATION:4‑2‑13
END:VEVENT
BEGIN:VEVENT
UID:910293_698@kspu.ru
DTSTAMP:20260420T051227Z
DTSTART:20251008T014000Z
DTEND:20251008T031000Z
SUMMARY:Теоретическая физика DO-Б23Б-01 Лекция
DESCRIPTION:Предмет: Теоретическая физика\nГруппа: DO-Б23Б-01\nПреподаватель: Баранов А.М.\nТип занятия: Лекция\nАудитория: 4‑2‑13
LOCATION:4‑2‑13
END:VEVENT
BEGIN:VEVENT
UID:910306_698@kspu.ru
DTSTAMP:20260420T051227Z
DTSTART:20251008T032000Z
DTEND:20251008T045000Z
SUMMARY:Теоретическая физика DO-Б23Б-01 Лабораторное занятие
DESCRIPTION:Предмет: Теоретическая физика\nГруппа: DO-Б23Б-01\nПреподаватель: Баранов А.М.\nТип занятия: Лабораторное занятие\nАудитория: 4‑2‑13
LOCATION:4‑2‑13
END:VEVENT
BEGIN:VEVENT
UID:900249_698@kspu.ru
DTSTAMP:20260420T051227Z
DTSTART:20251013T032000Z
DTEND:20251013T045000Z
SUMMARY:Теоретическая физика DO-Б22А-01 Лабораторное занятие (Подгруппа Б)
DESCRIPTION:Предмет: Теоретическая физика\nГруппа: DO-Б22А-01\nПреподаватель: Баранов А.М.\nТип занятия: Лабораторное занятие\nАудитория: 4‑2‑13
LOCATION:4‑2‑13
END:VEVENT
BEGIN:VEVENT
UID:900260_698@kspu.ru
DTSTAMP:20260420T051227Z
DTSTART:20251013T052000Z
DTEND:20251013T065000Z
SUMMARY:Теоретическая физика DO-Б22А-01 Лабораторное занятие (Подгруппа A)
DESCRIPTION:Предмет: Теоретическая физика\nГруппа: DO-Б22А-01\nПреподаватель: Баранов А.М.\nТип занятия: Лабораторное занятие\nАудитория: 4‑2‑13
LOCATION:4‑2‑13
END:VEVENT
BEGIN:VEVENT
UID:900271_698@kspu.ru
DTSTAMP:20260420T051227Z
DTSTART:20251013T070000Z
DTEND:20251013T083000Z
SUMMARY:Теоретическая физика DO-Б22А-01 Лекция
DESCRIPTION:Предмет: Теоретическая физика\nГруппа: DO-Б22А-01\nПреподаватель: Баранов А.М.\nТип занятия: Лекция\nАудитория: 4‑2‑13
LOCATION:4‑2‑13
END:VEVENT
BEGIN:VEVENT
UID:910294_698@kspu.ru
DTSTAMP:20260420T051227Z
DTSTART:20251015T014000Z
DTEND:20251015T031000Z
SUMMARY:Теоретическая физика DO-Б23Б-01 Лекция
DESCRIPTION:Предмет: Теоретическая физика\nГруппа: DO-Б23Б-01\nПреподаватель: Баранов А.М.\nТип занятия: Лекция\nАудитория: 4‑2‑13
LOCATION:4‑2‑13
END:VEVENT
BEGIN:VEVENT
UID:910307_698@kspu.ru
DTSTAMP:20260420T051227Z
DTSTART:20251015T032000Z
DTEND:20251015T045000Z
SUMMARY:Теоретическая физика DO-Б23Б-01 Лабораторное занятие
DESCRIPTION:Предмет: Теоретическая физика\nГруппа: DO-Б23Б-01\nПреподаватель: Баранов А.М.\nТип занятия: Лабораторное занятие\nАудитория: 4‑2‑13
LOCATION:4‑2‑13
END:VEVENT
BEGIN:VEVENT
UID:949773_698@kspu.ru
DTSTAMP:20260420T051227Z
DTSTART:20251017T070000Z
DTEND:20251017T083000Z
SUMMARY:Обзорная лекция DO-Б25В-01 Прочее
DESCRIPTION:Предмет: Обзорная лекция\nГруппа: DO-Б25В-01\nПреподаватель: Баранов А.М.\nТип занятия: Прочее\nАудитория: 4‑2‑11
LOCATION:4‑2‑11
END:VEVENT
BEGIN:VEVENT
UID:949772_698@kspu.ru
DTSTAMP:20260420T051227Z
DTSTART:20251017T070000Z
DTEND:20251017T083000Z
SUMMARY:Обзорная лекция DO-Б25Б-01 Прочее
DESCRIPTION:Предмет: Обзорная лекция\nГруппа: DO-Б25Б-01\nПреподаватель: Баранов А.М.\nТип занятия: Прочее\nАудитория: 4‑2‑11
LOCATION:4‑2‑11
END:VEVENT
BEGIN:VEVENT
UID:900250_698@kspu.ru
DTSTAMP:20260420T051227Z
DTSTART:20251020T032000Z
DTEND:20251020T045000Z
SUMMARY:Теоретическая физика DO-Б22А-01 Лабораторное занятие (Подгруппа Б)
DESCRIPTION:Предмет: Теоретическая физика\nГруппа: DO-Б22А-01\nПреподаватель: Баранов А.М.\nТип занятия: Лабораторное занятие\nАудитория: 4‑2‑13
LOCATION:4‑2‑13
END:VEVENT
BEGIN:VEVENT
UID:900261_698@kspu.ru
DTSTAMP:20260420T051227Z
DTSTART:20251020T052000Z
DTEND:20251020T065000Z
SUMMARY:Теоретическая физика DO-Б22А-01 Лабораторное занятие (Подгруппа A)
DESCRIPTION:Предмет: Теоретическая физика\nГруппа: DO-Б22А-01\nПреподаватель: Баранов А.М.\nТип занятия: Лабораторное занятие\nАудитория: 4‑2‑13
LOCATION:4‑2‑13
END:VEVENT
BEGIN:VEVENT
UID:910308_698@kspu.ru
DTSTAMP:20260420T051227Z
DTSTART:20251022T032000Z
DTEND:20251022T045000Z
SUMMARY:Теоретическая физика DO-Б23Б-01 Лабораторное занятие
DESCRIPTION:Предмет: Теоретическая физика\nГруппа: DO-Б23Б-01\nПреподаватель: Баранов А.М.\nТип занятия: Лабораторное занятие\nАудитория: 4‑2‑13
LOCATION:4‑2‑13
END:VEVENT
BEGIN:VEVENT
UID:900251_698@kspu.ru
DTSTAMP:20260420T051227Z
DTSTART:20251027T032000Z
DTEND:20251027T045000Z
SUMMARY:Теоретическая физика DO-Б22А-01 Лабораторное занятие (Подгруппа Б)
DESCRIPTION:Предмет: Теоретическая физика\nГруппа: DO-Б22А-01\nПреподаватель: Баранов А.М.\nТип занятия: Лабораторное занятие\nАудитория: 4‑2‑13
LOCATION:4‑2‑13
END:VEVENT
BEGIN:VEVENT
UID:900262_698@kspu.ru
DTSTAMP:20260420T051227Z
DTSTART:20251027T052000Z
DTEND:20251027T065000Z
SUMMARY:Теоретическая физика DO-Б22А-01 Лабораторное занятие (Подгруппа A)
DESCRIPTION:Предмет: Теоретическая физика\nГруппа: DO-Б22А-01\nПреподаватель: Баранов А.М.\nТип занятия: Лабораторное занятие\nАудитория: 4‑2‑13
LOCATION:4‑2‑13
END:VEVENT
BEGIN:VEVENT
UID:910309_698@kspu.ru
DTSTAMP:20260420T051227Z
DTSTART:20251029T032000Z
DTEND:20251029T045000Z
SUMMARY:Теоретическая физика DO-Б23Б-01 Лабораторное занятие
DESCRIPTION:Предмет: Теоретическая физика\nГруппа: DO-Б23Б-01\nПреподаватель: Баранов А.М.\nТип занятия: Лабораторное занятие\nАудитория: 4‑2‑13
LOCATION:4‑2‑13
END:VEVENT
BEGIN:VEVENT
UID:900252_698@kspu.ru
DTSTAMP:20260420T051227Z
DTSTART:20251103T032000Z
DTEND:20251103T045000Z
SUMMARY:Теоретическая физика DO-Б22А-01 Лабораторное занятие (Подгруппа Б)
DESCRIPTION:Предмет: Теоретическая физика\nГруппа: DO-Б22А-01\nПреподаватель: Баранов А.М.\nТип занятия: Лабораторное занятие\nАудитория: 4‑2‑13
LOCATION:4‑2‑13
END:VEVENT
BEGIN:VEVENT
UID:900263_698@kspu.ru
DTSTAMP:20260420T051227Z
DTSTART:20251103T052000Z
DTEND:20251103T065000Z
SUMMARY:Теоретическая физика DO-Б22А-01 Лабораторное занятие (Подгруппа A)
DESCRIPTION:Предмет: Теоретическая физика\nГруппа: DO-Б22А-01\nПреподаватель: Баранов А.М.\nТип занятия: Лабораторное занятие\nАудитория: 4‑2‑13
LOCATION:4‑2‑13
END:VEVENT
BEGIN:VEVENT
UID:900253_698@kspu.ru
DTSTAMP:20260420T051227Z
DTSTART:20251110T032000Z
DTEND:20251110T045000Z
SUMMARY:Теоретическая физика DO-Б22А-01 Лабораторное занятие (Подгруппа Б)
DESCRIPTION:Предмет: Теоретическая физика\nГруппа: DO-Б22А-01\nПреподаватель: Баранов А.М.\nТип занятия: Лабораторное занятие\nАудитория: 4‑2‑13
LOCATION:4‑2‑13
END:VEVENT
BEGIN:VEVENT
UID:900264_698@kspu.ru
DTSTAMP:20260420T051227Z
DTSTART:20251110T052000Z
DTEND:20251110T065000Z
SUMMARY:Теоретическая физика DO-Б22А-01 Лабораторное занятие (Подгруппа A)
DESCRIPTION:Предмет: Теоретическая физика\nГруппа: DO-Б22А-01\nПреподаватель: Баранов А.М.\nТип занятия: Лабораторное занятие\nАудитория: 4‑2‑13
LOCATION:4‑2‑13
END:VEVENT
BEGIN:VEVENT
UID:922571_698@kspu.ru
DTSTAMP:20260420T051227Z
DTSTART:20251112T014000Z
DTEND:20251112T031000Z
SUMMARY:Теоретическая физика DO-Б22А-01 Лабораторное занятие (Подгруппа Б)
DESCRIPTION:Предмет: Теоретическая физика\nГруппа: DO-Б22А-01\nПреподаватель: Баранов А.М.\nТип занятия: Лабораторное занятие\nАудитория: 4‑2‑13
LOCATION:4‑2‑13
END:VEVENT
BEGIN:VEVENT
UID:922572_698@kspu.ru
DTSTAMP:20260420T051227Z
DTSTART:20251112T032000Z
DTEND:20251112T045000Z
SUMMARY:Теоретическая физика DO-Б22А-01 Лабораторное занятие (Подгруппа Б)
DESCRIPTION:Предмет: Теоретическая физика\nГруппа: DO-Б22А-01\nПреподаватель: Баранов А.М.\nТип занятия: Лабораторное занятие\nАудитория: 4‑2‑13
LOCATION:4‑2‑13
END:VEVENT
BEGIN:VEVENT
UID:922573_698@kspu.ru
DTSTAMP:20260420T051227Z
DTSTART:20251112T052000Z
DTEND:20251112T065000Z
SUMMARY:Теоретическая физика DO-Б22А-01 Лабораторное занятие (Подгруппа A)
DESCRIPTION:Предмет: Теоретическая физика\nГруппа: DO-Б22А-01\nПреподаватель: Баранов А.М.\nТип занятия: Лабораторное занятие\nАудитория: 4‑2‑13
LOCATION:4‑2‑13
END:VEVENT
BEGIN:VEVENT
UID:922574_698@kspu.ru
DTSTAMP:20260420T051227Z
DTSTART:20251112T070000Z
DTEND:20251112T083000Z
SUMMARY:Теоретическая физика DO-Б22А-01 Лабораторное занятие (Подгруппа A)
DESCRIPTION:Предмет: Теоретическая физика\nГруппа: DO-Б22А-01\nПреподаватель: Баранов А.М.\nТип занятия: Лабораторное занятие\nАудитория: 4‑2‑13
LOCATION:4‑2‑13
END:VEVENT
END:VCALENDAR