BEGIN:VCALENDAR
VERSION:2.0
PRODID:-//KSPU//Teacher Schedule Calendar//EN
CALSCALE:GREGORIAN
METHOD:PUBLISH
X-WR-CALNAME:Баранов А.А. Расписание
X-PUBLISHED-TTL:PT15M
BEGIN:VEVENT
UID:910951_697@kspu.ru
DTSTAMP:20260422T090040Z
DTSTART:20250903T052000Z
DTEND:20250903T065000Z
SUMMARY:Зоология позвоночных EO-Б23А-01 Лекция
DESCRIPTION:Предмет: Зоология позвоночных\nГруппа: EO-Б23А-01\nПреподаватель: Баранов А.А.\nТип занятия: Лекция\nАудитория: 1‑4‑02
LOCATION:1‑4‑02
END:VEVENT
BEGIN:VEVENT
UID:910952_697@kspu.ru
DTSTAMP:20260422T090040Z
DTSTART:20250903T052000Z
DTEND:20250903T065000Z
SUMMARY:Зоология позвоночных EO-Б23Б-01 Лекция
DESCRIPTION:Предмет: Зоология позвоночных\nГруппа: EO-Б23Б-01\nПреподаватель: Баранов А.А.\nТип занятия: Лекция\nАудитория: 1‑4‑02
LOCATION:1‑4‑02
END:VEVENT
BEGIN:VEVENT
UID:910953_697@kspu.ru
DTSTAMP:20260422T090040Z
DTSTART:20250910T052000Z
DTEND:20250910T065000Z
SUMMARY:Зоология позвоночных EO-Б23А-01 Лекция
DESCRIPTION:Предмет: Зоология позвоночных\nГруппа: EO-Б23А-01\nПреподаватель: Баранов А.А.\nТип занятия: Лекция\nАудитория: 1‑4‑02
LOCATION:1‑4‑02
END:VEVENT
BEGIN:VEVENT
UID:910954_697@kspu.ru
DTSTAMP:20260422T090040Z
DTSTART:20250910T052000Z
DTEND:20250910T065000Z
SUMMARY:Зоология позвоночных EO-Б23Б-01 Лекция
DESCRIPTION:Предмет: Зоология позвоночных\nГруппа: EO-Б23Б-01\nПреподаватель: Баранов А.А.\nТип занятия: Лекция\nАудитория: 1‑4‑02
LOCATION:1‑4‑02
END:VEVENT
BEGIN:VEVENT
UID:910955_697@kspu.ru
DTSTAMP:20260422T090040Z
DTSTART:20250917T052000Z
DTEND:20250917T065000Z
SUMMARY:Зоология позвоночных EO-Б23А-01 Лекция
DESCRIPTION:Предмет: Зоология позвоночных\nГруппа: EO-Б23А-01\nПреподаватель: Баранов А.А.\nТип занятия: Лекция\nАудитория: 1‑4‑02
LOCATION:1‑4‑02
END:VEVENT
BEGIN:VEVENT
UID:910956_697@kspu.ru
DTSTAMP:20260422T090040Z
DTSTART:20250917T052000Z
DTEND:20250917T065000Z
SUMMARY:Зоология позвоночных EO-Б23Б-01 Лекция
DESCRIPTION:Предмет: Зоология позвоночных\nГруппа: EO-Б23Б-01\nПреподаватель: Баранов А.А.\nТип занятия: Лекция\nАудитория: 1‑4‑02
LOCATION:1‑4‑02
END:VEVENT
BEGIN:VEVENT
UID:910957_697@kspu.ru
DTSTAMP:20260422T090040Z
DTSTART:20250924T052000Z
DTEND:20250924T065000Z
SUMMARY:Зоология позвоночных EO-Б23А-01 Лекция
DESCRIPTION:Предмет: Зоология позвоночных\nГруппа: EO-Б23А-01\nПреподаватель: Баранов А.А.\nТип занятия: Лекция\nАудитория: 1‑4‑02
LOCATION:1‑4‑02
END:VEVENT
BEGIN:VEVENT
UID:910958_697@kspu.ru
DTSTAMP:20260422T090040Z
DTSTART:20250924T052000Z
DTEND:20250924T065000Z
SUMMARY:Зоология позвоночных EO-Б23Б-01 Лекция
DESCRIPTION:Предмет: Зоология позвоночных\nГруппа: EO-Б23Б-01\nПреподаватель: Баранов А.А.\nТип занятия: Лекция\nАудитория: 1‑4‑02
LOCATION:1‑4‑02
END:VEVENT
BEGIN:VEVENT
UID:910959_697@kspu.ru
DTSTAMP:20260422T090040Z
DTSTART:20251001T032000Z
DTEND:20251001T045000Z
SUMMARY:Зоология позвоночных EO-Б23А-01 Лекция
DESCRIPTION:Предмет: Зоология позвоночных\nГруппа: EO-Б23А-01\nПреподаватель: Баранов А.А.\nТип занятия: Лекция\nАудитория: 1‑4‑02
LOCATION:1‑4‑02
END:VEVENT
BEGIN:VEVENT
UID:910960_697@kspu.ru
DTSTAMP:20260422T090040Z
DTSTART:20251001T032000Z
DTEND:20251001T045000Z
SUMMARY:Зоология позвоночных EO-Б23Б-01 Лекция
DESCRIPTION:Предмет: Зоология позвоночных\nГруппа: EO-Б23Б-01\nПреподаватель: Баранов А.А.\nТип занятия: Лекция\nАудитория: 1‑4‑02
LOCATION:1‑4‑02
END:VEVENT
BEGIN:VEVENT
UID:910961_697@kspu.ru
DTSTAMP:20260422T090040Z
DTSTART:20251008T052000Z
DTEND:20251008T065000Z
SUMMARY:Зоология позвоночных EO-Б23А-01 Лекция
DESCRIPTION:Предмет: Зоология позвоночных\nГруппа: EO-Б23А-01\nПреподаватель: Баранов А.А.\nТип занятия: Лекция\nАудитория: 1‑4‑02
LOCATION:1‑4‑02
END:VEVENT
BEGIN:VEVENT
UID:910962_697@kspu.ru
DTSTAMP:20260422T090040Z
DTSTART:20251008T052000Z
DTEND:20251008T065000Z
SUMMARY:Зоология позвоночных EO-Б23Б-01 Лекция
DESCRIPTION:Предмет: Зоология позвоночных\nГруппа: EO-Б23Б-01\nПреподаватель: Баранов А.А.\nТип занятия: Лекция\nАудитория: 1‑4‑02
LOCATION:1‑4‑02
END:VEVENT
BEGIN:VEVENT
UID:910963_697@kspu.ru
DTSTAMP:20260422T090040Z
DTSTART:20251015T052000Z
DTEND:20251015T065000Z
SUMMARY:Зоология позвоночных EO-Б23А-01 Лекция
DESCRIPTION:Предмет: Зоология позвоночных\nГруппа: EO-Б23А-01\nПреподаватель: Баранов А.А.\nТип занятия: Лекция\nАудитория: 1‑4‑02
LOCATION:1‑4‑02
END:VEVENT
BEGIN:VEVENT
UID:910964_697@kspu.ru
DTSTAMP:20260422T090040Z
DTSTART:20251015T052000Z
DTEND:20251015T065000Z
SUMMARY:Зоология позвоночных EO-Б23Б-01 Лекция
DESCRIPTION:Предмет: Зоология позвоночных\nГруппа: EO-Б23Б-01\nПреподаватель: Баранов А.А.\nТип занятия: Лекция\nАудитория: 1‑4‑02
LOCATION:1‑4‑02
END:VEVENT
BEGIN:VEVENT
UID:915923_697@kspu.ru
DTSTAMP:20260422T090040Z
DTSTART:20251021T084000Z
DTEND:20251021T101000Z
SUMMARY:Современная биология - интегрированный курс и его использование в школе EO-М25А-01 Лекция
DESCRIPTION:Предмет: Современная биология - интегрированный курс и его использование в школе\nГруппа: EO-М25А-01\nПреподаватель: Баранов А.А.\nТип занятия: Лекция\nАудитория: 1‑5‑09
LOCATION:1‑5‑09
END:VEVENT
BEGIN:VEVENT
UID:915924_697@kspu.ru
DTSTAMP:20260422T090040Z
DTSTART:20251021T102000Z
DTEND:20251021T115000Z
SUMMARY:Современная биология - интегрированный курс и его использование в школе EO-М25А-01 Семинар
DESCRIPTION:Предмет: Современная биология - интегрированный курс и его использование в школе\nГруппа: EO-М25А-01\nПреподаватель: Баранов А.А.\nТип занятия: Семинар\nАудитория: 1‑5‑09
LOCATION:1‑5‑09
END:VEVENT
BEGIN:VEVENT
UID:910965_697@kspu.ru
DTSTAMP:20260422T090040Z
DTSTART:20251022T052000Z
DTEND:20251022T065000Z
SUMMARY:Зоология позвоночных EO-Б23А-01 Лекция
DESCRIPTION:Предмет: Зоология позвоночных\nГруппа: EO-Б23А-01\nПреподаватель: Баранов А.А.\nТип занятия: Лекция\nАудитория: 1‑4‑02
LOCATION:1‑4‑02
END:VEVENT
BEGIN:VEVENT
UID:910966_697@kspu.ru
DTSTAMP:20260422T090040Z
DTSTART:20251022T052000Z
DTEND:20251022T065000Z
SUMMARY:Зоология позвоночных EO-Б23Б-01 Лекция
DESCRIPTION:Предмет: Зоология позвоночных\nГруппа: EO-Б23Б-01\nПреподаватель: Баранов А.А.\nТип занятия: Лекция\nАудитория: 1‑4‑02
LOCATION:1‑4‑02
END:VEVENT
BEGIN:VEVENT
UID:915925_697@kspu.ru
DTSTAMP:20260422T090040Z
DTSTART:20251028T084000Z
DTEND:20251028T101000Z
SUMMARY:Современная биология - интегрированный курс и его использование в школе EO-М25А-01 Лекция
DESCRIPTION:Предмет: Современная биология - интегрированный курс и его использование в школе\nГруппа: EO-М25А-01\nПреподаватель: Баранов А.А.\nТип занятия: Лекция\nАудитория: 1‑5‑09
LOCATION:1‑5‑09
END:VEVENT
BEGIN:VEVENT
UID:915926_697@kspu.ru
DTSTAMP:20260422T090040Z
DTSTART:20251028T102000Z
DTEND:20251028T115000Z
SUMMARY:Современная биология - интегрированный курс и его использование в школе EO-М25А-01 Семинар
DESCRIPTION:Предмет: Современная биология - интегрированный курс и его использование в школе\nГруппа: EO-М25А-01\nПреподаватель: Баранов А.А.\nТип занятия: Семинар\nАудитория: 1‑5‑09
LOCATION:1‑5‑09
END:VEVENT
BEGIN:VEVENT
UID:910968_697@kspu.ru
DTSTAMP:20260422T090040Z
DTSTART:20251029T052000Z
DTEND:20251029T065000Z
SUMMARY:Зоология позвоночных EO-Б23Б-01 Лекция
DESCRIPTION:Предмет: Зоология позвоночных\nГруппа: EO-Б23Б-01\nПреподаватель: Баранов А.А.\nТип занятия: Лекция\nАудитория: 1‑4‑02
LOCATION:1‑4‑02
END:VEVENT
BEGIN:VEVENT
UID:910967_697@kspu.ru
DTSTAMP:20260422T090040Z
DTSTART:20251029T052000Z
DTEND:20251029T065000Z
SUMMARY:Зоология позвоночных EO-Б23А-01 Лекция
DESCRIPTION:Предмет: Зоология позвоночных\nГруппа: EO-Б23А-01\nПреподаватель: Баранов А.А.\nТип занятия: Лекция\nАудитория: 1‑4‑02
LOCATION:1‑4‑02
END:VEVENT
BEGIN:VEVENT
UID:915930_697@kspu.ru
DTSTAMP:20260422T090040Z
DTSTART:20251107T084000Z
DTEND:20251107T101000Z
SUMMARY:Современная биология - интегрированный курс и его использование в школе EO-М25А-01 Семинар
DESCRIPTION:Предмет: Современная биология - интегрированный курс и его использование в школе\nГруппа: EO-М25А-01\nПреподаватель: Баранов А.А.\nТип занятия: Семинар\nАудитория: 1‑5‑01
LOCATION:1‑5‑01
END:VEVENT
BEGIN:VEVENT
UID:915928_697@kspu.ru
DTSTAMP:20260422T090040Z
DTSTART:20251107T102000Z
DTEND:20251107T115000Z
SUMMARY:Современная биология - интегрированный курс и его использование в школе EO-М25А-01 Семинар
DESCRIPTION:Предмет: Современная биология - интегрированный курс и его использование в школе\nГруппа: EO-М25А-01\nПреподаватель: Баранов А.А.\nТип занятия: Семинар\nАудитория: 1‑5‑09
LOCATION:1‑5‑09
END:VEVENT
BEGIN:VEVENT
UID:934637_697@kspu.ru
DTSTAMP:20260422T090040Z
DTSTART:20251111T070000Z
DTEND:20251111T083000Z
SUMMARY:Теоретические основы и актуальные проблемы биологических наук EZ-М24А-01 Лекция
DESCRIPTION:Предмет: Теоретические основы и актуальные проблемы биологических наук\nГруппа: EZ-М24А-01\nПреподаватель: Баранов А.А.\nТип занятия: Лекция\nАудитория: 1‑5‑01
LOCATION:1‑5‑01
END:VEVENT
BEGIN:VEVENT
UID:915932_697@kspu.ru
DTSTAMP:20260422T090040Z
DTSTART:20251111T084000Z
DTEND:20251111T101000Z
SUMMARY:Современная биология - интегрированный курс и его использование в школе EO-М25А-01 Семинар
DESCRIPTION:Предмет: Современная биология - интегрированный курс и его использование в школе\nГруппа: EO-М25А-01\nПреподаватель: Баранов А.А.\nТип занятия: Семинар\nАудитория: 1‑5‑09
LOCATION:1‑5‑09
END:VEVENT
BEGIN:VEVENT
UID:934758_697@kspu.ru
DTSTAMP:20260422T090040Z
DTSTART:20251114T070000Z
DTEND:20251114T083000Z
SUMMARY:Современная биология - интегрированный курс и его использование в школе EZ-М24А-01 Семинар
DESCRIPTION:Предмет: Современная биология - интегрированный курс и его использование в школе\nГруппа: EZ-М24А-01\nПреподаватель: Баранов А.А.\nТип занятия: Семинар\nАудитория: 1‑5‑35
LOCATION:1‑5‑35
END:VEVENT
BEGIN:VEVENT
UID:934759_697@kspu.ru
DTSTAMP:20260422T090040Z
DTSTART:20251114T084000Z
DTEND:20251114T101000Z
SUMMARY:Современная биология - интегрированный курс и его использование в школе EZ-М24А-01 Семинар
DESCRIPTION:Предмет: Современная биология - интегрированный курс и его использование в школе\nГруппа: EZ-М24А-01\nПреподаватель: Баранов А.А.\nТип занятия: Семинар\nАудитория: 1‑5‑35
LOCATION:1‑5‑35
END:VEVENT
BEGIN:VEVENT
UID:934639_697@kspu.ru
DTSTAMP:20260422T090040Z
DTSTART:20251117T032000Z
DTEND:20251117T045000Z
SUMMARY:Теоретические основы и актуальные проблемы биологических наук EZ-М24А-01 Лекция
DESCRIPTION:Предмет: Теоретические основы и актуальные проблемы биологических наук\nГруппа: EZ-М24А-01\nПреподаватель: Баранов А.А.\nТип занятия: Лекция\nАудитория: 1‑5‑01
LOCATION:1‑5‑01
END:VEVENT
BEGIN:VEVENT
UID:934764_697@kspu.ru
DTSTAMP:20260422T090040Z
DTSTART:20251117T052000Z
DTEND:20251117T065000Z
SUMMARY:Теоретические основы и актуальные проблемы биологических наук EZ-М24А-01 Семинар
DESCRIPTION:Предмет: Теоретические основы и актуальные проблемы биологических наук\nГруппа: EZ-М24А-01\nПреподаватель: Баранов А.А.\nТип занятия: Семинар\nАудитория: 1‑5‑01
LOCATION:1‑5‑01
END:VEVENT
BEGIN:VEVENT
UID:934766_697@kspu.ru
DTSTAMP:20260422T090040Z
DTSTART:20251118T070000Z
DTEND:20251118T083000Z
SUMMARY:Теоретические основы и актуальные проблемы биологических наук EZ-М24А-01 Семинар
DESCRIPTION:Предмет: Теоретические основы и актуальные проблемы биологических наук\nГруппа: EZ-М24А-01\nПреподаватель: Баранов А.А.\nТип занятия: Семинар\nАудитория: 1‑5‑35
LOCATION:1‑5‑35
END:VEVENT
BEGIN:VEVENT
UID:934767_697@kspu.ru
DTSTAMP:20260422T090040Z
DTSTART:20251118T084000Z
DTEND:20251118T101000Z
SUMMARY:Теоретические основы и актуальные проблемы биологических наук EZ-М24А-01 Семинар
DESCRIPTION:Предмет: Теоретические основы и актуальные проблемы биологических наук\nГруппа: EZ-М24А-01\nПреподаватель: Баранов А.А.\nТип занятия: Семинар\nАудитория: 1‑5‑35
LOCATION:1‑5‑35
END:VEVENT
BEGIN:VEVENT
UID:934771_697@kspu.ru
DTSTAMP:20260422T090040Z
DTSTART:20251121T032000Z
DTEND:20251121T045000Z
SUMMARY:Теоретические основы и актуальные проблемы биологических наук EZ-М24А-01 Семинар
DESCRIPTION:Предмет: Теоретические основы и актуальные проблемы биологических наук\nГруппа: EZ-М24А-01\nПреподаватель: Баранов А.А.\nТип занятия: Семинар\nАудитория: 1‑5‑01
LOCATION:1‑5‑01
END:VEVENT
BEGIN:VEVENT
UID:934773_697@kspu.ru
DTSTAMP:20260422T090040Z
DTSTART:20251121T052000Z
DTEND:20251121T065000Z
SUMMARY:Теоретические основы и актуальные проблемы биологических наук EZ-М24А-01 Семинар
DESCRIPTION:Предмет: Теоретические основы и актуальные проблемы биологических наук\nГруппа: EZ-М24А-01\nПреподаватель: Баранов А.А.\nТип занятия: Семинар\nАудитория: 1‑5‑01
LOCATION:1‑5‑01
END:VEVENT
BEGIN:VEVENT
UID:934760_697@kspu.ru
DTSTAMP:20260422T090040Z
DTSTART:20251124T070000Z
DTEND:20251124T083000Z
SUMMARY:Современная биология - интегрированный курс и его использование в школе EZ-М24А-01 Семинар
DESCRIPTION:Предмет: Современная биология - интегрированный курс и его использование в школе\nГруппа: EZ-М24А-01\nПреподаватель: Баранов А.А.\nТип занятия: Семинар\nАудитория: 1‑5‑35
LOCATION:1‑5‑35
END:VEVENT
BEGIN:VEVENT
UID:934761_697@kspu.ru
DTSTAMP:20260422T090040Z
DTSTART:20251124T084000Z
DTEND:20251124T101000Z
SUMMARY:Современная биология - интегрированный курс и его использование в школе EZ-М24А-01 Семинар
DESCRIPTION:Предмет: Современная биология - интегрированный курс и его использование в школе\nГруппа: EZ-М24А-01\nПреподаватель: Баранов А.А.\nТип занятия: Семинар\nАудитория: 1‑5‑35
LOCATION:1‑5‑35
END:VEVENT
BEGIN:VEVENT
UID:934774_697@kspu.ru
DTSTAMP:20260422T090040Z
DTSTART:20251125T032000Z
DTEND:20251125T045000Z
SUMMARY:Теоретические основы и актуальные проблемы биологических наук EZ-М24А-01 Семинар
DESCRIPTION:Предмет: Теоретические основы и актуальные проблемы биологических наук\nГруппа: EZ-М24А-01\nПреподаватель: Баранов А.А.\nТип занятия: Семинар\nАудитория: 1‑5‑01
LOCATION:1‑5‑01
END:VEVENT
BEGIN:VEVENT
UID:934763_697@kspu.ru
DTSTAMP:20260422T090040Z
DTSTART:20251125T052000Z
DTEND:20251125T065000Z
SUMMARY:Современная биология - интегрированный курс и его использование в школе EZ-М24А-01 Зачёт
DESCRIPTION:Предмет: Современная биология - интегрированный курс и его использование в школе\nГруппа: EZ-М24А-01\nПреподаватель: Баранов А.А.\nТип занятия: Зачёт\nАудитория: 1‑5‑01
LOCATION:1‑5‑01
END:VEVENT
BEGIN:VEVENT
UID:955351_697@kspu.ru
DTSTAMP:20260422T090040Z
DTSTART:20260116T032000Z
DTEND:20260116T045000Z
SUMMARY:Зоология позвоночных EO-Б23А-01 Консультация
DESCRIPTION:Предмет: Зоология позвоночных\nГруппа: EO-Б23А-01\nПреподаватель: Баранов А.А.\nТип занятия: Консультация\nАудитория: 1‑5‑09
LOCATION:1‑5‑09
END:VEVENT
BEGIN:VEVENT
UID:955352_697@kspu.ru
DTSTAMP:20260422T090040Z
DTSTART:20260119T032000Z
DTEND:20260119T045000Z
SUMMARY:Зоология позвоночных EO-Б23А-01 Экзамен
DESCRIPTION:Предмет: Зоология позвоночных\nГруппа: EO-Б23А-01\nПреподаватель: Баранов А.А.\nТип занятия: Экзамен\nАудитория: 1‑5‑09
LOCATION:1‑5‑09
END:VEVENT
BEGIN:VEVENT
UID:955358_697@kspu.ru
DTSTAMP:20260422T090040Z
DTSTART:20260120T032000Z
DTEND:20260120T045000Z
SUMMARY:Зоология позвоночных EO-Б23Б-01 Консультация
DESCRIPTION:Предмет: Зоология позвоночных\nГруппа: EO-Б23Б-01\nПреподаватель: Баранов А.А.\nТип занятия: Консультация\nАудитория: 1‑5‑09
LOCATION:1‑5‑09
END:VEVENT
BEGIN:VEVENT
UID:955359_697@kspu.ru
DTSTAMP:20260422T090040Z
DTSTART:20260121T014000Z
DTEND:20260121T031000Z
SUMMARY:Зоология позвоночных EO-Б23Б-01 Экзамен
DESCRIPTION:Предмет: Зоология позвоночных\nГруппа: EO-Б23Б-01\nПреподаватель: Баранов А.А.\nТип занятия: Экзамен\nАудитория: 1‑5‑09
LOCATION:1‑5‑09
END:VEVENT
BEGIN:VEVENT
UID:1007528_697@kspu.ru
DTSTAMP:20260422T090040Z
DTSTART:20260317T084000Z
DTEND:20260317T101000Z
SUMMARY:Научно-исследовательский семинар EO-А25-1.5.15. Семинар
DESCRIPTION:Предмет: Научно-исследовательский семинар\nГруппа: EO-А25-1.5.15.\nПреподаватель: Баранов А.А.\nТип занятия: Семинар\nАудитория: 1‑5‑01
LOCATION:1‑5‑01
END:VEVENT
BEGIN:VEVENT
UID:1003117_697@kspu.ru
DTSTAMP:20260422T090040Z
DTSTART:20260407T070000Z
DTEND:20260407T083000Z
SUMMARY:Теоретические основы и актуальные проблемы биологических наук EZ-М24А-01 Семинар
DESCRIPTION:Предмет: Теоретические основы и актуальные проблемы биологических наук\nГруппа: EZ-М24А-01\nПреподаватель: Баранов А.А.\nТип занятия: Семинар\nАудитория: 1‑5‑35
LOCATION:1‑5‑35
END:VEVENT
BEGIN:VEVENT
UID:980382_697@kspu.ru
DTSTAMP:20260422T090040Z
DTSTART:20260407T084000Z
DTEND:20260407T101000Z
SUMMARY:Теоретические основы и актуальные проблемы биологических наук EO-М25А-01 Лекция
DESCRIPTION:Предмет: Теоретические основы и актуальные проблемы биологических наук\nГруппа: EO-М25А-01\nПреподаватель: Баранов А.А.\nТип занятия: Лекция\nАудитория: 1‑5‑09
LOCATION:1‑5‑09
END:VEVENT
BEGIN:VEVENT
UID:980383_697@kspu.ru
DTSTAMP:20260422T090040Z
DTSTART:20260407T102000Z
DTEND:20260407T115000Z
SUMMARY:Теоретические основы и актуальные проблемы биологических наук EO-М25А-01 Семинар
DESCRIPTION:Предмет: Теоретические основы и актуальные проблемы биологических наук\nГруппа: EO-М25А-01\nПреподаватель: Баранов А.А.\nТип занятия: Семинар\nАудитория: 1‑5‑09
LOCATION:1‑5‑09
END:VEVENT
BEGIN:VEVENT
UID:1007530_697@kspu.ru
DTSTAMP:20260422T090040Z
DTSTART:20260409T084000Z
DTEND:20260409T101000Z
SUMMARY:Научно-исследовательский семинар EO-А25-1.5.15. Семинар
DESCRIPTION:Предмет: Научно-исследовательский семинар\nГруппа: EO-А25-1.5.15.\nПреподаватель: Баранов А.А.\nТип занятия: Семинар\nАудитория: 1‑5‑01
LOCATION:1‑5‑01
END:VEVENT
BEGIN:VEVENT
UID:1003118_697@kspu.ru
DTSTAMP:20260422T090040Z
DTSTART:20260410T070000Z
DTEND:20260410T083000Z
SUMMARY:Теоретические основы и актуальные проблемы биологических наук EZ-М24А-01 Семинар
DESCRIPTION:Предмет: Теоретические основы и актуальные проблемы биологических наук\nГруппа: EZ-М24А-01\nПреподаватель: Баранов А.А.\nТип занятия: Семинар\nАудитория: 1‑5‑01
LOCATION:1‑5‑01
END:VEVENT
BEGIN:VEVENT
UID:1003119_697@kspu.ru
DTSTAMP:20260422T090040Z
DTSTART:20260414T070000Z
DTEND:20260414T083000Z
SUMMARY:Теоретические основы и актуальные проблемы биологических наук EZ-М24А-01 Семинар
DESCRIPTION:Предмет: Теоретические основы и актуальные проблемы биологических наук\nГруппа: EZ-М24А-01\nПреподаватель: Баранов А.А.\nТип занятия: Семинар\nАудитория: 1‑5‑35
LOCATION:1‑5‑35
END:VEVENT
BEGIN:VEVENT
UID:980384_697@kspu.ru
DTSTAMP:20260422T090040Z
DTSTART:20260414T084000Z
DTEND:20260414T101000Z
SUMMARY:Теоретические основы и актуальные проблемы биологических наук EO-М25А-01 Лекция
DESCRIPTION:Предмет: Теоретические основы и актуальные проблемы биологических наук\nГруппа: EO-М25А-01\nПреподаватель: Баранов А.А.\nТип занятия: Лекция\nАудитория: 1‑5‑09
LOCATION:1‑5‑09
END:VEVENT
BEGIN:VEVENT
UID:980388_697@kspu.ru
DTSTAMP:20260422T090040Z
DTSTART:20260414T102000Z
DTEND:20260414T115000Z
SUMMARY:Теоретические основы и актуальные проблемы биологических наук EO-М25А-01 Семинар
DESCRIPTION:Предмет: Теоретические основы и актуальные проблемы биологических наук\nГруппа: EO-М25А-01\nПреподаватель: Баранов А.А.\nТип занятия: Семинар\nАудитория: 1‑5‑09
LOCATION:1‑5‑09
END:VEVENT
BEGIN:VEVENT
UID:1003120_697@kspu.ru
DTSTAMP:20260422T090040Z
DTSTART:20260420T052000Z
DTEND:20260420T065000Z
SUMMARY:Теоретические основы и актуальные проблемы биологических наук EZ-М24А-01 Семинар
DESCRIPTION:Предмет: Теоретические основы и актуальные проблемы биологических наук\nГруппа: EZ-М24А-01\nПреподаватель: Баранов А.А.\nТип занятия: Семинар\nАудитория: 1‑5‑35
LOCATION:1‑5‑35
END:VEVENT
BEGIN:VEVENT
UID:980385_697@kspu.ru
DTSTAMP:20260422T090040Z
DTSTART:20260421T084000Z
DTEND:20260421T101000Z
SUMMARY:Теоретические основы и актуальные проблемы биологических наук EO-М25А-01 Семинар
DESCRIPTION:Предмет: Теоретические основы и актуальные проблемы биологических наук\nГруппа: EO-М25А-01\nПреподаватель: Баранов А.А.\nТип занятия: Семинар\nАудитория: 1‑5‑09
LOCATION:1‑5‑09
END:VEVENT
BEGIN:VEVENT
UID:980389_697@kspu.ru
DTSTAMP:20260422T090040Z
DTSTART:20260421T102000Z
DTEND:20260421T115000Z
SUMMARY:Теоретические основы и актуальные проблемы биологических наук EO-М25А-01 Семинар
DESCRIPTION:Предмет: Теоретические основы и актуальные проблемы биологических наук\nГруппа: EO-М25А-01\nПреподаватель: Баранов А.А.\nТип занятия: Семинар\nАудитория: 1‑5‑09
LOCATION:1‑5‑09
END:VEVENT
BEGIN:VEVENT
UID:1003121_697@kspu.ru
DTSTAMP:20260422T090040Z
DTSTART:20260424T032000Z
DTEND:20260424T045000Z
SUMMARY:Теоретические основы и актуальные проблемы биологических наук EZ-М24А-01 Зачёт
DESCRIPTION:Предмет: Теоретические основы и актуальные проблемы биологических наук\nГруппа: EZ-М24А-01\nПреподаватель: Баранов А.А.\nТип занятия: Зачёт\nАудитория: 1‑5‑35
LOCATION:1‑5‑35
END:VEVENT
BEGIN:VEVENT
UID:980386_697@kspu.ru
DTSTAMP:20260422T090040Z
DTSTART:20260428T084000Z
DTEND:20260428T101000Z
SUMMARY:Теоретические основы и актуальные проблемы биологических наук EO-М25А-01 Семинар
DESCRIPTION:Предмет: Теоретические основы и актуальные проблемы биологических наук\nГруппа: EO-М25А-01\nПреподаватель: Баранов А.А.\nТип занятия: Семинар\nАудитория: 1‑5‑09
LOCATION:1‑5‑09
END:VEVENT
BEGIN:VEVENT
UID:980390_697@kspu.ru
DTSTAMP:20260422T090040Z
DTSTART:20260428T102000Z
DTEND:20260428T115000Z
SUMMARY:Теоретические основы и актуальные проблемы биологических наук EO-М25А-01 Семинар
DESCRIPTION:Предмет: Теоретические основы и актуальные проблемы биологических наук\nГруппа: EO-М25А-01\nПреподаватель: Баранов А.А.\nТип занятия: Семинар\nАудитория: 1‑5‑09
LOCATION:1‑5‑09
END:VEVENT
BEGIN:VEVENT
UID:1007531_697@kspu.ru
DTSTAMP:20260422T090040Z
DTSTART:20260430T084000Z
DTEND:20260430T101000Z
SUMMARY:Научно-исследовательский семинар EO-А25-1.5.15. Семинар
DESCRIPTION:Предмет: Научно-исследовательский семинар\nГруппа: EO-А25-1.5.15.\nПреподаватель: Баранов А.А.\nТип занятия: Семинар\nАудитория: 1‑5‑01
LOCATION:1‑5‑01
END:VEVENT
BEGIN:VEVENT
UID:980387_697@kspu.ru
DTSTAMP:20260422T090040Z
DTSTART:20260505T084000Z
DTEND:20260505T101000Z
SUMMARY:Теоретические основы и актуальные проблемы биологических наук EO-М25А-01 Семинар
DESCRIPTION:Предмет: Теоретические основы и актуальные проблемы биологических наук\nГруппа: EO-М25А-01\nПреподаватель: Баранов А.А.\nТип занятия: Семинар\nАудитория: 1‑5‑09
LOCATION:1‑5‑09
END:VEVENT
BEGIN:VEVENT
UID:980391_697@kspu.ru
DTSTAMP:20260422T090040Z
DTSTART:20260505T102000Z
DTEND:20260505T115000Z
SUMMARY:Современная биология - интегрированный курс и его использование в школе EO-М25А-01 Семинар
DESCRIPTION:Предмет: Современная биология - интегрированный курс и его использование в школе\nГруппа: EO-М25А-01\nПреподаватель: Баранов А.А.\nТип занятия: Семинар\nАудитория: 1‑5‑09
LOCATION:1‑5‑09
END:VEVENT
BEGIN:VEVENT
UID:980396_697@kspu.ru
DTSTAMP:20260422T090040Z
DTSTART:20260512T084000Z
DTEND:20260512T101000Z
SUMMARY:Современная биология - интегрированный курс и его использование в школе EO-М25А-01 Семинар
DESCRIPTION:Предмет: Современная биология - интегрированный курс и его использование в школе\nГруппа: EO-М25А-01\nПреподаватель: Баранов А.А.\nТип занятия: Семинар\nАудитория: 1‑5‑09
LOCATION:1‑5‑09
END:VEVENT
BEGIN:VEVENT
UID:980392_697@kspu.ru
DTSTAMP:20260422T090040Z
DTSTART:20260512T102000Z
DTEND:20260512T115000Z
SUMMARY:Современная биология - интегрированный курс и его использование в школе EO-М25А-01 Семинар
DESCRIPTION:Предмет: Современная биология - интегрированный курс и его использование в школе\nГруппа: EO-М25А-01\nПреподаватель: Баранов А.А.\nТип занятия: Семинар\nАудитория: 1‑5‑09
LOCATION:1‑5‑09
END:VEVENT
BEGIN:VEVENT
UID:1007533_697@kspu.ru
DTSTAMP:20260422T090040Z
DTSTART:20260515T084000Z
DTEND:20260515T101000Z
SUMMARY:Научно-исследовательский семинар EO-А25-1.5.15. Семинар
DESCRIPTION:Предмет: Научно-исследовательский семинар\nГруппа: EO-А25-1.5.15.\nПреподаватель: Баранов А.А.\nТип занятия: Семинар\nАудитория: 1‑5‑01
LOCATION:1‑5‑01
END:VEVENT
BEGIN:VEVENT
UID:980397_697@kspu.ru
DTSTAMP:20260422T090040Z
DTSTART:20260519T084000Z
DTEND:20260519T101000Z
SUMMARY:Современная биология - интегрированный курс и его использование в школе EO-М25А-01 Семинар
DESCRIPTION:Предмет: Современная биология - интегрированный курс и его использование в школе\nГруппа: EO-М25А-01\nПреподаватель: Баранов А.А.\nТип занятия: Семинар\nАудитория: 1‑5‑09
LOCATION:1‑5‑09
END:VEVENT
BEGIN:VEVENT
UID:980393_697@kspu.ru
DTSTAMP:20260422T090040Z
DTSTART:20260519T102000Z
DTEND:20260519T115000Z
SUMMARY:Современная биология - интегрированный курс и его использование в школе EO-М25А-01 Семинар
DESCRIPTION:Предмет: Современная биология - интегрированный курс и его использование в школе\nГруппа: EO-М25А-01\nПреподаватель: Баранов А.А.\nТип занятия: Семинар\nАудитория: 1‑5‑09
LOCATION:1‑5‑09
END:VEVENT
BEGIN:VEVENT
UID:980398_697@kspu.ru
DTSTAMP:20260422T090040Z
DTSTART:20260526T084000Z
DTEND:20260526T101000Z
SUMMARY:Современная биология - интегрированный курс и его использование в школе EO-М25А-01 Семинар
DESCRIPTION:Предмет: Современная биология - интегрированный курс и его использование в школе\nГруппа: EO-М25А-01\nПреподаватель: Баранов А.А.\nТип занятия: Семинар\nАудитория: 1‑5‑09
LOCATION:1‑5‑09
END:VEVENT
BEGIN:VEVENT
UID:980394_697@kspu.ru
DTSTAMP:20260422T090040Z
DTSTART:20260526T102000Z
DTEND:20260526T115000Z
SUMMARY:Современная биология - интегрированный курс и его использование в школе EO-М25А-01 Семинар
DESCRIPTION:Предмет: Современная биология - интегрированный курс и его использование в школе\nГруппа: EO-М25А-01\nПреподаватель: Баранов А.А.\nТип занятия: Семинар\nАудитория: 1‑5‑09
LOCATION:1‑5‑09
END:VEVENT
BEGIN:VEVENT
UID:980399_697@kspu.ru
DTSTAMP:20260422T090040Z
DTSTART:20260602T084000Z
DTEND:20260602T101000Z
SUMMARY:Современная биология - интегрированный курс и его использование в школе EO-М25А-01 Семинар
DESCRIPTION:Предмет: Современная биология - интегрированный курс и его использование в школе\nГруппа: EO-М25А-01\nПреподаватель: Баранов А.А.\nТип занятия: Семинар\nАудитория: 1‑5‑09
LOCATION:1‑5‑09
END:VEVENT
BEGIN:VEVENT
UID:980395_697@kspu.ru
DTSTAMP:20260422T090040Z
DTSTART:20260602T102000Z
DTEND:20260602T115000Z
SUMMARY:Современная биология - интегрированный курс и его использование в школе EO-М25А-01 Семинар
DESCRIPTION:Предмет: Современная биология - интегрированный курс и его использование в школе\nГруппа: EO-М25А-01\nПреподаватель: Баранов А.А.\nТип занятия: Семинар\nАудитория: 1‑5‑09
LOCATION:1‑5‑09
END:VEVENT
BEGIN:VEVENT
UID:980412_697@kspu.ru
DTSTAMP:20260422T090040Z
DTSTART:20260609T084000Z
DTEND:20260609T101000Z
SUMMARY:Современная биология - интегрированный курс и его использование в школе EO-М25А-01 Семинар
DESCRIPTION:Предмет: Современная биология - интегрированный курс и его использование в школе\nГруппа: EO-М25А-01\nПреподаватель: Баранов А.А.\nТип занятия: Семинар\nАудитория: 1‑5‑09
LOCATION:1‑5‑09
END:VEVENT
BEGIN:VEVENT
UID:980413_697@kspu.ru
DTSTAMP:20260422T090040Z
DTSTART:20260609T102000Z
DTEND:20260609T115000Z
SUMMARY:Современная биология - интегрированный курс и его использование в школе EO-М25А-01 Зачёт
DESCRIPTION:Предмет: Современная биология - интегрированный курс и его использование в школе\nГруппа: EO-М25А-01\nПреподаватель: Баранов А.А.\nТип занятия: Зачёт\nАудитория: 1‑5‑09
LOCATION:1‑5‑09
END:VEVENT
BEGIN:VEVENT
UID:992370_697@kspu.ru
DTSTAMP:20260422T090040Z
DTSTART:20260618T014000Z
DTEND:20260618T031000Z
SUMMARY:Учебная практика: Полевая практика по зоологии и экологии EO-Б23А-01 Семинар
DESCRIPTION:Предмет: Учебная практика: Полевая практика по зоологии и экологии\nГруппа: EO-Б23А-01\nПреподаватель: Баранов А.А. / Близнецов А.С.\nТип занятия: Семинар\nАудитория: 1‑5‑09
LOCATION:1‑5‑09
END:VEVENT
BEGIN:VEVENT
UID:992371_697@kspu.ru
DTSTAMP:20260422T090040Z
DTSTART:20260626T052000Z
DTEND:20260626T065000Z
SUMMARY:Учебная практика: Полевая практика по зоологии и экологии EO-Б23А-01 Зачёт с оценкой
DESCRIPTION:Предмет: Учебная практика: Полевая практика по зоологии и экологии\nГруппа: EO-Б23А-01\nПреподаватель: Баранов А.А. / Близнецов А.С.\nТип занятия: Зачёт с оценкой\nАудитория: 1‑5‑09
LOCATION:1‑5‑09
END:VEVENT
END:VCALENDAR