BEGIN:VCALENDAR
VERSION:2.0
PRODID:-//KSPU//Teacher Schedule Calendar//EN
CALSCALE:GREGORIAN
METHOD:PUBLISH
X-WR-CALNAME:Щипунова О.В. Расписание
X-PUBLISHED-TTL:PT15M
BEGIN:VEVENT
UID:1005405_1484@kspu.ru
DTSTAMP:20260423T085325Z
DTSTART:20260403T014000Z
DTEND:20260403T031000Z
SUMMARY:Теоретические основы физического развития детей раннего и дошкольного возраста OO-П25АК-01 Семинар
DESCRIPTION:Предмет: Теоретические основы физического развития детей раннего и дошкольного возраста\nГруппа: OO-П25АК-01\nПреподаватель: Щипунова О.В.\nТип занятия: Семинар\nАудитория: 3‑2‑02
LOCATION:3‑2‑02
END:VEVENT
BEGIN:VEVENT
UID:1005409_1484@kspu.ru
DTSTAMP:20260423T085325Z
DTSTART:20260403T032000Z
DTEND:20260403T045000Z
SUMMARY:Теоретические основы физического развития детей раннего и дошкольного возраста OO-П25АК-01 Семинар
DESCRIPTION:Предмет: Теоретические основы физического развития детей раннего и дошкольного возраста\nГруппа: OO-П25АК-01\nПреподаватель: Щипунова О.В.\nТип занятия: Семинар\nАудитория: 3‑2‑09
LOCATION:3‑2‑09
END:VEVENT
BEGIN:VEVENT
UID:1005413_1484@kspu.ru
DTSTAMP:20260423T085325Z
DTSTART:20260403T052000Z
DTEND:20260403T065000Z
SUMMARY:Теоретические основы физического развития детей раннего и дошкольного возраста OO-П25АК-01 Семинар
DESCRIPTION:Предмет: Теоретические основы физического развития детей раннего и дошкольного возраста\nГруппа: OO-П25АК-01\nПреподаватель: Щипунова О.В.\nТип занятия: Семинар\nАудитория: 3‑2‑09
LOCATION:3‑2‑09
END:VEVENT
BEGIN:VEVENT
UID:1005425_1484@kspu.ru
DTSTAMP:20260423T085325Z
DTSTART:20260406T014000Z
DTEND:20260406T031000Z
SUMMARY:Методика физического развития детей раннего и дошкольного возраста OO-П25АК-01 Семинар
DESCRIPTION:Предмет: Методика физического развития детей раннего и дошкольного возраста\nГруппа: OO-П25АК-01\nПреподаватель: Щипунова О.В.\nТип занятия: Семинар\nАудитория: 3‑2‑09
LOCATION:3‑2‑09
END:VEVENT
BEGIN:VEVENT
UID:1005429_1484@kspu.ru
DTSTAMP:20260423T085325Z
DTSTART:20260406T032000Z
DTEND:20260406T045000Z
SUMMARY:Методика физического развития детей раннего и дошкольного возраста OO-П25АК-01 Семинар
DESCRIPTION:Предмет: Методика физического развития детей раннего и дошкольного возраста\nГруппа: OO-П25АК-01\nПреподаватель: Щипунова О.В.\nТип занятия: Семинар\nАудитория: 3‑2‑09
LOCATION:3‑2‑09
END:VEVENT
BEGIN:VEVENT
UID:1005433_1484@kspu.ru
DTSTAMP:20260423T085325Z
DTSTART:20260406T052000Z
DTEND:20260406T065000Z
SUMMARY:Методика физического развития детей раннего и дошкольного возраста OO-П25АК-01 Семинар
DESCRIPTION:Предмет: Методика физического развития детей раннего и дошкольного возраста\nГруппа: OO-П25АК-01\nПреподаватель: Щипунова О.В.\nТип занятия: Семинар\nАудитория: 3‑2‑09
LOCATION:3‑2‑09
END:VEVENT
BEGIN:VEVENT
UID:1005417_1484@kspu.ru
DTSTAMP:20260423T085325Z
DTSTART:20260407T014000Z
DTEND:20260407T031000Z
SUMMARY:Теоретические основы физического развития детей раннего и дошкольного возраста OO-П25АК-01 Семинар
DESCRIPTION:Предмет: Теоретические основы физического развития детей раннего и дошкольного возраста\nГруппа: OO-П25АК-01\nПреподаватель: Щипунова О.В.\nТип занятия: Семинар\nАудитория: 3‑2‑09
LOCATION:3‑2‑09
END:VEVENT
BEGIN:VEVENT
UID:1005421_1484@kspu.ru
DTSTAMP:20260423T085325Z
DTSTART:20260407T032000Z
DTEND:20260407T045000Z
SUMMARY:Теоретические основы физического развития детей раннего и дошкольного возраста OO-П25АК-01 Семинар
DESCRIPTION:Предмет: Теоретические основы физического развития детей раннего и дошкольного возраста\nГруппа: OO-П25АК-01\nПреподаватель: Щипунова О.В.\nТип занятия: Семинар\nАудитория: 3‑2‑09
LOCATION:3‑2‑09
END:VEVENT
BEGIN:VEVENT
UID:1005406_1484@kspu.ru
DTSTAMP:20260423T085325Z
DTSTART:20260410T014000Z
DTEND:20260410T031000Z
SUMMARY:Теоретические основы физического развития детей раннего и дошкольного возраста OO-П25АК-01 Семинар
DESCRIPTION:Предмет: Теоретические основы физического развития детей раннего и дошкольного возраста\nГруппа: OO-П25АК-01\nПреподаватель: Щипунова О.В.\nТип занятия: Семинар\nАудитория: 3‑2‑09
LOCATION:3‑2‑09
END:VEVENT
BEGIN:VEVENT
UID:1005410_1484@kspu.ru
DTSTAMP:20260423T085325Z
DTSTART:20260410T032000Z
DTEND:20260410T045000Z
SUMMARY:Теоретические основы физического развития детей раннего и дошкольного возраста OO-П25АК-01 Семинар
DESCRIPTION:Предмет: Теоретические основы физического развития детей раннего и дошкольного возраста\nГруппа: OO-П25АК-01\nПреподаватель: Щипунова О.В.\nТип занятия: Семинар\nАудитория: 3‑2‑09
LOCATION:3‑2‑09
END:VEVENT
BEGIN:VEVENT
UID:1005414_1484@kspu.ru
DTSTAMP:20260423T085325Z
DTSTART:20260410T052000Z
DTEND:20260410T065000Z
SUMMARY:Теоретические основы физического развития детей раннего и дошкольного возраста OO-П25АК-01 Семинар
DESCRIPTION:Предмет: Теоретические основы физического развития детей раннего и дошкольного возраста\nГруппа: OO-П25АК-01\nПреподаватель: Щипунова О.В.\nТип занятия: Семинар\nАудитория: 3‑2‑09
LOCATION:3‑2‑09
END:VEVENT
BEGIN:VEVENT
UID:1005426_1484@kspu.ru
DTSTAMP:20260423T085325Z
DTSTART:20260413T014000Z
DTEND:20260413T031000Z
SUMMARY:Методика физического развития детей раннего и дошкольного возраста OO-П25АК-01 Семинар
DESCRIPTION:Предмет: Методика физического развития детей раннего и дошкольного возраста\nГруппа: OO-П25АК-01\nПреподаватель: Щипунова О.В.\nТип занятия: Семинар\nАудитория: 3‑2‑09
LOCATION:3‑2‑09
END:VEVENT
BEGIN:VEVENT
UID:1005430_1484@kspu.ru
DTSTAMP:20260423T085325Z
DTSTART:20260413T032000Z
DTEND:20260413T045000Z
SUMMARY:Методика физического развития детей раннего и дошкольного возраста OO-П25АК-01 Семинар
DESCRIPTION:Предмет: Методика физического развития детей раннего и дошкольного возраста\nГруппа: OO-П25АК-01\nПреподаватель: Щипунова О.В.\nТип занятия: Семинар\nАудитория: 3‑2‑09
LOCATION:3‑2‑09
END:VEVENT
BEGIN:VEVENT
UID:1005434_1484@kspu.ru
DTSTAMP:20260423T085325Z
DTSTART:20260413T052000Z
DTEND:20260413T065000Z
SUMMARY:Методика физического развития детей раннего и дошкольного возраста OO-П25АК-01 Семинар
DESCRIPTION:Предмет: Методика физического развития детей раннего и дошкольного возраста\nГруппа: OO-П25АК-01\nПреподаватель: Щипунова О.В.\nТип занятия: Семинар\nАудитория: 3‑2‑09
LOCATION:3‑2‑09
END:VEVENT
BEGIN:VEVENT
UID:1005418_1484@kspu.ru
DTSTAMP:20260423T085325Z
DTSTART:20260414T014000Z
DTEND:20260414T031000Z
SUMMARY:Теоретические основы физического развития детей раннего и дошкольного возраста OO-П25АК-01 Семинар
DESCRIPTION:Предмет: Теоретические основы физического развития детей раннего и дошкольного возраста\nГруппа: OO-П25АК-01\nПреподаватель: Щипунова О.В.\nТип занятия: Семинар\nАудитория: 3‑4‑05
LOCATION:3‑4‑05
END:VEVENT
BEGIN:VEVENT
UID:1005422_1484@kspu.ru
DTSTAMP:20260423T085325Z
DTSTART:20260414T032000Z
DTEND:20260414T045000Z
SUMMARY:Теоретические основы физического развития детей раннего и дошкольного возраста OO-П25АК-01 Семинар
DESCRIPTION:Предмет: Теоретические основы физического развития детей раннего и дошкольного возраста\nГруппа: OO-П25АК-01\nПреподаватель: Щипунова О.В.\nТип занятия: Семинар\nАудитория: 3‑4‑05
LOCATION:3‑4‑05
END:VEVENT
BEGIN:VEVENT
UID:1005437_1484@kspu.ru
DTSTAMP:20260423T085325Z
DTSTART:20260414T052000Z
DTEND:20260414T065000Z
SUMMARY:Методика физического развития детей раннего и дошкольного возраста OO-П25АК-01 Семинар
DESCRIPTION:Предмет: Методика физического развития детей раннего и дошкольного возраста\nГруппа: OO-П25АК-01\nПреподаватель: Щипунова О.В.\nТип занятия: Семинар\nАудитория: 3‑4‑05
LOCATION:3‑4‑05
END:VEVENT
BEGIN:VEVENT
UID:1005407_1484@kspu.ru
DTSTAMP:20260423T085325Z
DTSTART:20260417T014000Z
DTEND:20260417T031000Z
SUMMARY:Теоретические основы физического развития детей раннего и дошкольного возраста OO-П25АК-01 Семинар
DESCRIPTION:Предмет: Теоретические основы физического развития детей раннего и дошкольного возраста\nГруппа: OO-П25АК-01\nПреподаватель: Щипунова О.В.\nТип занятия: Семинар\nАудитория: 3‑2‑02
LOCATION:3‑2‑02
END:VEVENT
BEGIN:VEVENT
UID:1005411_1484@kspu.ru
DTSTAMP:20260423T085325Z
DTSTART:20260417T032000Z
DTEND:20260417T045000Z
SUMMARY:Теоретические основы физического развития детей раннего и дошкольного возраста OO-П25АК-01 Семинар
DESCRIPTION:Предмет: Теоретические основы физического развития детей раннего и дошкольного возраста\nГруппа: OO-П25АК-01\nПреподаватель: Щипунова О.В.\nТип занятия: Семинар\nАудитория: 3‑2‑02
LOCATION:3‑2‑02
END:VEVENT
BEGIN:VEVENT
UID:1005415_1484@kspu.ru
DTSTAMP:20260423T085325Z
DTSTART:20260417T052000Z
DTEND:20260417T065000Z
SUMMARY:Теоретические основы физического развития детей раннего и дошкольного возраста OO-П25АК-01 Семинар
DESCRIPTION:Предмет: Теоретические основы физического развития детей раннего и дошкольного возраста\nГруппа: OO-П25АК-01\nПреподаватель: Щипунова О.В.\nТип занятия: Семинар\nАудитория: 3‑2‑02
LOCATION:3‑2‑02
END:VEVENT
BEGIN:VEVENT
UID:1005427_1484@kspu.ru
DTSTAMP:20260423T085325Z
DTSTART:20260420T014000Z
DTEND:20260420T031000Z
SUMMARY:Методика физического развития детей раннего и дошкольного возраста OO-П25АК-01 Семинар
DESCRIPTION:Предмет: Методика физического развития детей раннего и дошкольного возраста\nГруппа: OO-П25АК-01\nПреподаватель: Щипунова О.В.\nТип занятия: Семинар\nАудитория: 3‑2‑09
LOCATION:3‑2‑09
END:VEVENT
BEGIN:VEVENT
UID:1005431_1484@kspu.ru
DTSTAMP:20260423T085325Z
DTSTART:20260420T032000Z
DTEND:20260420T045000Z
SUMMARY:Методика физического развития детей раннего и дошкольного возраста OO-П25АК-01 Семинар
DESCRIPTION:Предмет: Методика физического развития детей раннего и дошкольного возраста\nГруппа: OO-П25АК-01\nПреподаватель: Щипунова О.В.\nТип занятия: Семинар\nАудитория: 3‑2‑09
LOCATION:3‑2‑09
END:VEVENT
BEGIN:VEVENT
UID:1005435_1484@kspu.ru
DTSTAMP:20260423T085325Z
DTSTART:20260420T052000Z
DTEND:20260420T065000Z
SUMMARY:Методика физического развития детей раннего и дошкольного возраста OO-П25АК-01 Семинар
DESCRIPTION:Предмет: Методика физического развития детей раннего и дошкольного возраста\nГруппа: OO-П25АК-01\nПреподаватель: Щипунова О.В.\nТип занятия: Семинар\nАудитория: 3‑2‑09
LOCATION:3‑2‑09
END:VEVENT
BEGIN:VEVENT
UID:1005419_1484@kspu.ru
DTSTAMP:20260423T085325Z
DTSTART:20260421T014000Z
DTEND:20260421T031000Z
SUMMARY:Теоретические основы физического развития детей раннего и дошкольного возраста OO-П25АК-01 Семинар
DESCRIPTION:Предмет: Теоретические основы физического развития детей раннего и дошкольного возраста\nГруппа: OO-П25АК-01\nПреподаватель: Щипунова О.В.\nТип занятия: Семинар\nАудитория: 3‑2‑09
LOCATION:3‑2‑09
END:VEVENT
BEGIN:VEVENT
UID:1005423_1484@kspu.ru
DTSTAMP:20260423T085325Z
DTSTART:20260421T032000Z
DTEND:20260421T045000Z
SUMMARY:Теоретические основы физического развития детей раннего и дошкольного возраста OO-П25АК-01 Семинар
DESCRIPTION:Предмет: Теоретические основы физического развития детей раннего и дошкольного возраста\nГруппа: OO-П25АК-01\nПреподаватель: Щипунова О.В.\nТип занятия: Семинар\nАудитория: 3‑2‑09
LOCATION:3‑2‑09
END:VEVENT
BEGIN:VEVENT
UID:1005438_1484@kspu.ru
DTSTAMP:20260423T085325Z
DTSTART:20260421T052000Z
DTEND:20260421T065000Z
SUMMARY:Методика физического развития детей раннего и дошкольного возраста OO-П25АК-01 Семинар
DESCRIPTION:Предмет: Методика физического развития детей раннего и дошкольного возраста\nГруппа: OO-П25АК-01\nПреподаватель: Щипунова О.В.\nТип занятия: Семинар\nАудитория: 3‑2‑09
LOCATION:3‑2‑09
END:VEVENT
BEGIN:VEVENT
UID:1005408_1484@kspu.ru
DTSTAMP:20260423T085325Z
DTSTART:20260424T014000Z
DTEND:20260424T031000Z
SUMMARY:Теоретические основы физического развития детей раннего и дошкольного возраста OO-П25АК-01 Семинар
DESCRIPTION:Предмет: Теоретические основы физического развития детей раннего и дошкольного возраста\nГруппа: OO-П25АК-01\nПреподаватель: Щипунова О.В.\nТип занятия: Семинар\nАудитория: 3‑2‑02
LOCATION:3‑2‑02
END:VEVENT
BEGIN:VEVENT
UID:1005412_1484@kspu.ru
DTSTAMP:20260423T085325Z
DTSTART:20260424T032000Z
DTEND:20260424T045000Z
SUMMARY:Теоретические основы физического развития детей раннего и дошкольного возраста OO-П25АК-01 Семинар
DESCRIPTION:Предмет: Теоретические основы физического развития детей раннего и дошкольного возраста\nГруппа: OO-П25АК-01\nПреподаватель: Щипунова О.В.\nТип занятия: Семинар\nАудитория: 3‑2‑02
LOCATION:3‑2‑02
END:VEVENT
BEGIN:VEVENT
UID:1005416_1484@kspu.ru
DTSTAMP:20260423T085325Z
DTSTART:20260424T052000Z
DTEND:20260424T065000Z
SUMMARY:Теоретические основы физического развития детей раннего и дошкольного возраста OO-П25АК-01 Семинар
DESCRIPTION:Предмет: Теоретические основы физического развития детей раннего и дошкольного возраста\nГруппа: OO-П25АК-01\nПреподаватель: Щипунова О.В.\nТип занятия: Семинар\nАудитория: 3‑2‑02
LOCATION:3‑2‑02
END:VEVENT
BEGIN:VEVENT
UID:1005428_1484@kspu.ru
DTSTAMP:20260423T085325Z
DTSTART:20260427T014000Z
DTEND:20260427T031000Z
SUMMARY:Методика физического развития детей раннего и дошкольного возраста OO-П25АК-01 Семинар
DESCRIPTION:Предмет: Методика физического развития детей раннего и дошкольного возраста\nГруппа: OO-П25АК-01\nПреподаватель: Щипунова О.В.\nТип занятия: Семинар\nАудитория: 3‑2‑09
LOCATION:3‑2‑09
END:VEVENT
BEGIN:VEVENT
UID:1005432_1484@kspu.ru
DTSTAMP:20260423T085325Z
DTSTART:20260427T032000Z
DTEND:20260427T045000Z
SUMMARY:Методика физического развития детей раннего и дошкольного возраста OO-П25АК-01 Семинар
DESCRIPTION:Предмет: Методика физического развития детей раннего и дошкольного возраста\nГруппа: OO-П25АК-01\nПреподаватель: Щипунова О.В.\nТип занятия: Семинар\nАудитория: 3‑2‑09
LOCATION:3‑2‑09
END:VEVENT
BEGIN:VEVENT
UID:1005436_1484@kspu.ru
DTSTAMP:20260423T085325Z
DTSTART:20260427T052000Z
DTEND:20260427T065000Z
SUMMARY:Методика физического развития детей раннего и дошкольного возраста OO-П25АК-01 Семинар
DESCRIPTION:Предмет: Методика физического развития детей раннего и дошкольного возраста\nГруппа: OO-П25АК-01\nПреподаватель: Щипунова О.В.\nТип занятия: Семинар\nАудитория: 3‑2‑09
LOCATION:3‑2‑09
END:VEVENT
BEGIN:VEVENT
UID:1005420_1484@kspu.ru
DTSTAMP:20260423T085325Z
DTSTART:20260428T014000Z
DTEND:20260428T031000Z
SUMMARY:Теоретические основы физического развития детей раннего и дошкольного возраста OO-П25АК-01 Семинар
DESCRIPTION:Предмет: Теоретические основы физического развития детей раннего и дошкольного возраста\nГруппа: OO-П25АК-01\nПреподаватель: Щипунова О.В.\nТип занятия: Семинар\nАудитория: 3‑2‑09
LOCATION:3‑2‑09
END:VEVENT
BEGIN:VEVENT
UID:1005424_1484@kspu.ru
DTSTAMP:20260423T085325Z
DTSTART:20260428T032000Z
DTEND:20260428T045000Z
SUMMARY:Теоретические основы физического развития детей раннего и дошкольного возраста OO-П25АК-01 Семинар
DESCRIPTION:Предмет: Теоретические основы физического развития детей раннего и дошкольного возраста\nГруппа: OO-П25АК-01\nПреподаватель: Щипунова О.В.\nТип занятия: Семинар\nАудитория: 3‑2‑09
LOCATION:3‑2‑09
END:VEVENT
BEGIN:VEVENT
UID:1005439_1484@kspu.ru
DTSTAMP:20260423T085325Z
DTSTART:20260428T052000Z
DTEND:20260428T065000Z
SUMMARY:Методика физического развития детей раннего и дошкольного возраста OO-П25АК-01 Семинар
DESCRIPTION:Предмет: Методика физического развития детей раннего и дошкольного возраста\nГруппа: OO-П25АК-01\nПреподаватель: Щипунова О.В.\nТип занятия: Семинар\nАудитория: 3‑2‑09
LOCATION:3‑2‑09
END:VEVENT
END:VCALENDAR