BEGIN:VCALENDAR
VERSION:2.0
PRODID:-//KSPU//Teacher Schedule Calendar//EN
CALSCALE:GREGORIAN
METHOD:PUBLISH
X-WR-CALNAME:Петрова А.А. Расписание
X-PUBLISHED-TTL:PT15M
BEGIN:VEVENT
UID:956731_1483@kspu.ru
DTSTAMP:20260423T085324Z
DTSTART:20260302T052000Z
DTEND:20260302T065000Z
SUMMARY:Технологии цифрового образования HO-Б25Б-01 Лабораторное занятие
DESCRIPTION:Предмет: Технологии цифрового образования\nГруппа: HO-Б25Б-01\nПреподаватель: Петрова А.А.\nТип занятия: Лабораторное занятие\nАудитория: 1‑3‑24
LOCATION:1‑3‑24
END:VEVENT
BEGIN:VEVENT
UID:956735_1483@kspu.ru
DTSTAMP:20260423T085324Z
DTSTART:20260302T070000Z
DTEND:20260302T083000Z
SUMMARY:Технологии цифрового образования HO-Б25А-03 Лабораторное занятие (Подгруппа Б)
DESCRIPTION:Предмет: Технологии цифрового образования\nГруппа: HO-Б25А-03\nПреподаватель: Петрова А.А.\nТип занятия: Лабораторное занятие\nАудитория: 1‑2‑31
LOCATION:1‑2‑31
END:VEVENT
BEGIN:VEVENT
UID:956736_1483@kspu.ru
DTSTAMP:20260423T085324Z
DTSTART:20260316T032000Z
DTEND:20260316T045000Z
SUMMARY:Технологии цифрового образования HO-Б25Б-01 Лабораторное занятие
DESCRIPTION:Предмет: Технологии цифрового образования\nГруппа: HO-Б25Б-01\nПреподаватель: Петрова А.А.\nТип занятия: Лабораторное занятие\nАудитория: 1‑2‑31
LOCATION:1‑2‑31
END:VEVENT
BEGIN:VEVENT
UID:956897_1483@kspu.ru
DTSTAMP:20260423T085324Z
DTSTART:20260316T052000Z
DTEND:20260316T065000Z
SUMMARY:Технологии цифрового образования HO-Б25А-03 Лабораторное занятие (Подгруппа A)
DESCRIPTION:Предмет: Технологии цифрового образования\nГруппа: HO-Б25А-03\nПреподаватель: Петрова А.А.\nТип занятия: Лабораторное занятие\nАудитория: 1‑2‑31
LOCATION:1‑2‑31
END:VEVENT
BEGIN:VEVENT
UID:956739_1483@kspu.ru
DTSTAMP:20260423T085324Z
DTSTART:20260316T070000Z
DTEND:20260316T083000Z
SUMMARY:Технологии цифрового образования HO-Б25А-03 Лабораторное занятие (Подгруппа Б)
DESCRIPTION:Предмет: Технологии цифрового образования\nГруппа: HO-Б25А-03\nПреподаватель: Петрова А.А.\nТип занятия: Лабораторное занятие\nАудитория: 1‑2‑31
LOCATION:1‑2‑31
END:VEVENT
BEGIN:VEVENT
UID:956737_1483@kspu.ru
DTSTAMP:20260423T085324Z
DTSTART:20260323T052000Z
DTEND:20260323T065000Z
SUMMARY:Технологии цифрового образования HO-Б25Б-01 Лабораторное занятие
DESCRIPTION:Предмет: Технологии цифрового образования\nГруппа: HO-Б25Б-01\nПреподаватель: Петрова А.А.\nТип занятия: Лабораторное занятие\nАудитория: 1‑2‑31
LOCATION:1‑2‑31
END:VEVENT
BEGIN:VEVENT
UID:956740_1483@kspu.ru
DTSTAMP:20260423T085324Z
DTSTART:20260323T070000Z
DTEND:20260323T083000Z
SUMMARY:Технологии цифрового образования HO-Б25А-03 Лабораторное занятие (Подгруппа Б)
DESCRIPTION:Предмет: Технологии цифрового образования\nГруппа: HO-Б25А-03\nПреподаватель: Петрова А.А.\nТип занятия: Лабораторное занятие\nАудитория: 1‑2‑31
LOCATION:1‑2‑31
END:VEVENT
BEGIN:VEVENT
UID:956901_1483@kspu.ru
DTSTAMP:20260423T085324Z
DTSTART:20260323T084000Z
DTEND:20260323T101000Z
SUMMARY:Технологии цифрового образования HO-Б25А-03 Лабораторное занятие (Подгруппа A)
DESCRIPTION:Предмет: Технологии цифрового образования\nГруппа: HO-Б25А-03\nПреподаватель: Петрова А.А.\nТип занятия: Лабораторное занятие\nАудитория: 1‑2‑31
LOCATION:1‑2‑31
END:VEVENT
BEGIN:VEVENT
UID:956942_1483@kspu.ru
DTSTAMP:20260423T085324Z
DTSTART:20260413T032000Z
DTEND:20260413T045000Z
SUMMARY:Технологии цифрового образования HO-Б25Б-01 Лабораторное занятие
DESCRIPTION:Предмет: Технологии цифрового образования\nГруппа: HO-Б25Б-01\nПреподаватель: Петрова А.А.\nТип занятия: Лабораторное занятие\nАудитория: 1‑2‑31
LOCATION:1‑2‑31
END:VEVENT
BEGIN:VEVENT
UID:956906_1483@kspu.ru
DTSTAMP:20260423T085324Z
DTSTART:20260413T052000Z
DTEND:20260413T065000Z
SUMMARY:Технологии цифрового образования HO-Б25Б-01 Лабораторное занятие
DESCRIPTION:Предмет: Технологии цифрового образования\nГруппа: HO-Б25Б-01\nПреподаватель: Петрова А.А.\nТип занятия: Лабораторное занятие\nАудитория: 1‑2‑31
LOCATION:1‑2‑31
END:VEVENT
BEGIN:VEVENT
UID:956931_1483@kspu.ru
DTSTAMP:20260423T085324Z
DTSTART:20260413T070000Z
DTEND:20260413T083000Z
SUMMARY:Технологии цифрового образования HO-Б25А-03 Лабораторное занятие (Подгруппа Б)
DESCRIPTION:Предмет: Технологии цифрового образования\nГруппа: HO-Б25А-03\nПреподаватель: Петрова А.А.\nТип занятия: Лабораторное занятие\nАудитория: 1‑2‑31
LOCATION:1‑2‑31
END:VEVENT
BEGIN:VEVENT
UID:956925_1483@kspu.ru
DTSTAMP:20260423T085324Z
DTSTART:20260413T084000Z
DTEND:20260413T101000Z
SUMMARY:Технологии цифрового образования HO-Б25А-03 Лабораторное занятие (Подгруппа A)
DESCRIPTION:Предмет: Технологии цифрового образования\nГруппа: HO-Б25А-03\nПреподаватель: Петрова А.А.\nТип занятия: Лабораторное занятие\nАудитория: 1‑2‑31
LOCATION:1‑2‑31
END:VEVENT
BEGIN:VEVENT
UID:956937_1483@kspu.ru
DTSTAMP:20260423T085324Z
DTSTART:20260420T032000Z
DTEND:20260420T045000Z
SUMMARY:Технологии цифрового образования HO-Б25Б-01 Лабораторное занятие
DESCRIPTION:Предмет: Технологии цифрового образования\nГруппа: HO-Б25Б-01\nПреподаватель: Петрова А.А.\nТип занятия: Лабораторное занятие\nАудитория: 1‑2‑31
LOCATION:1‑2‑31
END:VEVENT
BEGIN:VEVENT
UID:956938_1483@kspu.ru
DTSTAMP:20260423T085324Z
DTSTART:20260420T052000Z
DTEND:20260420T065000Z
SUMMARY:Технологии цифрового образования HO-Б25А-03 Лабораторное занятие (Подгруппа A)
DESCRIPTION:Предмет: Технологии цифрового образования\nГруппа: HO-Б25А-03\nПреподаватель: Петрова А.А.\nТип занятия: Лабораторное занятие\nАудитория: 1‑2‑31
LOCATION:1‑2‑31
END:VEVENT
BEGIN:VEVENT
UID:956941_1483@kspu.ru
DTSTAMP:20260423T085324Z
DTSTART:20260420T070000Z
DTEND:20260420T083000Z
SUMMARY:Технологии цифрового образования HO-Б25А-03 Лабораторное занятие (Подгруппа Б)
DESCRIPTION:Предмет: Технологии цифрового образования\nГруппа: HO-Б25А-03\nПреподаватель: Петрова А.А.\nТип занятия: Лабораторное занятие\nАудитория: 1‑2‑31
LOCATION:1‑2‑31
END:VEVENT
BEGIN:VEVENT
UID:961426_1483@kspu.ru
DTSTAMP:20260423T085324Z
DTSTART:20260427T032000Z
DTEND:20260427T045000Z
SUMMARY:Учебная практика: технологическая практика (проектно-технологическая) (4 недели) HO-Б25А-03 Семинар
DESCRIPTION:Предмет: Учебная практика: технологическая практика (проектно-технологическая) (4 недели)\nГруппа: HO-Б25А-03\nПреподаватель: Петрова А.А.\nТип занятия: Семинар\nАудитория: Иные аудитории\nПримечание: https://e.kspu.ru/course/view.php?id=5825
LOCATION:Иные аудитории
END:VEVENT
BEGIN:VEVENT
UID:958506_1483@kspu.ru
DTSTAMP:20260423T085324Z
DTSTART:20260427T052000Z
DTEND:20260427T065000Z
SUMMARY:Технологии цифрового образования HO-Б25Б-01 Лабораторное занятие
DESCRIPTION:Предмет: Технологии цифрового образования\nГруппа: HO-Б25Б-01\nПреподаватель: Петрова А.А.\nТип занятия: Лабораторное занятие\nАудитория: Иные аудитории\nПримечание: https://e.kspu.ru/course/view.php?id=5831&sectionid=51672
LOCATION:Иные аудитории
END:VEVENT
BEGIN:VEVENT
UID:956952_1483@kspu.ru
DTSTAMP:20260423T085324Z
DTSTART:20260427T070000Z
DTEND:20260427T083000Z
SUMMARY:Технологии цифрового образования HO-Б25А-03 Лабораторное занятие (Подгруппа Б)
DESCRIPTION:Предмет: Технологии цифрового образования\nГруппа: HO-Б25А-03\nПреподаватель: Петрова А.А.\nТип занятия: Лабораторное занятие\nАудитория: Иные аудитории\nПримечание: https://e.kspu.ru/course/view.php?id=5831&sectionid=51672
LOCATION:Иные аудитории
END:VEVENT
BEGIN:VEVENT
UID:956943_1483@kspu.ru
DTSTAMP:20260423T085324Z
DTSTART:20260427T084000Z
DTEND:20260427T101000Z
SUMMARY:Технологии цифрового образования HO-Б25А-03 Лабораторное занятие (Подгруппа A)
DESCRIPTION:Предмет: Технологии цифрового образования\nГруппа: HO-Б25А-03\nПреподаватель: Петрова А.А.\nТип занятия: Лабораторное занятие\nАудитория: Иные аудитории\nПримечание: https://e.kspu.ru/course/view.php?id=5831&sectionid=51672
LOCATION:Иные аудитории
END:VEVENT
BEGIN:VEVENT
UID:956732_1483@kspu.ru
DTSTAMP:20260423T085324Z
DTSTART:20260504T014000Z
DTEND:20260504T031000Z
SUMMARY:Технологии цифрового образования HO-Б25А-03 Лабораторное занятие (Подгруппа A)
DESCRIPTION:Предмет: Технологии цифрового образования\nГруппа: HO-Б25А-03\nПреподаватель: Петрова А.А.\nТип занятия: Лабораторное занятие\nАудитория: 1‑2‑31
LOCATION:1‑2‑31
END:VEVENT
BEGIN:VEVENT
UID:961429_1483@kspu.ru
DTSTAMP:20260423T085324Z
DTSTART:20260504T032000Z
DTEND:20260504T045000Z
SUMMARY:Учебная практика: технологическая практика (проектно-технологическая) (4 недели) HO-Б25А-03 Семинар
DESCRIPTION:Предмет: Учебная практика: технологическая практика (проектно-технологическая) (4 недели)\nГруппа: HO-Б25А-03\nПреподаватель: Петрова А.А.\nТип занятия: Семинар\nАудитория: 1‑2‑31
LOCATION:1‑2‑31
END:VEVENT
BEGIN:VEVENT
UID:958507_1483@kspu.ru
DTSTAMP:20260423T085324Z
DTSTART:20260504T052000Z
DTEND:20260504T065000Z
SUMMARY:Технологии цифрового образования HO-Б25А-03 Лабораторное занятие (Подгруппа A)
DESCRIPTION:Предмет: Технологии цифрового образования\nГруппа: HO-Б25А-03\nПреподаватель: Петрова А.А.\nТип занятия: Лабораторное занятие\nАудитория: 1‑2‑31
LOCATION:1‑2‑31
END:VEVENT
BEGIN:VEVENT
UID:956734_1483@kspu.ru
DTSTAMP:20260423T085324Z
DTSTART:20260504T070000Z
DTEND:20260504T083000Z
SUMMARY:Технологии цифрового образования HO-Б25Б-01 Лабораторное занятие
DESCRIPTION:Предмет: Технологии цифрового образования\nГруппа: HO-Б25Б-01\nПреподаватель: Петрова А.А.\nТип занятия: Лабораторное занятие\nАудитория: 1‑2‑31
LOCATION:1‑2‑31
END:VEVENT
BEGIN:VEVENT
UID:961336_1483@kspu.ru
DTSTAMP:20260423T085324Z
DTSTART:20260505T070000Z
DTEND:20260505T083000Z
SUMMARY:Учебная практика: технологическая практика (проектно-технологическая) (4 недели) HO-Б25Б-01 Семинар
DESCRIPTION:Предмет: Учебная практика: технологическая практика (проектно-технологическая) (4 недели)\nГруппа: HO-Б25Б-01\nПреподаватель: Петрова А.А.\nТип занятия: Семинар\nАудитория: 1‑2‑31
LOCATION:1‑2‑31
END:VEVENT
BEGIN:VEVENT
UID:958510_1483@kspu.ru
DTSTAMP:20260423T085324Z
DTSTART:20260505T084000Z
DTEND:20260505T101000Z
SUMMARY:Технологии цифрового образования HO-Б25А-03 Лабораторное занятие (Подгруппа Б)
DESCRIPTION:Предмет: Технологии цифрового образования\nГруппа: HO-Б25А-03\nПреподаватель: Петрова А.А.\nТип занятия: Лабораторное занятие\nАудитория: 1‑2‑31
LOCATION:1‑2‑31
END:VEVENT
BEGIN:VEVENT
UID:958512_1483@kspu.ru
DTSTAMP:20260423T085324Z
DTSTART:20260511T052000Z
DTEND:20260511T065000Z
SUMMARY:Технологии цифрового образования HO-Б25А-03 Лабораторное занятие (Подгруппа A)
DESCRIPTION:Предмет: Технологии цифрового образования\nГруппа: HO-Б25А-03\nПреподаватель: Петрова А.А.\nТип занятия: Лабораторное занятие\nАудитория: 1‑3‑24
LOCATION:1‑3‑24
END:VEVENT
BEGIN:VEVENT
UID:958516_1483@kspu.ru
DTSTAMP:20260423T085324Z
DTSTART:20260511T070000Z
DTEND:20260511T083000Z
SUMMARY:Технологии цифрового образования HO-Б25А-03 Лабораторное занятие (Подгруппа Б)
DESCRIPTION:Предмет: Технологии цифрового образования\nГруппа: HO-Б25А-03\nПреподаватель: Петрова А.А.\nТип занятия: Лабораторное занятие\nАудитория: 1‑2‑31
LOCATION:1‑2‑31
END:VEVENT
BEGIN:VEVENT
UID:961427_1483@kspu.ru
DTSTAMP:20260423T085324Z
DTSTART:20260512T052000Z
DTEND:20260512T065000Z
SUMMARY:Учебная практика: технологическая практика (проектно-технологическая) (4 недели) HO-Б25А-03 Семинар
DESCRIPTION:Предмет: Учебная практика: технологическая практика (проектно-технологическая) (4 недели)\nГруппа: HO-Б25А-03\nПреподаватель: Петрова А.А.\nТип занятия: Семинар\nАудитория: 1‑2‑31
LOCATION:1‑2‑31
END:VEVENT
BEGIN:VEVENT
UID:958511_1483@kspu.ru
DTSTAMP:20260423T085324Z
DTSTART:20260512T070000Z
DTEND:20260512T083000Z
SUMMARY:Технологии цифрового образования HO-Б25Б-01 Лабораторное занятие
DESCRIPTION:Предмет: Технологии цифрового образования\nГруппа: HO-Б25Б-01\nПреподаватель: Петрова А.А.\nТип занятия: Лабораторное занятие\nАудитория: 1‑2‑31
LOCATION:1‑2‑31
END:VEVENT
BEGIN:VEVENT
UID:958523_1483@kspu.ru
DTSTAMP:20260423T085324Z
DTSTART:20260518T032000Z
DTEND:20260518T045000Z
SUMMARY:Технологии цифрового образования HO-Б25А-03 Лабораторное занятие (Подгруппа Б)
DESCRIPTION:Предмет: Технологии цифрового образования\nГруппа: HO-Б25А-03\nПреподаватель: Петрова А.А.\nТип занятия: Лабораторное занятие\nАудитория: 1‑2‑31
LOCATION:1‑2‑31
END:VEVENT
BEGIN:VEVENT
UID:958518_1483@kspu.ru
DTSTAMP:20260423T085324Z
DTSTART:20260518T052000Z
DTEND:20260518T065000Z
SUMMARY:Технологии цифрового образования HO-Б25А-03 Лабораторное занятие (Подгруппа A)
DESCRIPTION:Предмет: Технологии цифрового образования\nГруппа: HO-Б25А-03\nПреподаватель: Петрова А.А.\nТип занятия: Лабораторное занятие\nАудитория: 1‑2‑31
LOCATION:1‑2‑31
END:VEVENT
BEGIN:VEVENT
UID:958517_1483@kspu.ru
DTSTAMP:20260423T085324Z
DTSTART:20260519T032000Z
DTEND:20260519T045000Z
SUMMARY:Учебная практика: технологическая практика (проектно-технологическая) (4 недели) HO-Б25Б-01 Семинар
DESCRIPTION:Предмет: Учебная практика: технологическая практика (проектно-технологическая) (4 недели)\nГруппа: HO-Б25Б-01\nПреподаватель: Петрова А.А.\nТип занятия: Семинар\nАудитория: 1‑2‑30
LOCATION:1‑2‑30
END:VEVENT
BEGIN:VEVENT
UID:961428_1483@kspu.ru
DTSTAMP:20260423T085324Z
DTSTART:20260519T052000Z
DTEND:20260519T065000Z
SUMMARY:Учебная практика: технологическая практика (проектно-технологическая) (4 недели) HO-Б25А-03 Семинар
DESCRIPTION:Предмет: Учебная практика: технологическая практика (проектно-технологическая) (4 недели)\nГруппа: HO-Б25А-03\nПреподаватель: Петрова А.А.\nТип занятия: Семинар\nАудитория: 1‑2‑30
LOCATION:1‑2‑30
END:VEVENT
BEGIN:VEVENT
UID:961335_1483@kspu.ru
DTSTAMP:20260423T085324Z
DTSTART:20260525T052000Z
DTEND:20260525T065000Z
SUMMARY:Технологии цифрового образования HO-Б25А-03 Лабораторное занятие (Подгруппа Б)
DESCRIPTION:Предмет: Технологии цифрового образования\nГруппа: HO-Б25А-03\nПреподаватель: Петрова А.А.\nТип занятия: Лабораторное занятие\nАудитория: 1‑2‑31
LOCATION:1‑2‑31
END:VEVENT
BEGIN:VEVENT
UID:956738_1483@kspu.ru
DTSTAMP:20260423T085324Z
DTSTART:20260525T070000Z
DTEND:20260525T083000Z
SUMMARY:Технологии цифрового образования HO-Б25Б-01 Лабораторное занятие
DESCRIPTION:Предмет: Технологии цифрового образования\nГруппа: HO-Б25Б-01\nПреподаватель: Петрова А.А.\nТип занятия: Лабораторное занятие\nАудитория: 1‑2‑31
LOCATION:1‑2‑31
END:VEVENT
BEGIN:VEVENT
UID:961338_1483@kspu.ru
DTSTAMP:20260423T085324Z
DTSTART:20260601T032000Z
DTEND:20260601T045000Z
SUMMARY:Учебная практика: технологическая практика (проектно-технологическая) (4 недели) HO-Б25Б-01 Семинар
DESCRIPTION:Предмет: Учебная практика: технологическая практика (проектно-технологическая) (4 недели)\nГруппа: HO-Б25Б-01\nПреподаватель: Петрова А.А.\nТип занятия: Семинар\nАудитория: 1‑2‑31
LOCATION:1‑2‑31
END:VEVENT
BEGIN:VEVENT
UID:961337_1483@kspu.ru
DTSTAMP:20260423T085324Z
DTSTART:20260601T052000Z
DTEND:20260601T065000Z
SUMMARY:Учебная практика: технологическая практика (проектно-технологическая) (4 недели) HO-Б25Б-01 Семинар
DESCRIPTION:Предмет: Учебная практика: технологическая практика (проектно-технологическая) (4 недели)\nГруппа: HO-Б25Б-01\nПреподаватель: Петрова А.А.\nТип занятия: Семинар\nАудитория: 1‑2‑31
LOCATION:1‑2‑31
END:VEVENT
BEGIN:VEVENT
UID:1002368_1483@kspu.ru
DTSTAMP:20260423T085324Z
DTSTART:20260601T070000Z
DTEND:20260601T083000Z
SUMMARY:Технологии цифрового образования HO-Б25А-03 Зачёт (Подгруппа Б)
DESCRIPTION:Предмет: Технологии цифрового образования\nГруппа: HO-Б25А-03\nПреподаватель: Петрова А.А.\nТип занятия: Зачёт\nАудитория: 1‑3‑24
LOCATION:1‑3‑24
END:VEVENT
BEGIN:VEVENT
UID:976563_1483@kspu.ru
DTSTAMP:20260423T085324Z
DTSTART:20260601T070000Z
DTEND:20260601T083000Z
SUMMARY:Технологии цифрового образования HO-Б25А-03 Зачёт (Подгруппа A)
DESCRIPTION:Предмет: Технологии цифрового образования\nГруппа: HO-Б25А-03\nПреподаватель: Петрова А.А.\nТип занятия: Зачёт\nАудитория: 1‑3‑24
LOCATION:1‑3‑24
END:VEVENT
BEGIN:VEVENT
UID:961437_1483@kspu.ru
DTSTAMP:20260423T085324Z
DTSTART:20260602T070000Z
DTEND:20260602T083000Z
SUMMARY:Учебная практика: технологическая практика (проектно-технологическая) (4 недели) HO-Б25А-03 Семинар
DESCRIPTION:Предмет: Учебная практика: технологическая практика (проектно-технологическая) (4 недели)\nГруппа: HO-Б25А-03\nПреподаватель: Петрова А.А.\nТип занятия: Семинар\nАудитория: 1‑2‑31
LOCATION:1‑2‑31
END:VEVENT
BEGIN:VEVENT
UID:961438_1483@kspu.ru
DTSTAMP:20260423T085324Z
DTSTART:20260602T084000Z
DTEND:20260602T101000Z
SUMMARY:Учебная практика: технологическая практика (проектно-технологическая) (4 недели) HO-Б25А-03 Семинар
DESCRIPTION:Предмет: Учебная практика: технологическая практика (проектно-технологическая) (4 недели)\nГруппа: HO-Б25А-03\nПреподаватель: Петрова А.А.\nТип занятия: Семинар\nАудитория: 1‑2‑31
LOCATION:1‑2‑31
END:VEVENT
BEGIN:VEVENT
UID:961512_1483@kspu.ru
DTSTAMP:20260423T085324Z
DTSTART:20260608T032000Z
DTEND:20260608T045000Z
SUMMARY:Учебная практика: технологическая практика (проектно-технологическая) (4 недели) HO-Б25А-03 Семинар
DESCRIPTION:Предмет: Учебная практика: технологическая практика (проектно-технологическая) (4 недели)\nГруппа: HO-Б25А-03\nПреподаватель: Петрова А.А.\nТип занятия: Семинар\nАудитория: 1‑2‑31
LOCATION:1‑2‑31
END:VEVENT
BEGIN:VEVENT
UID:961439_1483@kspu.ru
DTSTAMP:20260423T085324Z
DTSTART:20260608T052000Z
DTEND:20260608T065000Z
SUMMARY:Учебная практика: технологическая практика (проектно-технологическая) (4 недели) HO-Б25А-03 Семинар
DESCRIPTION:Предмет: Учебная практика: технологическая практика (проектно-технологическая) (4 недели)\nГруппа: HO-Б25А-03\nПреподаватель: Петрова А.А.\nТип занятия: Семинар\nАудитория: 1‑2‑31
LOCATION:1‑2‑31
END:VEVENT
BEGIN:VEVENT
UID:961340_1483@kspu.ru
DTSTAMP:20260423T085324Z
DTSTART:20260608T070000Z
DTEND:20260608T083000Z
SUMMARY:Учебная практика: технологическая практика (проектно-технологическая) (4 недели) HO-Б25Б-01 Семинар
DESCRIPTION:Предмет: Учебная практика: технологическая практика (проектно-технологическая) (4 недели)\nГруппа: HO-Б25Б-01\nПреподаватель: Петрова А.А.\nТип занятия: Семинар\nАудитория: 1‑2‑31
LOCATION:1‑2‑31
END:VEVENT
BEGIN:VEVENT
UID:976570_1483@kspu.ru
DTSTAMP:20260423T085324Z
DTSTART:20260608T084000Z
DTEND:20260608T101000Z
SUMMARY:Технологии цифрового образования HO-Б25Б-01 Зачёт
DESCRIPTION:Предмет: Технологии цифрового образования\nГруппа: HO-Б25Б-01\nПреподаватель: Петрова А.А.\nТип занятия: Зачёт\nАудитория: 1‑2‑31
LOCATION:1‑2‑31
END:VEVENT
BEGIN:VEVENT
UID:961759_1483@kspu.ru
DTSTAMP:20260423T085324Z
DTSTART:20260609T032000Z
DTEND:20260609T045000Z
SUMMARY:Учебная практика: технологическая практика (проектно-технологическая) (4 недели) HO-Б25А-03 Семинар
DESCRIPTION:Предмет: Учебная практика: технологическая практика (проектно-технологическая) (4 недели)\nГруппа: HO-Б25А-03\nПреподаватель: Петрова А.А.\nТип занятия: Семинар\nАудитория: 1‑2‑31
LOCATION:1‑2‑31
END:VEVENT
BEGIN:VEVENT
UID:961339_1483@kspu.ru
DTSTAMP:20260423T085324Z
DTSTART:20260609T052000Z
DTEND:20260609T065000Z
SUMMARY:Учебная практика: технологическая практика (проектно-технологическая) (4 недели) HO-Б25Б-01 Семинар
DESCRIPTION:Предмет: Учебная практика: технологическая практика (проектно-технологическая) (4 недели)\nГруппа: HO-Б25Б-01\nПреподаватель: Петрова А.А.\nТип занятия: Семинар\nАудитория: 1‑2‑31
LOCATION:1‑2‑31
END:VEVENT
BEGIN:VEVENT
UID:961440_1483@kspu.ru
DTSTAMP:20260423T085324Z
DTSTART:20260609T070000Z
DTEND:20260609T083000Z
SUMMARY:Учебная практика: технологическая практика (проектно-технологическая) (4 недели) HO-Б25А-03 Семинар
DESCRIPTION:Предмет: Учебная практика: технологическая практика (проектно-технологическая) (4 недели)\nГруппа: HO-Б25А-03\nПреподаватель: Петрова А.А.\nТип занятия: Семинар\nАудитория: 1‑2‑31
LOCATION:1‑2‑31
END:VEVENT
BEGIN:VEVENT
UID:976551_1483@kspu.ru
DTSTAMP:20260423T085324Z
DTSTART:20260609T084000Z
DTEND:20260609T101000Z
SUMMARY:Учебная практика: технологическая практика (проектно-технологическая) (4 недели) HO-Б25А-03 Зачёт с оценкой
DESCRIPTION:Предмет: Учебная практика: технологическая практика (проектно-технологическая) (4 недели)\nГруппа: HO-Б25А-03\nПреподаватель: Петрова А.А.\nТип занятия: Зачёт с оценкой\nАудитория: 1‑2‑31
LOCATION:1‑2‑31
END:VEVENT
BEGIN:VEVENT
UID:956893_1483@kspu.ru
DTSTAMP:20260423T085324Z
DTSTART:20260615T032000Z
DTEND:20260615T045000Z
SUMMARY:Технологии цифрового образования HO-Б25А-03 Лабораторное занятие (Подгруппа A)
DESCRIPTION:Предмет: Технологии цифрового образования\nГруппа: HO-Б25А-03\nПреподаватель: Петрова А.А.\nТип занятия: Лабораторное занятие\nАудитория: Иные аудитории
LOCATION:Иные аудитории
END:VEVENT
BEGIN:VEVENT
UID:961341_1483@kspu.ru
DTSTAMP:20260423T085324Z
DTSTART:20260615T052000Z
DTEND:20260615T065000Z
SUMMARY:Учебная практика: технологическая практика (проектно-технологическая) (4 недели) HO-Б25Б-01 Семинар
DESCRIPTION:Предмет: Учебная практика: технологическая практика (проектно-технологическая) (4 недели)\nГруппа: HO-Б25Б-01\nПреподаватель: Петрова А.А.\nТип занятия: Семинар\nАудитория: 1‑2‑31
LOCATION:1‑2‑31
END:VEVENT
BEGIN:VEVENT
UID:961343_1483@kspu.ru
DTSTAMP:20260423T085324Z
DTSTART:20260617T052000Z
DTEND:20260617T065000Z
SUMMARY:Учебная практика: технологическая практика (проектно-технологическая) (4 недели) HO-Б25Б-01 Семинар
DESCRIPTION:Предмет: Учебная практика: технологическая практика (проектно-технологическая) (4 недели)\nГруппа: HO-Б25Б-01\nПреподаватель: Петрова А.А.\nТип занятия: Семинар\nАудитория: 1‑2‑31
LOCATION:1‑2‑31
END:VEVENT
BEGIN:VEVENT
UID:961344_1483@kspu.ru
DTSTAMP:20260423T085324Z
DTSTART:20260617T070000Z
DTEND:20260617T083000Z
SUMMARY:Учебная практика: технологическая практика (проектно-технологическая) (4 недели) HO-Б25Б-01 Семинар
DESCRIPTION:Предмет: Учебная практика: технологическая практика (проектно-технологическая) (4 недели)\nГруппа: HO-Б25Б-01\nПреподаватель: Петрова А.А.\nТип занятия: Семинар\nАудитория: 1‑2‑31
LOCATION:1‑2‑31
END:VEVENT
BEGIN:VEVENT
UID:961342_1483@kspu.ru
DTSTAMP:20260423T085324Z
DTSTART:20260618T052000Z
DTEND:20260618T065000Z
SUMMARY:Учебная практика: технологическая практика (проектно-технологическая) (4 недели) HO-Б25Б-01 Семинар
DESCRIPTION:Предмет: Учебная практика: технологическая практика (проектно-технологическая) (4 недели)\nГруппа: HO-Б25Б-01\nПреподаватель: Петрова А.А.\nТип занятия: Семинар\nАудитория: 1‑2‑31
LOCATION:1‑2‑31
END:VEVENT
BEGIN:VEVENT
UID:976557_1483@kspu.ru
DTSTAMP:20260423T085324Z
DTSTART:20260618T070000Z
DTEND:20260618T083000Z
SUMMARY:Учебная практика: технологическая практика (проектно-технологическая) (4 недели) HO-Б25Б-01 Зачёт с оценкой
DESCRIPTION:Предмет: Учебная практика: технологическая практика (проектно-технологическая) (4 недели)\nГруппа: HO-Б25Б-01\nПреподаватель: Петрова А.А.\nТип занятия: Зачёт с оценкой\nАудитория: 1‑2‑31
LOCATION:1‑2‑31
END:VEVENT
END:VCALENDAR