BEGIN:VCALENDAR
VERSION:2.0
PRODID:-//KSPU//Teacher Schedule Calendar//EN
CALSCALE:GREGORIAN
METHOD:PUBLISH
X-WR-CALNAME:Бакалова Е.Ю. Расписание
X-PUBLISHED-TTL:PT15M
BEGIN:VEVENT
UID:950947_1479@kspu.ru
DTSTAMP:20260420T012825Z
DTSTART:20251106T052000Z
DTEND:20251106T065000Z
SUMMARY:Теория и практика воспитания MO-П25АК-02 Лекция
DESCRIPTION:Предмет: Теория и практика воспитания\nГруппа: MO-П25АК-02\nПреподаватель: Бакалова Е.Ю.\nТип занятия: Лекция\nАудитория: 2‑2‑08
LOCATION:2‑2‑08
END:VEVENT
BEGIN:VEVENT
UID:950946_1479@kspu.ru
DTSTAMP:20260420T012825Z
DTSTART:20251106T052000Z
DTEND:20251106T065000Z
SUMMARY:Теория и практика воспитания MO-П25АК-01 Лекция
DESCRIPTION:Предмет: Теория и практика воспитания\nГруппа: MO-П25АК-01\nПреподаватель: Бакалова Е.Ю.\nТип занятия: Лекция\nАудитория: 2‑2‑08
LOCATION:2‑2‑08
END:VEVENT
BEGIN:VEVENT
UID:950948_1479@kspu.ru
DTSTAMP:20260420T012825Z
DTSTART:20251106T070000Z
DTEND:20251106T083000Z
SUMMARY:Теория и практика воспитания MO-П25АК-01 Лекция
DESCRIPTION:Предмет: Теория и практика воспитания\nГруппа: MO-П25АК-01\nПреподаватель: Бакалова Е.Ю.\nТип занятия: Лекция\nАудитория: 2‑2‑08
LOCATION:2‑2‑08
END:VEVENT
BEGIN:VEVENT
UID:950949_1479@kspu.ru
DTSTAMP:20260420T012825Z
DTSTART:20251106T070000Z
DTEND:20251106T083000Z
SUMMARY:Теория и практика воспитания MO-П25АК-02 Лекция
DESCRIPTION:Предмет: Теория и практика воспитания\nГруппа: MO-П25АК-02\nПреподаватель: Бакалова Е.Ю.\nТип занятия: Лекция\nАудитория: 2‑2‑08
LOCATION:2‑2‑08
END:VEVENT
BEGIN:VEVENT
UID:950950_1479@kspu.ru
DTSTAMP:20260420T012825Z
DTSTART:20251108T032000Z
DTEND:20251108T045000Z
SUMMARY:Теория и практика воспитания MO-П25АК-01 Семинар
DESCRIPTION:Предмет: Теория и практика воспитания\nГруппа: MO-П25АК-01\nПреподаватель: Бакалова Е.Ю.\nТип занятия: Семинар\nАудитория: 2‑1‑04
LOCATION:2‑1‑04
END:VEVENT
BEGIN:VEVENT
UID:950953_1479@kspu.ru
DTSTAMP:20260420T012825Z
DTSTART:20251108T052000Z
DTEND:20251108T065000Z
SUMMARY:Теория и практика воспитания MO-П25АК-02 Семинар
DESCRIPTION:Предмет: Теория и практика воспитания\nГруппа: MO-П25АК-02\nПреподаватель: Бакалова Е.Ю.\nТип занятия: Семинар\nАудитория: 2‑1‑04
LOCATION:2‑1‑04
END:VEVENT
BEGIN:VEVENT
UID:950957_1479@kspu.ru
DTSTAMP:20260420T012825Z
DTSTART:20251113T014000Z
DTEND:20251113T031000Z
SUMMARY:Теория и практика воспитания MO-П25АК-02 Лекция
DESCRIPTION:Предмет: Теория и практика воспитания\nГруппа: MO-П25АК-02\nПреподаватель: Бакалова Е.Ю.\nТип занятия: Лекция\nАудитория: 2‑2‑10
LOCATION:2‑2‑10
END:VEVENT
BEGIN:VEVENT
UID:950956_1479@kspu.ru
DTSTAMP:20260420T012825Z
DTSTART:20251113T014000Z
DTEND:20251113T031000Z
SUMMARY:Теория и практика воспитания MO-П25АК-01 Лекция
DESCRIPTION:Предмет: Теория и практика воспитания\nГруппа: MO-П25АК-01\nПреподаватель: Бакалова Е.Ю.\nТип занятия: Лекция\nАудитория: 2‑2‑10
LOCATION:2‑2‑10
END:VEVENT
BEGIN:VEVENT
UID:950961_1479@kspu.ru
DTSTAMP:20260420T012825Z
DTSTART:20251113T032000Z
DTEND:20251113T045000Z
SUMMARY:Теория и практика воспитания MO-П25АК-02 Лекция
DESCRIPTION:Предмет: Теория и практика воспитания\nГруппа: MO-П25АК-02\nПреподаватель: Бакалова Е.Ю.\nТип занятия: Лекция\nАудитория: 2‑2‑10
LOCATION:2‑2‑10
END:VEVENT
BEGIN:VEVENT
UID:950960_1479@kspu.ru
DTSTAMP:20260420T012825Z
DTSTART:20251113T032000Z
DTEND:20251113T045000Z
SUMMARY:Теория и практика воспитания MO-П25АК-01 Лекция
DESCRIPTION:Предмет: Теория и практика воспитания\nГруппа: MO-П25АК-01\nПреподаватель: Бакалова Е.Ю.\nТип занятия: Лекция\nАудитория: 2‑2‑10
LOCATION:2‑2‑10
END:VEVENT
BEGIN:VEVENT
UID:950951_1479@kspu.ru
DTSTAMP:20260420T012825Z
DTSTART:20251115T032000Z
DTEND:20251115T045000Z
SUMMARY:Теория и практика воспитания MO-П25АК-01 Семинар
DESCRIPTION:Предмет: Теория и практика воспитания\nГруппа: MO-П25АК-01\nПреподаватель: Бакалова Е.Ю.\nТип занятия: Семинар\nАудитория: 2‑1‑04
LOCATION:2‑1‑04
END:VEVENT
BEGIN:VEVENT
UID:950954_1479@kspu.ru
DTSTAMP:20260420T012825Z
DTSTART:20251115T052000Z
DTEND:20251115T065000Z
SUMMARY:Теория и практика воспитания MO-П25АК-02 Семинар
DESCRIPTION:Предмет: Теория и практика воспитания\nГруппа: MO-П25АК-02\nПреподаватель: Бакалова Е.Ю.\nТип занятия: Семинар\nАудитория: 2‑1‑04
LOCATION:2‑1‑04
END:VEVENT
BEGIN:VEVENT
UID:950958_1479@kspu.ru
DTSTAMP:20260420T012825Z
DTSTART:20251120T014000Z
DTEND:20251120T031000Z
SUMMARY:Теория и практика воспитания MO-П25АК-01 Лекция
DESCRIPTION:Предмет: Теория и практика воспитания\nГруппа: MO-П25АК-01\nПреподаватель: Бакалова Е.Ю.\nТип занятия: Лекция\nАудитория: 2‑2‑10
LOCATION:2‑2‑10
END:VEVENT
BEGIN:VEVENT
UID:950959_1479@kspu.ru
DTSTAMP:20260420T012825Z
DTSTART:20251120T014000Z
DTEND:20251120T031000Z
SUMMARY:Теория и практика воспитания MO-П25АК-02 Лекция
DESCRIPTION:Предмет: Теория и практика воспитания\nГруппа: MO-П25АК-02\nПреподаватель: Бакалова Е.Ю.\nТип занятия: Лекция\nАудитория: 2‑2‑10
LOCATION:2‑2‑10
END:VEVENT
BEGIN:VEVENT
UID:950963_1479@kspu.ru
DTSTAMP:20260420T012825Z
DTSTART:20251120T032000Z
DTEND:20251120T045000Z
SUMMARY:Теория и практика воспитания MO-П25АК-02 Лекция
DESCRIPTION:Предмет: Теория и практика воспитания\nГруппа: MO-П25АК-02\nПреподаватель: Бакалова Е.Ю.\nТип занятия: Лекция\nАудитория: 2‑2‑10
LOCATION:2‑2‑10
END:VEVENT
BEGIN:VEVENT
UID:950962_1479@kspu.ru
DTSTAMP:20260420T012825Z
DTSTART:20251120T032000Z
DTEND:20251120T045000Z
SUMMARY:Теория и практика воспитания MO-П25АК-01 Лекция
DESCRIPTION:Предмет: Теория и практика воспитания\nГруппа: MO-П25АК-01\nПреподаватель: Бакалова Е.Ю.\nТип занятия: Лекция\nАудитория: 2‑2‑10
LOCATION:2‑2‑10
END:VEVENT
BEGIN:VEVENT
UID:950952_1479@kspu.ru
DTSTAMP:20260420T012825Z
DTSTART:20251122T032000Z
DTEND:20251122T045000Z
SUMMARY:Теория и практика воспитания MO-П25АК-01 Семинар
DESCRIPTION:Предмет: Теория и практика воспитания\nГруппа: MO-П25АК-01\nПреподаватель: Бакалова Е.Ю.\nТип занятия: Семинар\nАудитория: 2‑1‑04
LOCATION:2‑1‑04
END:VEVENT
BEGIN:VEVENT
UID:950955_1479@kspu.ru
DTSTAMP:20260420T012825Z
DTSTART:20251122T052000Z
DTEND:20251122T065000Z
SUMMARY:Теория и практика воспитания MO-П25АК-02 Семинар
DESCRIPTION:Предмет: Теория и практика воспитания\nГруппа: MO-П25АК-02\nПреподаватель: Бакалова Е.Ю.\nТип занятия: Семинар\nАудитория: 2‑1‑04
LOCATION:2‑1‑04
END:VEVENT
BEGIN:VEVENT
UID:950964_1479@kspu.ru
DTSTAMP:20260420T012825Z
DTSTART:20251127T014000Z
DTEND:20251127T031000Z
SUMMARY:Теория и практика воспитания MO-П25АК-01 Семинар
DESCRIPTION:Предмет: Теория и практика воспитания\nГруппа: MO-П25АК-01\nПреподаватель: Бакалова Е.Ю.\nТип занятия: Семинар\nАудитория: 2‑1‑04
LOCATION:2‑1‑04
END:VEVENT
BEGIN:VEVENT
UID:950965_1479@kspu.ru
DTSTAMP:20260420T012825Z
DTSTART:20251127T032000Z
DTEND:20251127T045000Z
SUMMARY:Теория и практика воспитания MO-П25АК-01 Семинар
DESCRIPTION:Предмет: Теория и практика воспитания\nГруппа: MO-П25АК-01\nПреподаватель: Бакалова Е.Ю.\nТип занятия: Семинар\nАудитория: 2‑1‑04
LOCATION:2‑1‑04
END:VEVENT
BEGIN:VEVENT
UID:950966_1479@kspu.ru
DTSTAMP:20260420T012825Z
DTSTART:20251127T052000Z
DTEND:20251127T065000Z
SUMMARY:Теория и практика воспитания MO-П25АК-02 Семинар
DESCRIPTION:Предмет: Теория и практика воспитания\nГруппа: MO-П25АК-02\nПреподаватель: Бакалова Е.Ю.\nТип занятия: Семинар\nАудитория: 2‑1‑04
LOCATION:2‑1‑04
END:VEVENT
BEGIN:VEVENT
UID:950967_1479@kspu.ru
DTSTAMP:20260420T012825Z
DTSTART:20251127T070000Z
DTEND:20251127T083000Z
SUMMARY:Теория и практика воспитания MO-П25АК-02 Семинар
DESCRIPTION:Предмет: Теория и практика воспитания\nГруппа: MO-П25АК-02\nПреподаватель: Бакалова Е.Ю.\nТип занятия: Семинар\nАудитория: 2‑1‑04
LOCATION:2‑1‑04
END:VEVENT
END:VCALENDAR