BEGIN:VCALENDAR
VERSION:2.0
PRODID:-//KSPU//Teacher Schedule Calendar//EN
CALSCALE:GREGORIAN
METHOD:PUBLISH
X-WR-CALNAME:Шакирова Е.А. Расписание
X-PUBLISHED-TTL:PT15M
BEGIN:VEVENT
UID:926090_1477@kspu.ru
DTSTAMP:20260421T050115Z
DTSTART:20250903T070000Z
DTEND:20250903T083000Z
SUMMARY:Физкультурно-спортивные сооружения JO-Б25Б-01 Лекция
DESCRIPTION:Предмет: Физкультурно-спортивные сооружения\nГруппа: JO-Б25Б-01\nПреподаватель: Шакирова Е.А.\nТип занятия: Лекция\nАудитория: 1‑1‑50
LOCATION:1‑1‑50
END:VEVENT
BEGIN:VEVENT
UID:921779_1477@kspu.ru
DTSTAMP:20260421T050115Z
DTSTART:20250903T070000Z
DTEND:20250903T083000Z
SUMMARY:Физкультурно-спортивные сооружения JO-Б25Б-02 Лекция
DESCRIPTION:Предмет: Физкультурно-спортивные сооружения\nГруппа: JO-Б25Б-02\nПреподаватель: Шакирова Е.А.\nТип занятия: Лекция\nАудитория: 1‑1‑50
LOCATION:1‑1‑50
END:VEVENT
BEGIN:VEVENT
UID:921778_1477@kspu.ru
DTSTAMP:20260421T050115Z
DTSTART:20250903T084000Z
DTEND:20250903T101000Z
SUMMARY:Физкультурно-спортивные сооружения JO-Б25Б-01 Лекция
DESCRIPTION:Предмет: Физкультурно-спортивные сооружения\nГруппа: JO-Б25Б-01\nПреподаватель: Шакирова Е.А.\nТип занятия: Лекция\nАудитория: 1‑1‑50
LOCATION:1‑1‑50
END:VEVENT
BEGIN:VEVENT
UID:926089_1477@kspu.ru
DTSTAMP:20260421T050115Z
DTSTART:20250903T084000Z
DTEND:20250903T101000Z
SUMMARY:Физкультурно-спортивные сооружения JO-Б25Б-02 Лекция
DESCRIPTION:Предмет: Физкультурно-спортивные сооружения\nГруппа: JO-Б25Б-02\nПреподаватель: Шакирова Е.А.\nТип занятия: Лекция\nАудитория: 1‑1‑50
LOCATION:1‑1‑50
END:VEVENT
BEGIN:VEVENT
UID:926098_1477@kspu.ru
DTSTAMP:20260421T050115Z
DTSTART:20250910T014000Z
DTEND:20250910T031000Z
SUMMARY:Физкультурно-спортивные сооружения JO-Б25Б-01 Семинар
DESCRIPTION:Предмет: Физкультурно-спортивные сооружения\nГруппа: JO-Б25Б-01\nПреподаватель: Шакирова Е.А.\nТип занятия: Семинар\nАудитория: 1‑1‑53
LOCATION:1‑1‑53
END:VEVENT
BEGIN:VEVENT
UID:929339_1477@kspu.ru
DTSTAMP:20260421T050115Z
DTSTART:20250910T032000Z
DTEND:20250910T045000Z
SUMMARY:Физкультурно-спортивные сооружения JO-Б25Б-02 Лекция
DESCRIPTION:Предмет: Физкультурно-спортивные сооружения\nГруппа: JO-Б25Б-02\nПреподаватель: Шакирова Е.А.\nТип занятия: Лекция\nАудитория: 1‑1‑49
LOCATION:1‑1‑49
END:VEVENT
BEGIN:VEVENT
UID:926096_1477@kspu.ru
DTSTAMP:20260421T050115Z
DTSTART:20250910T032000Z
DTEND:20250910T045000Z
SUMMARY:Физкультурно-спортивные сооружения JO-Б25Б-01 Лекция
DESCRIPTION:Предмет: Физкультурно-спортивные сооружения\nГруппа: JO-Б25Б-01\nПреподаватель: Шакирова Е.А.\nТип занятия: Лекция\nАудитория: 1‑1‑49
LOCATION:1‑1‑49
END:VEVENT
BEGIN:VEVENT
UID:929347_1477@kspu.ru
DTSTAMP:20260421T050115Z
DTSTART:20250910T052000Z
DTEND:20250910T065000Z
SUMMARY:Физкультурно-спортивные сооружения JO-Б25Б-02 Семинар
DESCRIPTION:Предмет: Физкультурно-спортивные сооружения\nГруппа: JO-Б25Б-02\nПреподаватель: Шакирова Е.А.\nТип занятия: Семинар\nАудитория: 1‑2‑76
LOCATION:1‑2‑76
END:VEVENT
BEGIN:VEVENT
UID:929401_1477@kspu.ru
DTSTAMP:20260421T050115Z
DTSTART:20250911T052000Z
DTEND:20250911T065000Z
SUMMARY:Физкультурно-спортивные сооружения JO-Б25Б-01 Семинар
DESCRIPTION:Предмет: Физкультурно-спортивные сооружения\nГруппа: JO-Б25Б-01\nПреподаватель: Шакирова Е.А.\nТип занятия: Семинар\nАудитория: 1‑2‑31
LOCATION:1‑2‑31
END:VEVENT
BEGIN:VEVENT
UID:926101_1477@kspu.ru
DTSTAMP:20260421T050115Z
DTSTART:20250911T070000Z
DTEND:20250911T083000Z
SUMMARY:Физкультурно-спортивные сооружения JO-Б25Б-02 Семинар
DESCRIPTION:Предмет: Физкультурно-спортивные сооружения\nГруппа: JO-Б25Б-02\nПреподаватель: Шакирова Е.А.\nТип занятия: Семинар\nАудитория: 1‑1‑53
LOCATION:1‑1‑53
END:VEVENT
BEGIN:VEVENT
UID:926109_1477@kspu.ru
DTSTAMP:20260421T050115Z
DTSTART:20250916T070000Z
DTEND:20250916T083000Z
SUMMARY:Физкультурно-спортивные сооружения JO-Б25Б-01 Семинар
DESCRIPTION:Предмет: Физкультурно-спортивные сооружения\nГруппа: JO-Б25Б-01\nПреподаватель: Шакирова Е.А.\nТип занятия: Семинар\nАудитория: 1‑3‑19
LOCATION:1‑3‑19
END:VEVENT
BEGIN:VEVENT
UID:926105_1477@kspu.ru
DTSTAMP:20260421T050115Z
DTSTART:20250917T070000Z
DTEND:20250917T083000Z
SUMMARY:Физкультурно-спортивные сооружения JO-Б25Б-02 Лекция
DESCRIPTION:Предмет: Физкультурно-спортивные сооружения\nГруппа: JO-Б25Б-02\nПреподаватель: Шакирова Е.А.\nТип занятия: Лекция\nАудитория: 1‑1‑49
LOCATION:1‑1‑49
END:VEVENT
BEGIN:VEVENT
UID:926104_1477@kspu.ru
DTSTAMP:20260421T050115Z
DTSTART:20250917T070000Z
DTEND:20250917T083000Z
SUMMARY:Физкультурно-спортивные сооружения JO-Б25Б-01 Лекция
DESCRIPTION:Предмет: Физкультурно-спортивные сооружения\nГруппа: JO-Б25Б-01\nПреподаватель: Шакирова Е.А.\nТип занятия: Лекция\nАудитория: 1‑1‑49
LOCATION:1‑1‑49
END:VEVENT
BEGIN:VEVENT
UID:926107_1477@kspu.ru
DTSTAMP:20260421T050115Z
DTSTART:20250917T084000Z
DTEND:20250917T101000Z
SUMMARY:Физкультурно-спортивные сооружения JO-Б25Б-02 Семинар
DESCRIPTION:Предмет: Физкультурно-спортивные сооружения\nГруппа: JO-Б25Б-02\nПреподаватель: Шакирова Е.А.\nТип занятия: Семинар\nАудитория: 1‑3‑19
LOCATION:1‑3‑19
END:VEVENT
BEGIN:VEVENT
UID:926111_1477@kspu.ru
DTSTAMP:20260421T050115Z
DTSTART:20251006T014000Z
DTEND:20251006T031000Z
SUMMARY:Физкультурно-спортивные сооружения JO-Б25Б-01 Семинар
DESCRIPTION:Предмет: Физкультурно-спортивные сооружения\nГруппа: JO-Б25Б-01\nПреподаватель: Шакирова Е.А.\nТип занятия: Семинар\nАудитория: 1‑1‑53
LOCATION:1‑1‑53
END:VEVENT
BEGIN:VEVENT
UID:926113_1477@kspu.ru
DTSTAMP:20260421T050115Z
DTSTART:20251006T052000Z
DTEND:20251006T065000Z
SUMMARY:Физкультурно-спортивные сооружения JO-Б25Б-02 Семинар
DESCRIPTION:Предмет: Физкультурно-спортивные сооружения\nГруппа: JO-Б25Б-02\nПреподаватель: Шакирова Е.А.\nТип занятия: Семинар\nАудитория: 1‑1‑52
LOCATION:1‑1‑52
END:VEVENT
BEGIN:VEVENT
UID:938141_1477@kspu.ru
DTSTAMP:20260421T050115Z
DTSTART:20251008T052000Z
DTEND:20251008T065000Z
SUMMARY:Физкультурно-спортивные сооружения JO-Б25Б-01 Лекция
DESCRIPTION:Предмет: Физкультурно-спортивные сооружения\nГруппа: JO-Б25Б-01\nПреподаватель: Шакирова Е.А.\nТип занятия: Лекция\nАудитория: 1‑1‑50
LOCATION:1‑1‑50
END:VEVENT
BEGIN:VEVENT
UID:926117_1477@kspu.ru
DTSTAMP:20260421T050115Z
DTSTART:20251008T052000Z
DTEND:20251008T065000Z
SUMMARY:Физкультурно-спортивные сооружения JO-Б25Б-02 Лекция
DESCRIPTION:Предмет: Физкультурно-спортивные сооружения\nГруппа: JO-Б25Б-02\nПреподаватель: Шакирова Е.А.\nТип занятия: Лекция\nАудитория: 1‑1‑50
LOCATION:1‑1‑50
END:VEVENT
BEGIN:VEVENT
UID:926125_1477@kspu.ru
DTSTAMP:20260421T050115Z
DTSTART:20251014T052000Z
DTEND:20251014T065000Z
SUMMARY:Физкультурно-спортивные сооружения JO-Б25Б-02 Семинар
DESCRIPTION:Предмет: Физкультурно-спортивные сооружения\nГруппа: JO-Б25Б-02\nПреподаватель: Шакирова Е.А.\nТип занятия: Семинар\nАудитория: 1‑1‑56
LOCATION:1‑1‑56
END:VEVENT
BEGIN:VEVENT
UID:926120_1477@kspu.ru
DTSTAMP:20260421T050115Z
DTSTART:20251017T032000Z
DTEND:20251017T045000Z
SUMMARY:Физкультурно-спортивные сооружения JO-Б25Б-01 Семинар
DESCRIPTION:Предмет: Физкультурно-спортивные сооружения\nГруппа: JO-Б25Б-01\nПреподаватель: Шакирова Е.А.\nТип занятия: Семинар\nАудитория: 1‑1‑53
LOCATION:1‑1‑53
END:VEVENT
BEGIN:VEVENT
UID:948085_1477@kspu.ru
DTSTAMP:20260421T050115Z
DTSTART:20251018T014000Z
DTEND:20251018T031000Z
SUMMARY:Физкультурно-спортивные сооружения JO-Б25Б-01 Семинар
DESCRIPTION:Предмет: Физкультурно-спортивные сооружения\nГруппа: JO-Б25Б-01\nПреподаватель: Шакирова Е.А.\nТип занятия: Семинар\nАудитория: 1‑1‑53
LOCATION:1‑1‑53
END:VEVENT
BEGIN:VEVENT
UID:948086_1477@kspu.ru
DTSTAMP:20260421T050115Z
DTSTART:20251018T032000Z
DTEND:20251018T045000Z
SUMMARY:Физкультурно-спортивные сооружения JO-Б25Б-01 Семинар
DESCRIPTION:Предмет: Физкультурно-спортивные сооружения\nГруппа: JO-Б25Б-01\nПреподаватель: Шакирова Е.А.\nТип занятия: Семинар\nАудитория: 1‑1‑53
LOCATION:1‑1‑53
END:VEVENT
BEGIN:VEVENT
UID:948087_1477@kspu.ru
DTSTAMP:20260421T050115Z
DTSTART:20251018T052000Z
DTEND:20251018T065000Z
SUMMARY:Физкультурно-спортивные сооружения JO-Б25Б-02 Семинар
DESCRIPTION:Предмет: Физкультурно-спортивные сооружения\nГруппа: JO-Б25Б-02\nПреподаватель: Шакирова Е.А.\nТип занятия: Семинар\nАудитория: 1‑1‑53
LOCATION:1‑1‑53
END:VEVENT
BEGIN:VEVENT
UID:948088_1477@kspu.ru
DTSTAMP:20260421T050115Z
DTSTART:20251018T070000Z
DTEND:20251018T083000Z
SUMMARY:Физкультурно-спортивные сооружения JO-Б25Б-02 Семинар
DESCRIPTION:Предмет: Физкультурно-спортивные сооружения\nГруппа: JO-Б25Б-02\nПреподаватель: Шакирова Е.А.\nТип занятия: Семинар\nАудитория: 1‑1‑53
LOCATION:1‑1‑53
END:VEVENT
BEGIN:VEVENT
UID:926128_1477@kspu.ru
DTSTAMP:20260421T050115Z
DTSTART:20251020T052000Z
DTEND:20251020T065000Z
SUMMARY:Физкультурно-спортивные сооружения JO-Б25Б-02 Семинар
DESCRIPTION:Предмет: Физкультурно-спортивные сооружения\nГруппа: JO-Б25Б-02\nПреподаватель: Шакирова Е.А.\nТип занятия: Семинар\nАудитория: 1‑1‑52
LOCATION:1‑1‑52
END:VEVENT
BEGIN:VEVENT
UID:926127_1477@kspu.ru
DTSTAMP:20260421T050115Z
DTSTART:20251024T032000Z
DTEND:20251024T045000Z
SUMMARY:Физкультурно-спортивные сооружения JO-Б25Б-01 Семинар
DESCRIPTION:Предмет: Физкультурно-спортивные сооружения\nГруппа: JO-Б25Б-01\nПреподаватель: Шакирова Е.А.\nТип занятия: Семинар\nАудитория: 1‑1‑34
LOCATION:1‑1‑34
END:VEVENT
BEGIN:VEVENT
UID:938167_1477@kspu.ru
DTSTAMP:20260421T050115Z
DTSTART:20251125T084000Z
DTEND:20251125T101000Z
SUMMARY:Физкультурно-спортивные сооружения JO-Б25Б-01 Семинар
DESCRIPTION:Предмет: Физкультурно-спортивные сооружения\nГруппа: JO-Б25Б-01\nПреподаватель: Шакирова Е.А.\nТип занятия: Семинар\nАудитория: 1‑1‑50
LOCATION:1‑1‑50
END:VEVENT
BEGIN:VEVENT
UID:938171_1477@kspu.ru
DTSTAMP:20260421T050115Z
DTSTART:20251202T052000Z
DTEND:20251202T065000Z
SUMMARY:Физкультурно-спортивные сооружения JO-Б25Б-02 Семинар
DESCRIPTION:Предмет: Физкультурно-спортивные сооружения\nГруппа: JO-Б25Б-02\nПреподаватель: Шакирова Е.А.\nТип занятия: Семинар\nАудитория: 1‑1‑50
LOCATION:1‑1‑50
END:VEVENT
BEGIN:VEVENT
UID:938166_1477@kspu.ru
DTSTAMP:20260421T050115Z
DTSTART:20251205T070000Z
DTEND:20251205T083000Z
SUMMARY:Физкультурно-спортивные сооружения JO-Б25Б-01 Семинар
DESCRIPTION:Предмет: Физкультурно-спортивные сооружения\nГруппа: JO-Б25Б-01\nПреподаватель: Шакирова Е.А.\nТип занятия: Семинар\nАудитория: 1‑1‑34
LOCATION:1‑1‑34
END:VEVENT
BEGIN:VEVENT
UID:938175_1477@kspu.ru
DTSTAMP:20260421T050115Z
DTSTART:20251211T032000Z
DTEND:20251211T045000Z
SUMMARY:Физкультурно-спортивные сооружения JO-Б25Б-02 Семинар
DESCRIPTION:Предмет: Физкультурно-спортивные сооружения\nГруппа: JO-Б25Б-02\nПреподаватель: Шакирова Е.А.\nТип занятия: Семинар\nАудитория: 1‑1‑51
LOCATION:1‑1‑51
END:VEVENT
BEGIN:VEVENT
UID:938147_1477@kspu.ru
DTSTAMP:20260421T050115Z
DTSTART:20251211T052000Z
DTEND:20251211T065000Z
SUMMARY:Физкультурно-спортивные сооружения JO-Б25Б-01 Семинар
DESCRIPTION:Предмет: Физкультурно-спортивные сооружения\nГруппа: JO-Б25Б-01\nПреподаватель: Шакирова Е.А.\nТип занятия: Семинар\nАудитория: 1‑2‑76
LOCATION:1‑2‑76
END:VEVENT
BEGIN:VEVENT
UID:938143_1477@kspu.ru
DTSTAMP:20260421T050115Z
DTSTART:20251216T032000Z
DTEND:20251216T045000Z
SUMMARY:Физкультурно-спортивные сооружения JO-Б25Б-01 Семинар
DESCRIPTION:Предмет: Физкультурно-спортивные сооружения\nГруппа: JO-Б25Б-01\nПреподаватель: Шакирова Е.А.\nТип занятия: Семинар\nАудитория: 1‑1‑50
LOCATION:1‑1‑50
END:VEVENT
BEGIN:VEVENT
UID:938170_1477@kspu.ru
DTSTAMP:20260421T050115Z
DTSTART:20251216T052000Z
DTEND:20251216T065000Z
SUMMARY:Физкультурно-спортивные сооружения JO-Б25Б-02 Семинар
DESCRIPTION:Предмет: Физкультурно-спортивные сооружения\nГруппа: JO-Б25Б-02\nПреподаватель: Шакирова Е.А.\nТип занятия: Семинар\nАудитория: 1‑1‑50
LOCATION:1‑1‑50
END:VEVENT
BEGIN:VEVENT
UID:942301_1477@kspu.ru
DTSTAMP:20260421T050115Z
DTSTART:20251223T032000Z
DTEND:20251223T045000Z
SUMMARY:Физкультурно-спортивные сооружения JO-Б25Б-01 Зачёт
DESCRIPTION:Предмет: Физкультурно-спортивные сооружения\nГруппа: JO-Б25Б-01\nПреподаватель: Шакирова Е.А.\nТип занятия: Зачёт\nАудитория: 1‑1‑53
LOCATION:1‑1‑53
END:VEVENT
BEGIN:VEVENT
UID:942297_1477@kspu.ru
DTSTAMP:20260421T050115Z
DTSTART:20251223T070000Z
DTEND:20251223T083000Z
SUMMARY:Физкультурно-спортивные сооружения JO-Б25Б-02 Семинар
DESCRIPTION:Предмет: Физкультурно-спортивные сооружения\nГруппа: JO-Б25Б-02\nПреподаватель: Шакирова Е.А.\nТип занятия: Семинар\nАудитория: 1‑1‑53
LOCATION:1‑1‑53
END:VEVENT
BEGIN:VEVENT
UID:942300_1477@kspu.ru
DTSTAMP:20260421T050115Z
DTSTART:20251224T014000Z
DTEND:20251224T031000Z
SUMMARY:Физкультурно-спортивные сооружения JO-Б25Б-02 Зачёт
DESCRIPTION:Предмет: Физкультурно-спортивные сооружения\nГруппа: JO-Б25Б-02\nПреподаватель: Шакирова Е.А.\nТип занятия: Зачёт\nАудитория: 1‑1‑53
LOCATION:1‑1‑53
END:VEVENT
BEGIN:VEVENT
UID:1003246_1477@kspu.ru
DTSTAMP:20260421T050115Z
DTSTART:20260210T052000Z
DTEND:20260210T065000Z
SUMMARY:Организация и деятельность  спортивных клубов\, соревнований JO-Б21Б-01 Лекция
DESCRIPTION:Предмет: Организация и деятельность  спортивных клубов\, соревнований\nГруппа: JO-Б21Б-01\nПреподаватель: Шакирова Е.А.\nТип занятия: Лекция\nАудитория: 1‑1‑52
LOCATION:1‑1‑52
END:VEVENT
BEGIN:VEVENT
UID:965593_1477@kspu.ru
DTSTAMP:20260421T050115Z
DTSTART:20260217T014000Z
DTEND:20260217T031000Z
SUMMARY:Организация и деятельность  спортивных клубов\, соревнований JO-Б21Б-01 Лекция
DESCRIPTION:Предмет: Организация и деятельность  спортивных клубов\, соревнований\nГруппа: JO-Б21Б-01\nПреподаватель: Шакирова Е.А.\nТип занятия: Лекция\nАудитория: 1‑1‑52
LOCATION:1‑1‑52
END:VEVENT
BEGIN:VEVENT
UID:965594_1477@kspu.ru
DTSTAMP:20260421T050115Z
DTSTART:20260217T032000Z
DTEND:20260217T045000Z
SUMMARY:Организация и деятельность  спортивных клубов\, соревнований JO-Б21Б-01 Лекция
DESCRIPTION:Предмет: Организация и деятельность  спортивных клубов\, соревнований\nГруппа: JO-Б21Б-01\nПреподаватель: Шакирова Е.А.\nТип занятия: Лекция\nАудитория: 1‑1‑52
LOCATION:1‑1‑52
END:VEVENT
BEGIN:VEVENT
UID:1001309_1477@kspu.ru
DTSTAMP:20260421T050115Z
DTSTART:20260303T032000Z
DTEND:20260303T045000Z
SUMMARY:Организация и деятельность  спортивных клубов\, соревнований JO-Б21Б-01 Лекция
DESCRIPTION:Предмет: Организация и деятельность  спортивных клубов\, соревнований\nГруппа: JO-Б21Б-01\nПреподаватель: Шакирова Е.А.\nТип занятия: Лекция\nАудитория: 1‑1‑52
LOCATION:1‑1‑52
END:VEVENT
BEGIN:VEVENT
UID:965595_1477@kspu.ru
DTSTAMP:20260421T050115Z
DTSTART:20260303T052000Z
DTEND:20260303T065000Z
SUMMARY:Организация и деятельность  спортивных клубов\, соревнований JO-Б21Б-01 Лекция
DESCRIPTION:Предмет: Организация и деятельность  спортивных клубов\, соревнований\nГруппа: JO-Б21Б-01\nПреподаватель: Шакирова Е.А.\nТип занятия: Лекция\nАудитория: 1‑1‑52
LOCATION:1‑1‑52
END:VEVENT
BEGIN:VEVENT
UID:965596_1477@kspu.ru
DTSTAMP:20260421T050115Z
DTSTART:20260310T052000Z
DTEND:20260310T065000Z
SUMMARY:Организация и деятельность  спортивных клубов\, соревнований JO-Б21Б-01 Семинар
DESCRIPTION:Предмет: Организация и деятельность  спортивных клубов\, соревнований\nГруппа: JO-Б21Б-01\nПреподаватель: Шакирова Е.А.\nТип занятия: Семинар\nАудитория: 1‑4‑40
LOCATION:1‑4‑40
END:VEVENT
BEGIN:VEVENT
UID:1008922_1477@kspu.ru
DTSTAMP:20260421T050115Z
DTSTART:20260310T070000Z
DTEND:20260310T083000Z
SUMMARY:Организация и деятельность  спортивных клубов\, соревнований JO-Б21Б-01 Семинар
DESCRIPTION:Предмет: Организация и деятельность  спортивных клубов\, соревнований\nГруппа: JO-Б21Б-01\nПреподаватель: Шакирова Е.А.\nТип занятия: Семинар\nАудитория: 1‑4‑40
LOCATION:1‑4‑40
END:VEVENT
BEGIN:VEVENT
UID:965597_1477@kspu.ru
DTSTAMP:20260421T050115Z
DTSTART:20260317T052000Z
DTEND:20260317T065000Z
SUMMARY:Организация и деятельность  спортивных клубов\, соревнований JO-Б21Б-01 Семинар
DESCRIPTION:Предмет: Организация и деятельность  спортивных клубов\, соревнований\nГруппа: JO-Б21Б-01\nПреподаватель: Шакирова Е.А.\nТип занятия: Семинар\nАудитория: 1‑1‑52
LOCATION:1‑1‑52
END:VEVENT
BEGIN:VEVENT
UID:965605_1477@kspu.ru
DTSTAMP:20260421T050115Z
DTSTART:20260407T052000Z
DTEND:20260407T065000Z
SUMMARY:Организация и деятельность  спортивных клубов\, соревнований JO-Б21Б-01 Зачёт
DESCRIPTION:Предмет: Организация и деятельность  спортивных клубов\, соревнований\nГруппа: JO-Б21Б-01\nПреподаватель: Шакирова Е.А.\nТип занятия: Зачёт\nАудитория: 1‑4‑40
LOCATION:1‑4‑40
END:VEVENT
BEGIN:VEVENT
UID:965606_1477@kspu.ru
DTSTAMP:20260421T050115Z
DTSTART:20260407T070000Z
DTEND:20260407T083000Z
SUMMARY:Организация и деятельность  спортивных клубов\, соревнований JO-Б21Б-01 Зачёт
DESCRIPTION:Предмет: Организация и деятельность  спортивных клубов\, соревнований\nГруппа: JO-Б21Б-01\nПреподаватель: Шакирова Е.А.\nТип занятия: Зачёт\nАудитория: 1‑4‑40
LOCATION:1‑4‑40
END:VEVENT
BEGIN:VEVENT
UID:968171_1477@kspu.ru
DTSTAMP:20260421T050115Z
DTSTART:20260410T052000Z
DTEND:20260410T065000Z
SUMMARY:Спортивные сооружения и экипировка JO-Б25А-01 Лекция
DESCRIPTION:Предмет: Спортивные сооружения и экипировка\nГруппа: JO-Б25А-01\nПреподаватель: Шакирова Е.А.\nТип занятия: Лекция\nАудитория: 1‑1‑56
LOCATION:1‑1‑56
END:VEVENT
BEGIN:VEVENT
UID:968179_1477@kspu.ru
DTSTAMP:20260421T050115Z
DTSTART:20260410T070000Z
DTEND:20260410T083000Z
SUMMARY:Спортивные сооружения и экипировка JO-Б25А-01 Семинар
DESCRIPTION:Предмет: Спортивные сооружения и экипировка\nГруппа: JO-Б25А-01\nПреподаватель: Шакирова Е.А.\nТип занятия: Семинар\nАудитория: 1‑1‑56
LOCATION:1‑1‑56
END:VEVENT
BEGIN:VEVENT
UID:968194_1477@kspu.ru
DTSTAMP:20260421T050115Z
DTSTART:20260415T070000Z
DTEND:20260415T083000Z
SUMMARY:Спортивные сооружения и экипировка JO-Б25А-01 Лекция
DESCRIPTION:Предмет: Спортивные сооружения и экипировка\nГруппа: JO-Б25А-01\nПреподаватель: Шакирова Е.А.\nТип занятия: Лекция\nАудитория: 1‑1‑57
LOCATION:1‑1‑57
END:VEVENT
BEGIN:VEVENT
UID:968180_1477@kspu.ru
DTSTAMP:20260421T050115Z
DTSTART:20260417T032000Z
DTEND:20260417T045000Z
SUMMARY:Спортивные сооружения и экипировка JO-Б25А-01 Семинар
DESCRIPTION:Предмет: Спортивные сооружения и экипировка\nГруппа: JO-Б25А-01\nПреподаватель: Шакирова Е.А.\nТип занятия: Семинар\nАудитория: 1‑2‑74
LOCATION:1‑2‑74
END:VEVENT
BEGIN:VEVENT
UID:968172_1477@kspu.ru
DTSTAMP:20260421T050115Z
DTSTART:20260417T052000Z
DTEND:20260417T065000Z
SUMMARY:Спортивные сооружения и экипировка JO-Б25А-01 Лекция
DESCRIPTION:Предмет: Спортивные сооружения и экипировка\nГруппа: JO-Б25А-01\nПреподаватель: Шакирова Е.А.\nТип занятия: Лекция\nАудитория: 1‑2‑74
LOCATION:1‑2‑74
END:VEVENT
BEGIN:VEVENT
UID:1005376_1477@kspu.ru
DTSTAMP:20260421T050115Z
DTSTART:20260417T070000Z
DTEND:20260417T083000Z
SUMMARY:Организация киберспортивной деятельности ЗаО JO-Б24Б-01 Семинар
DESCRIPTION:Предмет: Организация киберспортивной деятельности ЗаО\nГруппа: JO-Б24Б-01\nПреподаватель: Шакирова Е.А.\nТип занятия: Семинар\nАудитория: Иные аудитории
LOCATION:Иные аудитории
END:VEVENT
BEGIN:VEVENT
UID:968173_1477@kspu.ru
DTSTAMP:20260421T050115Z
DTSTART:20260424T052000Z
DTEND:20260424T065000Z
SUMMARY:Спортивные сооружения и экипировка JO-Б25А-01 Лекция
DESCRIPTION:Предмет: Спортивные сооружения и экипировка\nГруппа: JO-Б25А-01\nПреподаватель: Шакирова Е.А.\nТип занятия: Лекция\nАудитория: 1‑2‑74
LOCATION:1‑2‑74
END:VEVENT
BEGIN:VEVENT
UID:1005380_1477@kspu.ru
DTSTAMP:20260421T050115Z
DTSTART:20260424T070000Z
DTEND:20260424T083000Z
SUMMARY:Организация киберспортивной деятельности ЗаО JO-Б24Б-01 Семинар
DESCRIPTION:Предмет: Организация киберспортивной деятельности ЗаО\nГруппа: JO-Б24Б-01\nПреподаватель: Шакирова Е.А.\nТип занятия: Семинар\nАудитория: Иные аудитории
LOCATION:Иные аудитории
END:VEVENT
BEGIN:VEVENT
UID:968181_1477@kspu.ru
DTSTAMP:20260421T050115Z
DTSTART:20260424T070000Z
DTEND:20260424T083000Z
SUMMARY:Спортивные сооружения и экипировка JO-Б25А-01 Семинар
DESCRIPTION:Предмет: Спортивные сооружения и экипировка\nГруппа: JO-Б25А-01\nПреподаватель: Шакирова Е.А.\nТип занятия: Семинар\nАудитория: 1‑1‑51
LOCATION:1‑1‑51
END:VEVENT
BEGIN:VEVENT
UID:1005377_1477@kspu.ru
DTSTAMP:20260421T050115Z
DTSTART:20260424T084000Z
DTEND:20260424T101000Z
SUMMARY:Организация киберспортивной деятельности ЗаО JO-Б24Б-01 Семинар
DESCRIPTION:Предмет: Организация киберспортивной деятельности ЗаО\nГруппа: JO-Б24Б-01\nПреподаватель: Шакирова Е.А.\nТип занятия: Семинар\nАудитория: Иные аудитории
LOCATION:Иные аудитории
END:VEVENT
BEGIN:VEVENT
UID:1005373_1477@kspu.ru
DTSTAMP:20260421T050115Z
DTSTART:20260429T070000Z
DTEND:20260429T083000Z
SUMMARY:Организация киберспортивной деятельности ЗаО JO-Б24Б-01 Семинар
DESCRIPTION:Предмет: Организация киберспортивной деятельности ЗаО\nГруппа: JO-Б24Б-01\nПреподаватель: Шакирова Е.А.\nТип занятия: Семинар\nАудитория: Иные аудитории
LOCATION:Иные аудитории
END:VEVENT
BEGIN:VEVENT
UID:1005374_1477@kspu.ru
DTSTAMP:20260421T050115Z
DTSTART:20260429T084000Z
DTEND:20260429T101000Z
SUMMARY:Организация киберспортивной деятельности ЗаО JO-Б24Б-01 Семинар
DESCRIPTION:Предмет: Организация киберспортивной деятельности ЗаО\nГруппа: JO-Б24Б-01\nПреподаватель: Шакирова Е.А.\nТип занятия: Семинар\nАудитория: Иные аудитории
LOCATION:Иные аудитории
END:VEVENT
BEGIN:VEVENT
UID:1005375_1477@kspu.ru
DTSTAMP:20260421T050115Z
DTSTART:20260430T052000Z
DTEND:20260430T065000Z
SUMMARY:Организация киберспортивной деятельности ЗаО JO-Б24Б-01 Семинар
DESCRIPTION:Предмет: Организация киберспортивной деятельности ЗаО\nГруппа: JO-Б24Б-01\nПреподаватель: Шакирова Е.А.\nТип занятия: Семинар\nАудитория: Иные аудитории
LOCATION:Иные аудитории
END:VEVENT
BEGIN:VEVENT
UID:1005372_1477@kspu.ru
DTSTAMP:20260421T050115Z
DTSTART:20260505T032000Z
DTEND:20260505T045000Z
SUMMARY:Организация киберспортивной деятельности ЗаО JO-Б24Б-01 Семинар
DESCRIPTION:Предмет: Организация киберспортивной деятельности ЗаО\nГруппа: JO-Б24Б-01\nПреподаватель: Шакирова Е.А.\nТип занятия: Семинар\nАудитория: Иные аудитории
LOCATION:Иные аудитории
END:VEVENT
BEGIN:VEVENT
UID:1005381_1477@kspu.ru
DTSTAMP:20260421T050115Z
DTSTART:20260505T052000Z
DTEND:20260505T065000Z
SUMMARY:Организация киберспортивной деятельности ЗаО JO-Б24Б-01 Семинар
DESCRIPTION:Предмет: Организация киберспортивной деятельности ЗаО\nГруппа: JO-Б24Б-01\nПреподаватель: Шакирова Е.А.\nТип занятия: Семинар\nАудитория: Иные аудитории
LOCATION:Иные аудитории
END:VEVENT
BEGIN:VEVENT
UID:1005369_1477@kspu.ru
DTSTAMP:20260421T050115Z
DTSTART:20260506T032000Z
DTEND:20260506T045000Z
SUMMARY:Организация киберспортивной деятельности ЗаО JO-Б24Б-01 Семинар
DESCRIPTION:Предмет: Организация киберспортивной деятельности ЗаО\nГруппа: JO-Б24Б-01\nПреподаватель: Шакирова Е.А.\nТип занятия: Семинар\nАудитория: Иные аудитории
LOCATION:Иные аудитории
END:VEVENT
BEGIN:VEVENT
UID:1005370_1477@kspu.ru
DTSTAMP:20260421T050115Z
DTSTART:20260506T052000Z
DTEND:20260506T065000Z
SUMMARY:Организация киберспортивной деятельности ЗаО JO-Б24Б-01 Семинар
DESCRIPTION:Предмет: Организация киберспортивной деятельности ЗаО\nГруппа: JO-Б24Б-01\nПреподаватель: Шакирова Е.А.\nТип занятия: Семинар\nАудитория: Иные аудитории
LOCATION:Иные аудитории
END:VEVENT
BEGIN:VEVENT
UID:968183_1477@kspu.ru
DTSTAMP:20260421T050115Z
DTSTART:20260508T032000Z
DTEND:20260508T045000Z
SUMMARY:Спортивные сооружения и экипировка JO-Б25А-01 Семинар
DESCRIPTION:Предмет: Спортивные сооружения и экипировка\nГруппа: JO-Б25А-01\nПреподаватель: Шакирова Е.А.\nТип занятия: Семинар\nАудитория: 1‑2‑74
LOCATION:1‑2‑74
END:VEVENT
BEGIN:VEVENT
UID:968175_1477@kspu.ru
DTSTAMP:20260421T050115Z
DTSTART:20260508T052000Z
DTEND:20260508T065000Z
SUMMARY:Спортивные сооружения и экипировка JO-Б25А-01 Лекция
DESCRIPTION:Предмет: Спортивные сооружения и экипировка\nГруппа: JO-Б25А-01\nПреподаватель: Шакирова Е.А.\nТип занятия: Лекция\nАудитория: 1‑2‑74
LOCATION:1‑2‑74
END:VEVENT
BEGIN:VEVENT
UID:1005382_1477@kspu.ru
DTSTAMP:20260421T050115Z
DTSTART:20260512T052000Z
DTEND:20260512T065000Z
SUMMARY:Организация киберспортивной деятельности ЗаО JO-Б24Б-01 Семинар
DESCRIPTION:Предмет: Организация киберспортивной деятельности ЗаО\nГруппа: JO-Б24Б-01\nПреподаватель: Шакирова Е.А.\nТип занятия: Семинар\nАудитория: Иные аудитории
LOCATION:Иные аудитории
END:VEVENT
BEGIN:VEVENT
UID:968184_1477@kspu.ru
DTSTAMP:20260421T050115Z
DTSTART:20260515T032000Z
DTEND:20260515T045000Z
SUMMARY:Спортивные сооружения и экипировка JO-Б25А-01 Семинар
DESCRIPTION:Предмет: Спортивные сооружения и экипировка\nГруппа: JO-Б25А-01\nПреподаватель: Шакирова Е.А.\nТип занятия: Семинар\nАудитория: 1‑4‑40
LOCATION:1‑4‑40
END:VEVENT
BEGIN:VEVENT
UID:968176_1477@kspu.ru
DTSTAMP:20260421T050115Z
DTSTART:20260515T052000Z
DTEND:20260515T065000Z
SUMMARY:Спортивные сооружения и экипировка JO-Б25А-01 Лекция
DESCRIPTION:Предмет: Спортивные сооружения и экипировка\nГруппа: JO-Б25А-01\nПреподаватель: Шакирова Е.А.\nТип занятия: Лекция\nАудитория: 1‑4‑40
LOCATION:1‑4‑40
END:VEVENT
BEGIN:VEVENT
UID:968177_1477@kspu.ru
DTSTAMP:20260421T050115Z
DTSTART:20260522T052000Z
DTEND:20260522T065000Z
SUMMARY:Спортивные сооружения и экипировка JO-Б25А-01 Лекция
DESCRIPTION:Предмет: Спортивные сооружения и экипировка\nГруппа: JO-Б25А-01\nПреподаватель: Шакирова Е.А.\nТип занятия: Лекция\nАудитория: 1‑2‑74
LOCATION:1‑2‑74
END:VEVENT
BEGIN:VEVENT
UID:968185_1477@kspu.ru
DTSTAMP:20260421T050115Z
DTSTART:20260522T070000Z
DTEND:20260522T083000Z
SUMMARY:Спортивные сооружения и экипировка JO-Б25А-01 Семинар
DESCRIPTION:Предмет: Спортивные сооружения и экипировка\nГруппа: JO-Б25А-01\nПреподаватель: Шакирова Е.А.\nТип занятия: Семинар\nАудитория: 1‑2‑74
LOCATION:1‑2‑74
END:VEVENT
BEGIN:VEVENT
UID:968188_1477@kspu.ru
DTSTAMP:20260421T050115Z
DTSTART:20260529T032000Z
DTEND:20260529T045000Z
SUMMARY:Спортивные сооружения и экипировка JO-Б25А-01 Лекция
DESCRIPTION:Предмет: Спортивные сооружения и экипировка\nГруппа: JO-Б25А-01\nПреподаватель: Шакирова Е.А.\nТип занятия: Лекция\nАудитория: 1‑2‑74
LOCATION:1‑2‑74
END:VEVENT
BEGIN:VEVENT
UID:968178_1477@kspu.ru
DTSTAMP:20260421T050115Z
DTSTART:20260529T052000Z
DTEND:20260529T065000Z
SUMMARY:Спортивные сооружения и экипировка JO-Б25А-01 Семинар
DESCRIPTION:Предмет: Спортивные сооружения и экипировка\nГруппа: JO-Б25А-01\nПреподаватель: Шакирова Е.А.\nТип занятия: Семинар\nАудитория: 1‑2‑74
LOCATION:1‑2‑74
END:VEVENT
BEGIN:VEVENT
UID:968186_1477@kspu.ru
DTSTAMP:20260421T050115Z
DTSTART:20260529T070000Z
DTEND:20260529T083000Z
SUMMARY:Спортивные сооружения и экипировка JO-Б25А-01 Семинар
DESCRIPTION:Предмет: Спортивные сооружения и экипировка\nГруппа: JO-Б25А-01\nПреподаватель: Шакирова Е.А.\nТип занятия: Семинар\nАудитория: 1‑2‑74
LOCATION:1‑2‑74
END:VEVENT
BEGIN:VEVENT
UID:968187_1477@kspu.ru
DTSTAMP:20260421T050115Z
DTSTART:20260605T032000Z
DTEND:20260605T045000Z
SUMMARY:Спортивные сооружения и экипировка JO-Б25А-01 Семинар
DESCRIPTION:Предмет: Спортивные сооружения и экипировка\nГруппа: JO-Б25А-01\nПреподаватель: Шакирова Е.А.\nТип занятия: Семинар\nАудитория: 1‑2‑74
LOCATION:1‑2‑74
END:VEVENT
BEGIN:VEVENT
UID:968189_1477@kspu.ru
DTSTAMP:20260421T050115Z
DTSTART:20260605T052000Z
DTEND:20260605T065000Z
SUMMARY:Спортивные сооружения и экипировка JO-Б25А-01 Семинар
DESCRIPTION:Предмет: Спортивные сооружения и экипировка\nГруппа: JO-Б25А-01\nПреподаватель: Шакирова Е.А.\nТип занятия: Семинар\nАудитория: 1‑2‑74
LOCATION:1‑2‑74
END:VEVENT
BEGIN:VEVENT
UID:1010869_1477@kspu.ru
DTSTAMP:20260421T050115Z
DTSTART:20260630T052000Z
DTEND:20260630T065000Z
SUMMARY:Спортивные сооружения и экипировка JO-Б25А-01 Консультация
DESCRIPTION:Предмет: Спортивные сооружения и экипировка\nГруппа: JO-Б25А-01\nПреподаватель: Шакирова Е.А.\nТип занятия: Консультация\nАудитория: 1‑1‑49
LOCATION:1‑1‑49
END:VEVENT
BEGIN:VEVENT
UID:1010870_1477@kspu.ru
DTSTAMP:20260421T050115Z
DTSTART:20260703T032000Z
DTEND:20260703T045000Z
SUMMARY:Спортивные сооружения и экипировка JO-Б25А-01 Экзамен
DESCRIPTION:Предмет: Спортивные сооружения и экипировка\nГруппа: JO-Б25А-01\nПреподаватель: Шакирова Е.А.\nТип занятия: Экзамен\nАудитория: 1‑1‑49
LOCATION:1‑1‑49
END:VEVENT
END:VCALENDAR