BEGIN:VCALENDAR
VERSION:2.0
PRODID:-//KSPU//Teacher Schedule Calendar//EN
CALSCALE:GREGORIAN
METHOD:PUBLISH
X-WR-CALNAME:Кожанова Е.А. Расписание
X-PUBLISHED-TTL:PT15M
BEGIN:VEVENT
UID:918853_1475@kspu.ru
DTSTAMP:20260419T193906Z
DTSTART:20250901T032000Z
DTEND:20250901T045000Z
SUMMARY:Организационное собрание MO-П25АК-01 Прочее (Подгруппа A)
DESCRIPTION:Предмет: Организационное собрание\nГруппа: MO-П25АК-01\nПреподаватель: Кожанова Е.А.\nТип занятия: Прочее\nАудитория: 2‑2‑09
LOCATION:2‑2‑09
END:VEVENT
BEGIN:VEVENT
UID:918855_1475@kspu.ru
DTSTAMP:20260419T193906Z
DTSTART:20250901T052000Z
DTEND:20250901T065000Z
SUMMARY:Организационное собрание MO-П25АК-01 Прочее (Подгруппа A)
DESCRIPTION:Предмет: Организационное собрание\nГруппа: MO-П25АК-01\nПреподаватель: Кожанова Е.А.\nТип занятия: Прочее\nАудитория: 2‑2‑09
LOCATION:2‑2‑09
END:VEVENT
BEGIN:VEVENT
UID:918988_1475@kspu.ru
DTSTAMP:20260419T193906Z
DTSTART:20250902T032000Z
DTEND:20250902T045000Z
SUMMARY:Организационное собрание MO-П25АК-01 Прочее (Подгруппа A)
DESCRIPTION:Предмет: Организационное собрание\nГруппа: MO-П25АК-01\nПреподаватель: Кожанова Е.А.\nТип занятия: Прочее\nАудитория: 2‑2‑09
LOCATION:2‑2‑09
END:VEVENT
BEGIN:VEVENT
UID:919001_1475@kspu.ru
DTSTAMP:20260419T193906Z
DTSTART:20250902T052000Z
DTEND:20250902T065000Z
SUMMARY:Организационное собрание MO-П25АК-01 Прочее
DESCRIPTION:Предмет: Организационное собрание\nГруппа: MO-П25АК-01\nПреподаватель: Кожанова Е.А.\nТип занятия: Прочее\nАудитория: 2‑2‑09
LOCATION:2‑2‑09
END:VEVENT
BEGIN:VEVENT
UID:919041_1475@kspu.ru
DTSTAMP:20260419T193906Z
DTSTART:20250902T070000Z
DTEND:20250902T083000Z
SUMMARY:Кураторский час MO-П25АК-01 Прочее
DESCRIPTION:Предмет: Кураторский час\nГруппа: MO-П25АК-01\nПреподаватель: Кожанова Е.А.\nТип занятия: Прочее\nАудитория: 2‑2‑09
LOCATION:2‑2‑09
END:VEVENT
BEGIN:VEVENT
UID:919061_1475@kspu.ru
DTSTAMP:20260419T193906Z
DTSTART:20250903T032000Z
DTEND:20250903T045000Z
SUMMARY:Организационное собрание MO-П25АК-01 Прочее
DESCRIPTION:Предмет: Организационное собрание\nГруппа: MO-П25АК-01\nПреподаватель: Кожанова Е.А.\nТип занятия: Прочее\nАудитория: 2‑2‑09
LOCATION:2‑2‑09
END:VEVENT
BEGIN:VEVENT
UID:919080_1475@kspu.ru
DTSTAMP:20260419T193906Z
DTSTART:20250903T052000Z
DTEND:20250903T065000Z
SUMMARY:Организационное собрание MO-П25АК-01 Прочее
DESCRIPTION:Предмет: Организационное собрание\nГруппа: MO-П25АК-01\nПреподаватель: Кожанова Е.А.\nТип занятия: Прочее\nАудитория: 2‑2‑09
LOCATION:2‑2‑09
END:VEVENT
BEGIN:VEVENT
UID:948004_1475@kspu.ru
DTSTAMP:20260419T193906Z
DTSTART:20251015T014000Z
DTEND:20251015T031000Z
SUMMARY:Организационное собрание MO-П25АК-01 Прочее
DESCRIPTION:Предмет: Организационное собрание\nГруппа: MO-П25АК-01\nПреподаватель: Кожанова Е.А.\nТип занятия: Прочее\nАудитория: Иные аудитории\nПримечание: пр. Мира 46
LOCATION:Иные аудитории
END:VEVENT
BEGIN:VEVENT
UID:949573_1475@kspu.ru
DTSTAMP:20260419T193906Z
DTSTART:20251022T014000Z
DTEND:20251022T031000Z
SUMMARY:История России MO-П25АК-02 Семинар
DESCRIPTION:Предмет: История России\nГруппа: MO-П25АК-02\nПреподаватель: Кожанова Е.А.\nТип занятия: Семинар\nАудитория: 2‑1‑04
LOCATION:2‑1‑04
END:VEVENT
BEGIN:VEVENT
UID:949574_1475@kspu.ru
DTSTAMP:20260419T193906Z
DTSTART:20251022T032000Z
DTEND:20251022T045000Z
SUMMARY:История России MO-П25АК-01 Семинар
DESCRIPTION:Предмет: История России\nГруппа: MO-П25АК-01\nПреподаватель: Кожанова Е.А.\nТип занятия: Семинар\nАудитория: 2‑1‑04
LOCATION:2‑1‑04
END:VEVENT
BEGIN:VEVENT
UID:949690_1475@kspu.ru
DTSTAMP:20260419T193906Z
DTSTART:20251029T014000Z
DTEND:20251029T031000Z
SUMMARY:История России MO-П25АК-02 Семинар
DESCRIPTION:Предмет: История России\nГруппа: MO-П25АК-02\nПреподаватель: Кожанова Е.А.\nТип занятия: Семинар\nАудитория: 2‑1‑04
LOCATION:2‑1‑04
END:VEVENT
BEGIN:VEVENT
UID:949691_1475@kspu.ru
DTSTAMP:20260419T193906Z
DTSTART:20251029T032000Z
DTEND:20251029T045000Z
SUMMARY:История России MO-П25АК-01 Семинар
DESCRIPTION:Предмет: История России\nГруппа: MO-П25АК-01\nПреподаватель: Кожанова Е.А.\nТип занятия: Семинар\nАудитория: 2‑1‑04
LOCATION:2‑1‑04
END:VEVENT
BEGIN:VEVENT
UID:951042_1475@kspu.ru
DTSTAMP:20260419T193906Z
DTSTART:20251103T032000Z
DTEND:20251103T045000Z
SUMMARY:Адаптационный курс MO-Б25Б-01 Семинар
DESCRIPTION:Предмет: Адаптационный курс\nГруппа: MO-Б25Б-01\nПреподаватель: Кожанова Е.А.\nТип занятия: Семинар\nАудитория: 2‑1‑02
LOCATION:2‑1‑02
END:VEVENT
BEGIN:VEVENT
UID:951043_1475@kspu.ru
DTSTAMP:20260419T193906Z
DTSTART:20251103T052000Z
DTEND:20251103T065000Z
SUMMARY:Адаптационный курс MO-Б25В-01 Семинар
DESCRIPTION:Предмет: Адаптационный курс\nГруппа: MO-Б25В-01\nПреподаватель: Кожанова Е.А.\nТип занятия: Семинар\nАудитория: 2‑1‑02
LOCATION:2‑1‑02
END:VEVENT
BEGIN:VEVENT
UID:951047_1475@kspu.ru
DTSTAMP:20260419T193906Z
DTSTART:20251103T084000Z
DTEND:20251103T101000Z
SUMMARY:Адаптационный курс MO-П25АК-02 Семинар
DESCRIPTION:Предмет: Адаптационный курс\nГруппа: MO-П25АК-02\nПреподаватель: Кожанова Е.А.\nТип занятия: Семинар\nАудитория: 2‑1‑04
LOCATION:2‑1‑04
END:VEVENT
BEGIN:VEVENT
UID:951044_1475@kspu.ru
DTSTAMP:20260419T193906Z
DTSTART:20251107T052000Z
DTEND:20251107T065000Z
SUMMARY:Адаптационный курс MO-Б25А-01 Семинар
DESCRIPTION:Предмет: Адаптационный курс\nГруппа: MO-Б25А-01\nПреподаватель: Кожанова Е.А.\nТип занятия: Семинар\nАудитория: 2‑2‑03
LOCATION:2‑2‑03
END:VEVENT
BEGIN:VEVENT
UID:951046_1475@kspu.ru
DTSTAMP:20260419T193906Z
DTSTART:20251107T070000Z
DTEND:20251107T083000Z
SUMMARY:Адаптационный курс MO-П25АК-01 Семинар
DESCRIPTION:Предмет: Адаптационный курс\nГруппа: MO-П25АК-01\nПреподаватель: Кожанова Е.А.\nТип занятия: Семинар\nАудитория: 2‑1‑09
LOCATION:2‑1‑09
END:VEVENT
BEGIN:VEVENT
UID:951045_1475@kspu.ru
DTSTAMP:20260419T193906Z
DTSTART:20251107T084000Z
DTEND:20251107T101000Z
SUMMARY:Адаптационный курс MO-Б25А-02 Семинар
DESCRIPTION:Предмет: Адаптационный курс\nГруппа: MO-Б25А-02\nПреподаватель: Кожанова Е.А.\nТип занятия: Семинар\nАудитория: 2‑2‑03
LOCATION:2‑2‑03
END:VEVENT
BEGIN:VEVENT
UID:952614_1475@kspu.ru
DTSTAMP:20260419T193906Z
DTSTART:20251108T032000Z
DTEND:20251108T045000Z
SUMMARY:История России MO-П25АК-02 Семинар
DESCRIPTION:Предмет: История России\nГруппа: MO-П25АК-02\nПреподаватель: Кожанова Е.А.\nТип занятия: Семинар\nАудитория: 2‑2‑05
LOCATION:2‑2‑05
END:VEVENT
BEGIN:VEVENT
UID:952615_1475@kspu.ru
DTSTAMP:20260419T193906Z
DTSTART:20251108T052000Z
DTEND:20251108T065000Z
SUMMARY:История России MO-П25АК-01 Семинар
DESCRIPTION:Предмет: История России\nГруппа: MO-П25АК-01\nПреподаватель: Кожанова Е.А.\nТип занятия: Семинар\nАудитория: 2‑2‑05
LOCATION:2‑2‑05
END:VEVENT
BEGIN:VEVENT
UID:951052_1475@kspu.ru
DTSTAMP:20260419T193906Z
DTSTART:20251110T032000Z
DTEND:20251110T045000Z
SUMMARY:Адаптационный курс MO-П25АК-01 Семинар
DESCRIPTION:Предмет: Адаптационный курс\nГруппа: MO-П25АК-01\nПреподаватель: Кожанова Е.А.\nТип занятия: Семинар\nАудитория: 2‑2‑03
LOCATION:2‑2‑03
END:VEVENT
BEGIN:VEVENT
UID:951053_1475@kspu.ru
DTSTAMP:20260419T193906Z
DTSTART:20251110T084000Z
DTEND:20251110T101000Z
SUMMARY:Адаптационный курс MO-Б25А-02 Семинар
DESCRIPTION:Предмет: Адаптационный курс\nГруппа: MO-Б25А-02\nПреподаватель: Кожанова Е.А.\nТип занятия: Семинар\nАудитория: 2‑2‑03
LOCATION:2‑2‑03
END:VEVENT
BEGIN:VEVENT
UID:951050_1475@kspu.ru
DTSTAMP:20260419T193906Z
DTSTART:20251112T032000Z
DTEND:20251112T045000Z
SUMMARY:Адаптационный курс MO-П25АК-02 Семинар
DESCRIPTION:Предмет: Адаптационный курс\nГруппа: MO-П25АК-02\nПреподаватель: Кожанова Е.А.\nТип занятия: Семинар\nАудитория: 2‑2‑12
LOCATION:2‑2‑12
END:VEVENT
BEGIN:VEVENT
UID:951048_1475@kspu.ru
DTSTAMP:20260419T193906Z
DTSTART:20251112T070000Z
DTEND:20251112T083000Z
SUMMARY:Адаптационный курс MO-Б25В-01 Семинар
DESCRIPTION:Предмет: Адаптационный курс\nГруппа: MO-Б25В-01\nПреподаватель: Кожанова Е.А.\nТип занятия: Семинар\nАудитория: 2‑1‑10
LOCATION:2‑1‑10
END:VEVENT
BEGIN:VEVENT
UID:951051_1475@kspu.ru
DTSTAMP:20260419T193906Z
DTSTART:20251112T084000Z
DTEND:20251112T101000Z
SUMMARY:Адаптационный курс MO-Б25Б-01 Семинар
DESCRIPTION:Предмет: Адаптационный курс\nГруппа: MO-Б25Б-01\nПреподаватель: Кожанова Е.А.\nТип занятия: Семинар\nАудитория: 2‑2‑12
LOCATION:2‑2‑12
END:VEVENT
BEGIN:VEVENT
UID:951054_1475@kspu.ru
DTSTAMP:20260419T193906Z
DTSTART:20251113T052000Z
DTEND:20251113T065000Z
SUMMARY:Адаптационный курс MO-Б25А-01 Семинар
DESCRIPTION:Предмет: Адаптационный курс\nГруппа: MO-Б25А-01\nПреподаватель: Кожанова Е.А.\nТип занятия: Семинар\nАудитория: 2‑2‑05
LOCATION:2‑2‑05
END:VEVENT
BEGIN:VEVENT
UID:952617_1475@kspu.ru
DTSTAMP:20260419T193906Z
DTSTART:20251115T032000Z
DTEND:20251115T045000Z
SUMMARY:История России MO-П25АК-02 Семинар
DESCRIPTION:Предмет: История России\nГруппа: MO-П25АК-02\nПреподаватель: Кожанова Е.А.\nТип занятия: Семинар\nАудитория: 2‑1‑02
LOCATION:2‑1‑02
END:VEVENT
BEGIN:VEVENT
UID:952618_1475@kspu.ru
DTSTAMP:20260419T193906Z
DTSTART:20251115T052000Z
DTEND:20251115T065000Z
SUMMARY:История России MO-П25АК-01 Семинар
DESCRIPTION:Предмет: История России\nГруппа: MO-П25АК-01\nПреподаватель: Кожанова Е.А.\nТип занятия: Семинар\nАудитория: 2‑1‑02
LOCATION:2‑1‑02
END:VEVENT
BEGIN:VEVENT
UID:953524_1475@kspu.ru
DTSTAMP:20260419T193906Z
DTSTART:20251115T070000Z
DTEND:20251115T083000Z
SUMMARY:Кураторский час MO-П25АК-02 Прочее
DESCRIPTION:Предмет: Кураторский час\nГруппа: MO-П25АК-02\nПреподаватель: Кожанова Е.А.\nТип занятия: Прочее\nАудитория: 2‑2‑10
LOCATION:2‑2‑10
END:VEVENT
BEGIN:VEVENT
UID:953523_1475@kspu.ru
DTSTAMP:20260419T193906Z
DTSTART:20251115T070000Z
DTEND:20251115T083000Z
SUMMARY:Кураторский час MO-П25АК-01 Прочее
DESCRIPTION:Предмет: Кураторский час\nГруппа: MO-П25АК-01\nПреподаватель: Кожанова Е.А.\nТип занятия: Прочее\nАудитория: 2‑2‑10
LOCATION:2‑2‑10
END:VEVENT
BEGIN:VEVENT
UID:954409_1475@kspu.ru
DTSTAMP:20260419T193906Z
DTSTART:20251117T032000Z
DTEND:20251117T045000Z
SUMMARY:Вводное занятие по самостоятельной работе в научной библиотеке КГПУ MO-П25АК-01 Прочее (Подгруппа A)
DESCRIPTION:Предмет: Вводное занятие по самостоятельной работе в научной библиотеке КГПУ\nГруппа: MO-П25АК-01\nПреподаватель: Кожанова Е.А.\nТип занятия: Прочее\nАудитория: Иные аудитории\nПримечание: Ады Лебедевой 89\, 1-02 Библиотека
LOCATION:Иные аудитории
END:VEVENT
BEGIN:VEVENT
UID:953525_1475@kspu.ru
DTSTAMP:20260419T193906Z
DTSTART:20251118T052000Z
DTEND:20251118T065000Z
SUMMARY:Кураторский час MO-П25АК-01 Прочее
DESCRIPTION:Предмет: Кураторский час\nГруппа: MO-П25АК-01\nПреподаватель: Кожанова Е.А.\nТип занятия: Прочее\nАудитория: 2‑2‑10
LOCATION:2‑2‑10
END:VEVENT
BEGIN:VEVENT
UID:953527_1475@kspu.ru
DTSTAMP:20260419T193906Z
DTSTART:20251118T052000Z
DTEND:20251118T065000Z
SUMMARY:Кураторский час MO-П25АК-02 Прочее
DESCRIPTION:Предмет: Кураторский час\nГруппа: MO-П25АК-02\nПреподаватель: Кожанова Е.А.\nТип занятия: Прочее\nАудитория: 2‑2‑10
LOCATION:2‑2‑10
END:VEVENT
BEGIN:VEVENT
UID:951059_1475@kspu.ru
DTSTAMP:20260419T193906Z
DTSTART:20251118T070000Z
DTEND:20251118T083000Z
SUMMARY:Адаптационный курс MO-Б25А-01 Семинар
DESCRIPTION:Предмет: Адаптационный курс\nГруппа: MO-Б25А-01\nПреподаватель: Кожанова Е.А.\nТип занятия: Семинар\nАудитория: 2‑1‑09
LOCATION:2‑1‑09
END:VEVENT
BEGIN:VEVENT
UID:951060_1475@kspu.ru
DTSTAMP:20260419T193906Z
DTSTART:20251118T084000Z
DTEND:20251118T101000Z
SUMMARY:Адаптационный курс MO-Б25А-02 Семинар
DESCRIPTION:Предмет: Адаптационный курс\nГруппа: MO-Б25А-02\nПреподаватель: Кожанова Е.А.\nТип занятия: Семинар\nАудитория: 2‑1‑15
LOCATION:2‑1‑15
END:VEVENT
BEGIN:VEVENT
UID:951057_1475@kspu.ru
DTSTAMP:20260419T193906Z
DTSTART:20251119T052000Z
DTEND:20251119T065000Z
SUMMARY:Адаптационный курс MO-Б25В-01 Семинар
DESCRIPTION:Предмет: Адаптационный курс\nГруппа: MO-Б25В-01\nПреподаватель: Кожанова Е.А.\nТип занятия: Семинар\nАудитория: 2‑2‑12
LOCATION:2‑2‑12
END:VEVENT
BEGIN:VEVENT
UID:951055_1475@kspu.ru
DTSTAMP:20260419T193906Z
DTSTART:20251121T032000Z
DTEND:20251121T045000Z
SUMMARY:Адаптационный курс MO-П25АК-01 Семинар
DESCRIPTION:Предмет: Адаптационный курс\nГруппа: MO-П25АК-01\nПреподаватель: Кожанова Е.А.\nТип занятия: Семинар\nАудитория: 2‑1‑04
LOCATION:2‑1‑04
END:VEVENT
BEGIN:VEVENT
UID:951056_1475@kspu.ru
DTSTAMP:20260419T193906Z
DTSTART:20251121T070000Z
DTEND:20251121T083000Z
SUMMARY:Адаптационный курс MO-П25АК-02 Семинар
DESCRIPTION:Предмет: Адаптационный курс\nГруппа: MO-П25АК-02\nПреподаватель: Кожанова Е.А.\nТип занятия: Семинар\nАудитория: 2‑1‑08
LOCATION:2‑1‑08
END:VEVENT
BEGIN:VEVENT
UID:951058_1475@kspu.ru
DTSTAMP:20260419T193906Z
DTSTART:20251121T084000Z
DTEND:20251121T101000Z
SUMMARY:Адаптационный курс MO-Б25Б-01 Семинар
DESCRIPTION:Предмет: Адаптационный курс\nГруппа: MO-Б25Б-01\nПреподаватель: Кожанова Е.А.\nТип занятия: Семинар\nАудитория: 2‑2‑02
LOCATION:2‑2‑02
END:VEVENT
BEGIN:VEVENT
UID:952619_1475@kspu.ru
DTSTAMP:20260419T193906Z
DTSTART:20251122T032000Z
DTEND:20251122T045000Z
SUMMARY:История России MO-П25АК-02 Семинар
DESCRIPTION:Предмет: История России\nГруппа: MO-П25АК-02\nПреподаватель: Кожанова Е.А.\nТип занятия: Семинар\nАудитория: 2‑1‑09
LOCATION:2‑1‑09
END:VEVENT
BEGIN:VEVENT
UID:952620_1475@kspu.ru
DTSTAMP:20260419T193906Z
DTSTART:20251122T052000Z
DTEND:20251122T065000Z
SUMMARY:История России MO-П25АК-01 Семинар
DESCRIPTION:Предмет: История России\nГруппа: MO-П25АК-01\nПреподаватель: Кожанова Е.А.\nТип занятия: Семинар\nАудитория: 2‑1‑09
LOCATION:2‑1‑09
END:VEVENT
BEGIN:VEVENT
UID:952663_1475@kspu.ru
DTSTAMP:20260419T193906Z
DTSTART:20251211T014000Z
DTEND:20251211T031000Z
SUMMARY:История России MO-П25АК-01 Семинар
DESCRIPTION:Предмет: История России\nГруппа: MO-П25АК-01\nПреподаватель: Кожанова Е.А.\nТип занятия: Семинар\nАудитория: 2‑1‑09
LOCATION:2‑1‑09
END:VEVENT
BEGIN:VEVENT
UID:952664_1475@kspu.ru
DTSTAMP:20260419T193906Z
DTSTART:20251211T032000Z
DTEND:20251211T045000Z
SUMMARY:История России MO-П25АК-02 Семинар
DESCRIPTION:Предмет: История России\nГруппа: MO-П25АК-02\nПреподаватель: Кожанова Е.А.\nТип занятия: Семинар\nАудитория: 2‑1‑09
LOCATION:2‑1‑09
END:VEVENT
BEGIN:VEVENT
UID:953481_1475@kspu.ru
DTSTAMP:20260419T193906Z
DTSTART:20251215T014000Z
DTEND:20251215T031000Z
SUMMARY:История России MO-П25АК-02 Семинар
DESCRIPTION:Предмет: История России\nГруппа: MO-П25АК-02\nПреподаватель: Кожанова Е.А.\nТип занятия: Семинар\nАудитория: 2‑1‑04
LOCATION:2‑1‑04
END:VEVENT
BEGIN:VEVENT
UID:953480_1475@kspu.ru
DTSTAMP:20260419T193906Z
DTSTART:20251215T032000Z
DTEND:20251215T045000Z
SUMMARY:История России MO-П25АК-01 Семинар
DESCRIPTION:Предмет: История России\nГруппа: MO-П25АК-01\nПреподаватель: Кожанова Е.А.\nТип занятия: Семинар\nАудитория: 2‑1‑10
LOCATION:2‑1‑10
END:VEVENT
BEGIN:VEVENT
UID:953483_1475@kspu.ru
DTSTAMP:20260419T193906Z
DTSTART:20251219T032000Z
DTEND:20251219T045000Z
SUMMARY:История России MO-П25АК-02 Семинар
DESCRIPTION:Предмет: История России\nГруппа: MO-П25АК-02\nПреподаватель: Кожанова Е.А.\nТип занятия: Семинар\nАудитория: 2‑2‑05
LOCATION:2‑2‑05
END:VEVENT
BEGIN:VEVENT
UID:953482_1475@kspu.ru
DTSTAMP:20260419T193906Z
DTSTART:20251219T070000Z
DTEND:20251219T083000Z
SUMMARY:История России MO-П25АК-01 Семинар
DESCRIPTION:Предмет: История России\nГруппа: MO-П25АК-01\nПреподаватель: Кожанова Е.А.\nТип занятия: Семинар\nАудитория: 2‑2‑05
LOCATION:2‑2‑05
END:VEVENT
BEGIN:VEVENT
UID:953485_1475@kspu.ru
DTSTAMP:20260419T193906Z
DTSTART:20251222T032000Z
DTEND:20251222T045000Z
SUMMARY:История России MO-П25АК-01 Семинар
DESCRIPTION:Предмет: История России\nГруппа: MO-П25АК-01\nПреподаватель: Кожанова Е.А.\nТип занятия: Семинар\nАудитория: 2‑1‑04
LOCATION:2‑1‑04
END:VEVENT
BEGIN:VEVENT
UID:953484_1475@kspu.ru
DTSTAMP:20260419T193906Z
DTSTART:20251225T032000Z
DTEND:20251225T045000Z
SUMMARY:История России MO-П25АК-02 Семинар
DESCRIPTION:Предмет: История России\nГруппа: MO-П25АК-02\nПреподаватель: Кожанова Е.А.\nТип занятия: Семинар\nАудитория: 2‑1‑10
LOCATION:2‑1‑10
END:VEVENT
BEGIN:VEVENT
UID:1009591_1475@kspu.ru
DTSTAMP:20260419T193906Z
DTSTART:20260325T070000Z
DTEND:20260325T083000Z
SUMMARY:Организационное собрание MO-Б22А-02 Прочее
DESCRIPTION:Предмет: Организационное собрание\nГруппа: MO-Б22А-02\nПреподаватель: Кожанова Е.А.\nТип занятия: Прочее\nАудитория: 2‑2‑08
LOCATION:2‑2‑08
END:VEVENT
BEGIN:VEVENT
UID:1009590_1475@kspu.ru
DTSTAMP:20260419T193906Z
DTSTART:20260325T070000Z
DTEND:20260325T083000Z
SUMMARY:Организационное собрание MO-Б22А-01 Прочее
DESCRIPTION:Предмет: Организационное собрание\nГруппа: MO-Б22А-01\nПреподаватель: Кожанова Е.А.\nТип занятия: Прочее\nАудитория: 2‑2‑08
LOCATION:2‑2‑08
END:VEVENT
BEGIN:VEVENT
UID:1009897_1475@kspu.ru
DTSTAMP:20260419T193906Z
DTSTART:20260331T052000Z
DTEND:20260331T065000Z
SUMMARY:Организационное собрание MO-Б25А-02 Прочее
DESCRIPTION:Предмет: Организационное собрание\nГруппа: MO-Б25А-02\nПреподаватель: Кожанова Е.А.\nТип занятия: Прочее\nАудитория: 2‑2‑05
LOCATION:2‑2‑05
END:VEVENT
BEGIN:VEVENT
UID:1009898_1475@kspu.ru
DTSTAMP:20260419T193906Z
DTSTART:20260402T014000Z
DTEND:20260402T031000Z
SUMMARY:Организационное собрание MO-Б25А-02 Прочее
DESCRIPTION:Предмет: Организационное собрание\nГруппа: MO-Б25А-02\nПреподаватель: Кожанова Е.А.\nТип занятия: Прочее\nАудитория: 2‑2‑05
LOCATION:2‑2‑05
END:VEVENT
BEGIN:VEVENT
UID:1010576_1475@kspu.ru
DTSTAMP:20260419T193906Z
DTSTART:20260413T070000Z
DTEND:20260413T083000Z
SUMMARY:Организационное собрание MO-Б22А-01 Прочее
DESCRIPTION:Предмет: Организационное собрание\nГруппа: MO-Б22А-01\nПреподаватель: Кожанова Е.А.\nТип занятия: Прочее\nАудитория: 2‑2‑10
LOCATION:2‑2‑10
END:VEVENT
BEGIN:VEVENT
UID:1010577_1475@kspu.ru
DTSTAMP:20260419T193906Z
DTSTART:20260413T070000Z
DTEND:20260413T083000Z
SUMMARY:Организационное собрание MO-Б22А-02 Прочее
DESCRIPTION:Предмет: Организационное собрание\nГруппа: MO-Б22А-02\nПреподаватель: Кожанова Е.А.\nТип занятия: Прочее\nАудитория: 2‑2‑10
LOCATION:2‑2‑10
END:VEVENT
END:VCALENDAR