BEGIN:VCALENDAR
VERSION:2.0
PRODID:-//KSPU//Teacher Schedule Calendar//EN
CALSCALE:GREGORIAN
METHOD:PUBLISH
X-WR-CALNAME:Алякринский Д.Е. Расписание
X-PUBLISHED-TTL:PT15M
BEGIN:VEVENT
UID:912676_1473@kspu.ru
DTSTAMP:20260419T164227Z
DTSTART:20251007T084000Z
DTEND:20251007T101000Z
SUMMARY:Методика обучения и воспитания: химия EO-Б22А-01 Лекция
DESCRIPTION:Предмет: Методика обучения и воспитания: химия\nГруппа: EO-Б22А-01\nПреподаватель: Алякринский Д.Е.\nТип занятия: Лекция\nАудитория: 1‑5‑23
LOCATION:1‑5‑23
END:VEVENT
BEGIN:VEVENT
UID:929886_1473@kspu.ru
DTSTAMP:20260419T164227Z
DTSTART:20251008T084000Z
DTEND:20251008T101000Z
SUMMARY:Методика обучения и воспитания: химия EO-Б22А-01 Лекция
DESCRIPTION:Предмет: Методика обучения и воспитания: химия\nГруппа: EO-Б22А-01\nПреподаватель: Алякринский Д.Е.\nТип занятия: Лекция\nАудитория: 1‑5‑23
LOCATION:1‑5‑23
END:VEVENT
BEGIN:VEVENT
UID:912677_1473@kspu.ru
DTSTAMP:20260419T164227Z
DTSTART:20251014T084000Z
DTEND:20251014T101000Z
SUMMARY:Методика обучения и воспитания: химия EO-Б22А-01 Лекция
DESCRIPTION:Предмет: Методика обучения и воспитания: химия\nГруппа: EO-Б22А-01\nПреподаватель: Алякринский Д.Е.\nТип занятия: Лекция\nАудитория: 1‑5‑23
LOCATION:1‑5‑23
END:VEVENT
BEGIN:VEVENT
UID:929940_1473@kspu.ru
DTSTAMP:20260419T164227Z
DTSTART:20251014T102000Z
DTEND:20251014T115000Z
SUMMARY:Методика обучения и воспитания: химия EO-Б22А-01 Лабораторное занятие (Подгруппа Б)
DESCRIPTION:Предмет: Методика обучения и воспитания: химия\nГруппа: EO-Б22А-01\nПреподаватель: Алякринский Д.Е.\nТип занятия: Лабораторное занятие\nАудитория: 1‑5‑28
LOCATION:1‑5‑28
END:VEVENT
BEGIN:VEVENT
UID:946606_1473@kspu.ru
DTSTAMP:20260419T164227Z
DTSTART:20251015T084000Z
DTEND:20251015T101000Z
SUMMARY:Методика обучения и воспитания: химия EO-Б23А-01 Лекция
DESCRIPTION:Предмет: Методика обучения и воспитания: химия\nГруппа: EO-Б23А-01\nПреподаватель: Алякринский Д.Е.\nТип занятия: Лекция\nАудитория: 1‑5‑28
LOCATION:1‑5‑28
END:VEVENT
BEGIN:VEVENT
UID:929939_1473@kspu.ru
DTSTAMP:20260419T164227Z
DTSTART:20251017T084000Z
DTEND:20251017T101000Z
SUMMARY:Методика обучения и воспитания: химия EO-Б22А-01 Лабораторное занятие (Подгруппа A)
DESCRIPTION:Предмет: Методика обучения и воспитания: химия\nГруппа: EO-Б22А-01\nПреподаватель: Алякринский Д.Е.\nТип занятия: Лабораторное занятие\nАудитория: 1‑5‑28
LOCATION:1‑5‑28
END:VEVENT
BEGIN:VEVENT
UID:948415_1473@kspu.ru
DTSTAMP:20260419T164227Z
DTSTART:20251017T102000Z
DTEND:20251017T115000Z
SUMMARY:Методика обучения и воспитания: химия EO-Б22А-01 Лабораторное занятие (Подгруппа A)
DESCRIPTION:Предмет: Методика обучения и воспитания: химия\nГруппа: EO-Б22А-01\nПреподаватель: Алякринский Д.Е.\nТип занятия: Лабораторное занятие\nАудитория: 1‑5‑28
LOCATION:1‑5‑28
END:VEVENT
BEGIN:VEVENT
UID:912678_1473@kspu.ru
DTSTAMP:20260419T164227Z
DTSTART:20251021T084000Z
DTEND:20251021T101000Z
SUMMARY:Методика обучения и воспитания: химия EO-Б22А-01 Лекция
DESCRIPTION:Предмет: Методика обучения и воспитания: химия\nГруппа: EO-Б22А-01\nПреподаватель: Алякринский Д.Е.\nТип занятия: Лекция\nАудитория: 1‑5‑23
LOCATION:1‑5‑23
END:VEVENT
BEGIN:VEVENT
UID:929965_1473@kspu.ru
DTSTAMP:20260419T164227Z
DTSTART:20251021T102000Z
DTEND:20251021T115000Z
SUMMARY:Методика обучения и воспитания: химия EO-Б22А-01 Лабораторное занятие (Подгруппа A)
DESCRIPTION:Предмет: Методика обучения и воспитания: химия\nГруппа: EO-Б22А-01\nПреподаватель: Алякринский Д.Е.\nТип занятия: Лабораторное занятие\nАудитория: 1‑5‑28
LOCATION:1‑5‑28
END:VEVENT
BEGIN:VEVENT
UID:929964_1473@kspu.ru
DTSTAMP:20260419T164227Z
DTSTART:20251022T084000Z
DTEND:20251022T101000Z
SUMMARY:Методика обучения и воспитания: химия EO-Б22А-01 Лабораторное занятие (Подгруппа Б)
DESCRIPTION:Предмет: Методика обучения и воспитания: химия\nГруппа: EO-Б22А-01\nПреподаватель: Алякринский Д.Е.\nТип занятия: Лабораторное занятие\nАудитория: 1‑5‑28
LOCATION:1‑5‑28
END:VEVENT
BEGIN:VEVENT
UID:948414_1473@kspu.ru
DTSTAMP:20260419T164227Z
DTSTART:20251022T102000Z
DTEND:20251022T115000Z
SUMMARY:Методика обучения и воспитания: химия EO-Б22А-01 Лабораторное занятие (Подгруппа Б)
DESCRIPTION:Предмет: Методика обучения и воспитания: химия\nГруппа: EO-Б22А-01\nПреподаватель: Алякринский Д.Е.\nТип занятия: Лабораторное занятие\nАудитория: 1‑5‑28
LOCATION:1‑5‑28
END:VEVENT
BEGIN:VEVENT
UID:946608_1473@kspu.ru
DTSTAMP:20260419T164227Z
DTSTART:20251024T084000Z
DTEND:20251024T101000Z
SUMMARY:Методика обучения и воспитания: химия EO-Б23А-01 Лекция
DESCRIPTION:Предмет: Методика обучения и воспитания: химия\nГруппа: EO-Б23А-01\nПреподаватель: Алякринский Д.Е.\nТип занятия: Лекция\nАудитория: 1‑5‑28
LOCATION:1‑5‑28
END:VEVENT
BEGIN:VEVENT
UID:949951_1473@kspu.ru
DTSTAMP:20260419T164227Z
DTSTART:20251024T102000Z
DTEND:20251024T115000Z
SUMMARY:Методика обучения и воспитания: химия EO-Б23А-01 Лабораторное занятие
DESCRIPTION:Предмет: Методика обучения и воспитания: химия\nГруппа: EO-Б23А-01\nПреподаватель: Алякринский Д.Е.\nТип занятия: Лабораторное занятие\nАудитория: 1‑5‑28
LOCATION:1‑5‑28
END:VEVENT
BEGIN:VEVENT
UID:946610_1473@kspu.ru
DTSTAMP:20260419T164227Z
DTSTART:20251028T070000Z
DTEND:20251028T083000Z
SUMMARY:Методика обучения и воспитания: химия EO-Б23А-01 Лекция
DESCRIPTION:Предмет: Методика обучения и воспитания: химия\nГруппа: EO-Б23А-01\nПреподаватель: Алякринский Д.Е.\nТип занятия: Лекция\nАудитория: 1‑4‑02
LOCATION:1‑4‑02
END:VEVENT
BEGIN:VEVENT
UID:946609_1473@kspu.ru
DTSTAMP:20260419T164227Z
DTSTART:20251028T084000Z
DTEND:20251028T101000Z
SUMMARY:Методика обучения и воспитания: химия EO-Б23А-01 Лабораторное занятие
DESCRIPTION:Предмет: Методика обучения и воспитания: химия\nГруппа: EO-Б23А-01\nПреподаватель: Алякринский Д.Е.\nТип занятия: Лабораторное занятие\nАудитория: 1‑5‑28
LOCATION:1‑5‑28
END:VEVENT
BEGIN:VEVENT
UID:912679_1473@kspu.ru
DTSTAMP:20260419T164227Z
DTSTART:20251029T070000Z
DTEND:20251029T083000Z
SUMMARY:Методика обучения и воспитания: химия EO-Б22А-01 Лекция
DESCRIPTION:Предмет: Методика обучения и воспитания: химия\nГруппа: EO-Б22А-01\nПреподаватель: Алякринский Д.Е.\nТип занятия: Лекция\nАудитория: 1‑5‑28
LOCATION:1‑5‑28
END:VEVENT
BEGIN:VEVENT
UID:929971_1473@kspu.ru
DTSTAMP:20260419T164227Z
DTSTART:20251029T084000Z
DTEND:20251029T101000Z
SUMMARY:Методика обучения и воспитания: химия EO-Б22А-01 Лабораторное занятие (Подгруппа Б)
DESCRIPTION:Предмет: Методика обучения и воспитания: химия\nГруппа: EO-Б22А-01\nПреподаватель: Алякринский Д.Е.\nТип занятия: Лабораторное занятие\nАудитория: 1‑5‑28
LOCATION:1‑5‑28
END:VEVENT
BEGIN:VEVENT
UID:949778_1473@kspu.ru
DTSTAMP:20260419T164227Z
DTSTART:20251030T052000Z
DTEND:20251030T065000Z
SUMMARY:Методика обучения и воспитания: химия EO-Б23А-01 Лекция
DESCRIPTION:Предмет: Методика обучения и воспитания: химия\nГруппа: EO-Б23А-01\nПреподаватель: Алякринский Д.Е.\nТип занятия: Лекция\nАудитория: 1‑5‑02
LOCATION:1‑5‑02
END:VEVENT
BEGIN:VEVENT
UID:946803_1473@kspu.ru
DTSTAMP:20260419T164227Z
DTSTART:20251030T070000Z
DTEND:20251030T083000Z
SUMMARY:Методика обучения и воспитания: химия EO-Б22А-01 Лабораторное занятие (Подгруппа A)
DESCRIPTION:Предмет: Методика обучения и воспитания: химия\nГруппа: EO-Б22А-01\nПреподаватель: Алякринский Д.Е.\nТип занятия: Лабораторное занятие\nАудитория: 1‑5‑23
LOCATION:1‑5‑23
END:VEVENT
BEGIN:VEVENT
UID:949779_1473@kspu.ru
DTSTAMP:20260419T164227Z
DTSTART:20251030T084000Z
DTEND:20251030T101000Z
SUMMARY:Методика обучения и воспитания: химия EO-Б23А-01 Лабораторное занятие
DESCRIPTION:Предмет: Методика обучения и воспитания: химия\nГруппа: EO-Б23А-01\nПреподаватель: Алякринский Д.Е.\nТип занятия: Лабораторное занятие\nАудитория: 1‑5‑28
LOCATION:1‑5‑28
END:VEVENT
BEGIN:VEVENT
UID:949777_1473@kspu.ru
DTSTAMP:20260419T164227Z
DTSTART:20251031T052000Z
DTEND:20251031T065000Z
SUMMARY:Методика обучения и воспитания: химия EO-Б23А-01 Лабораторное занятие
DESCRIPTION:Предмет: Методика обучения и воспитания: химия\nГруппа: EO-Б23А-01\nПреподаватель: Алякринский Д.Е.\nТип занятия: Лабораторное занятие\nАудитория: 1‑5‑28
LOCATION:1‑5‑28
END:VEVENT
BEGIN:VEVENT
UID:949776_1473@kspu.ru
DTSTAMP:20260419T164227Z
DTSTART:20251031T070000Z
DTEND:20251031T083000Z
SUMMARY:Методика обучения и воспитания: химия EO-Б23А-01 Лекция
DESCRIPTION:Предмет: Методика обучения и воспитания: химия\nГруппа: EO-Б23А-01\nПреподаватель: Алякринский Д.Е.\nТип занятия: Лекция\nАудитория: 1‑5‑28
LOCATION:1‑5‑28
END:VEVENT
BEGIN:VEVENT
UID:946801_1473@kspu.ru
DTSTAMP:20260419T164227Z
DTSTART:20251105T084000Z
DTEND:20251105T101000Z
SUMMARY:Методика обучения и воспитания: химия EO-Б22А-01 Лабораторное занятие (Подгруппа Б)
DESCRIPTION:Предмет: Методика обучения и воспитания: химия\nГруппа: EO-Б22А-01\nПреподаватель: Алякринский Д.Е.\nТип занятия: Лабораторное занятие\nАудитория: 1‑5‑23
LOCATION:1‑5‑23
END:VEVENT
BEGIN:VEVENT
UID:949780_1473@kspu.ru
DTSTAMP:20260419T164227Z
DTSTART:20251107T070000Z
DTEND:20251107T083000Z
SUMMARY:Методика обучения и воспитания: химия EO-Б23А-01 Лабораторное занятие
DESCRIPTION:Предмет: Методика обучения и воспитания: химия\nГруппа: EO-Б23А-01\nПреподаватель: Алякринский Д.Е.\nТип занятия: Лабораторное занятие\nАудитория: 1‑5‑28
LOCATION:1‑5‑28
END:VEVENT
BEGIN:VEVENT
UID:929970_1473@kspu.ru
DTSTAMP:20260419T164227Z
DTSTART:20251107T084000Z
DTEND:20251107T101000Z
SUMMARY:Методика обучения и воспитания: химия EO-Б22А-01 Лабораторное занятие (Подгруппа A)
DESCRIPTION:Предмет: Методика обучения и воспитания: химия\nГруппа: EO-Б22А-01\nПреподаватель: Алякринский Д.Е.\nТип занятия: Лабораторное занятие\nАудитория: 1‑5‑28
LOCATION:1‑5‑28
END:VEVENT
BEGIN:VEVENT
UID:946805_1473@kspu.ru
DTSTAMP:20260419T164227Z
DTSTART:20251111T084000Z
DTEND:20251111T101000Z
SUMMARY:Методика обучения и воспитания: химия EO-Б22А-01 Лабораторное занятие (Подгруппа A)
DESCRIPTION:Предмет: Методика обучения и воспитания: химия\nГруппа: EO-Б22А-01\nПреподаватель: Алякринский Д.Е.\nТип занятия: Лабораторное занятие\nАудитория: 1‑5‑23
LOCATION:1‑5‑23
END:VEVENT
BEGIN:VEVENT
UID:946815_1473@kspu.ru
DTSTAMP:20260419T164227Z
DTSTART:20251111T102000Z
DTEND:20251111T115000Z
SUMMARY:Методика обучения и воспитания: химия EO-Б22А-01 Лабораторное занятие (Подгруппа Б)
DESCRIPTION:Предмет: Методика обучения и воспитания: химия\nГруппа: EO-Б22А-01\nПреподаватель: Алякринский Д.Е.\nТип занятия: Лабораторное занятие\nАудитория: 1‑5‑23
LOCATION:1‑5‑23
END:VEVENT
BEGIN:VEVENT
UID:946611_1473@kspu.ru
DTSTAMP:20260419T164227Z
DTSTART:20251114T084000Z
DTEND:20251114T101000Z
SUMMARY:Методика обучения и воспитания: химия EO-Б23А-01 Лекция
DESCRIPTION:Предмет: Методика обучения и воспитания: химия\nГруппа: EO-Б23А-01\nПреподаватель: Алякринский Д.Е.\nТип занятия: Лекция\nАудитория: 1‑5‑28
LOCATION:1‑5‑28
END:VEVENT
BEGIN:VEVENT
UID:949781_1473@kspu.ru
DTSTAMP:20260419T164227Z
DTSTART:20251114T102000Z
DTEND:20251114T115000Z
SUMMARY:Методика обучения и воспитания: химия EO-Б23А-01 Лабораторное занятие
DESCRIPTION:Предмет: Методика обучения и воспитания: химия\nГруппа: EO-Б23А-01\nПреподаватель: Алякринский Д.Е.\nТип занятия: Лабораторное занятие\nАудитория: 1‑5‑28
LOCATION:1‑5‑28
END:VEVENT
BEGIN:VEVENT
UID:946806_1473@kspu.ru
DTSTAMP:20260419T164227Z
DTSTART:20251118T084000Z
DTEND:20251118T101000Z
SUMMARY:Методика обучения и воспитания: химия EO-Б22А-01 Лабораторное занятие (Подгруппа A)
DESCRIPTION:Предмет: Методика обучения и воспитания: химия\nГруппа: EO-Б22А-01\nПреподаватель: Алякринский Д.Е.\nТип занятия: Лабораторное занятие\nАудитория: 1‑5‑23
LOCATION:1‑5‑23
END:VEVENT
BEGIN:VEVENT
UID:946816_1473@kspu.ru
DTSTAMP:20260419T164227Z
DTSTART:20251118T102000Z
DTEND:20251118T115000Z
SUMMARY:Методика обучения и воспитания: химия EO-Б22А-01 Лабораторное занятие (Подгруппа Б)
DESCRIPTION:Предмет: Методика обучения и воспитания: химия\nГруппа: EO-Б22А-01\nПреподаватель: Алякринский Д.Е.\nТип занятия: Лабораторное занятие\nАудитория: 1‑5‑23
LOCATION:1‑5‑23
END:VEVENT
BEGIN:VEVENT
UID:949782_1473@kspu.ru
DTSTAMP:20260419T164227Z
DTSTART:20251121T070000Z
DTEND:20251121T083000Z
SUMMARY:Методика обучения и воспитания: химия EO-Б23А-01 Лабораторное занятие
DESCRIPTION:Предмет: Методика обучения и воспитания: химия\nГруппа: EO-Б23А-01\nПреподаватель: Алякринский Д.Е.\nТип занятия: Лабораторное занятие\nАудитория: 1‑5‑18
LOCATION:1‑5‑18
END:VEVENT
BEGIN:VEVENT
UID:949786_1473@kspu.ru
DTSTAMP:20260419T164227Z
DTSTART:20251121T084000Z
DTEND:20251121T101000Z
SUMMARY:Методика обучения и воспитания: химия EO-Б23А-01 Лабораторное занятие
DESCRIPTION:Предмет: Методика обучения и воспитания: химия\nГруппа: EO-Б23А-01\nПреподаватель: Алякринский Д.Е.\nТип занятия: Лабораторное занятие\nАудитория: 1‑5‑28
LOCATION:1‑5‑28
END:VEVENT
BEGIN:VEVENT
UID:946807_1473@kspu.ru
DTSTAMP:20260419T164227Z
DTSTART:20251124T070000Z
DTEND:20251124T083000Z
SUMMARY:Методика обучения и воспитания: химия EO-Б22А-01 Лабораторное занятие (Подгруппа A)
DESCRIPTION:Предмет: Методика обучения и воспитания: химия\nГруппа: EO-Б22А-01\nПреподаватель: Алякринский Д.Е.\nТип занятия: Лабораторное занятие\nАудитория: 1‑5‑28
LOCATION:1‑5‑28
END:VEVENT
BEGIN:VEVENT
UID:946817_1473@kspu.ru
DTSTAMP:20260419T164227Z
DTSTART:20251124T084000Z
DTEND:20251124T101000Z
SUMMARY:Методика обучения и воспитания: химия EO-Б22А-01 Лабораторное занятие (Подгруппа Б)
DESCRIPTION:Предмет: Методика обучения и воспитания: химия\nГруппа: EO-Б22А-01\nПреподаватель: Алякринский Д.Е.\nТип занятия: Лабораторное занятие\nАудитория: 1‑5‑28
LOCATION:1‑5‑28
END:VEVENT
BEGIN:VEVENT
UID:949783_1473@kspu.ru
DTSTAMP:20260419T164227Z
DTSTART:20251128T084000Z
DTEND:20251128T101000Z
SUMMARY:Методика обучения и воспитания: химия EO-Б23А-01 Лабораторное занятие
DESCRIPTION:Предмет: Методика обучения и воспитания: химия\nГруппа: EO-Б23А-01\nПреподаватель: Алякринский Д.Е.\nТип занятия: Лабораторное занятие\nАудитория: 1‑5‑28
LOCATION:1‑5‑28
END:VEVENT
BEGIN:VEVENT
UID:946809_1473@kspu.ru
DTSTAMP:20260419T164227Z
DTSTART:20251202T084000Z
DTEND:20251202T101000Z
SUMMARY:Методика обучения и воспитания: химия EO-Б22А-01 Лабораторное занятие (Подгруппа A)
DESCRIPTION:Предмет: Методика обучения и воспитания: химия\nГруппа: EO-Б22А-01\nПреподаватель: Алякринский Д.Е.\nТип занятия: Лабораторное занятие\nАудитория: 1‑5‑23
LOCATION:1‑5‑23
END:VEVENT
BEGIN:VEVENT
UID:946818_1473@kspu.ru
DTSTAMP:20260419T164227Z
DTSTART:20251202T102000Z
DTEND:20251202T115000Z
SUMMARY:Методика обучения и воспитания: химия EO-Б22А-01 Лабораторное занятие (Подгруппа Б)
DESCRIPTION:Предмет: Методика обучения и воспитания: химия\nГруппа: EO-Б22А-01\nПреподаватель: Алякринский Д.Е.\nТип занятия: Лабораторное занятие\nАудитория: 1‑5‑23
LOCATION:1‑5‑23
END:VEVENT
BEGIN:VEVENT
UID:949784_1473@kspu.ru
DTSTAMP:20260419T164227Z
DTSTART:20251205T084000Z
DTEND:20251205T101000Z
SUMMARY:Методика обучения и воспитания: химия EO-Б23А-01 Лабораторное занятие
DESCRIPTION:Предмет: Методика обучения и воспитания: химия\nГруппа: EO-Б23А-01\nПреподаватель: Алякринский Д.Е.\nТип занятия: Лабораторное занятие\nАудитория: 1‑5‑28
LOCATION:1‑5‑28
END:VEVENT
BEGIN:VEVENT
UID:946811_1473@kspu.ru
DTSTAMP:20260419T164227Z
DTSTART:20251209T084000Z
DTEND:20251209T101000Z
SUMMARY:Методика обучения и воспитания: химия EO-Б22А-01 Лабораторное занятие (Подгруппа A)
DESCRIPTION:Предмет: Методика обучения и воспитания: химия\nГруппа: EO-Б22А-01\nПреподаватель: Алякринский Д.Е.\nТип занятия: Лабораторное занятие\nАудитория: 1‑5‑23
LOCATION:1‑5‑23
END:VEVENT
BEGIN:VEVENT
UID:946819_1473@kspu.ru
DTSTAMP:20260419T164227Z
DTSTART:20251209T102000Z
DTEND:20251209T115000Z
SUMMARY:Методика обучения и воспитания: химия EO-Б22А-01 Лабораторное занятие (Подгруппа Б)
DESCRIPTION:Предмет: Методика обучения и воспитания: химия\nГруппа: EO-Б22А-01\nПреподаватель: Алякринский Д.Е.\nТип занятия: Лабораторное занятие\nАудитория: 1‑5‑23
LOCATION:1‑5‑23
END:VEVENT
BEGIN:VEVENT
UID:949787_1473@kspu.ru
DTSTAMP:20260419T164227Z
DTSTART:20251212T084000Z
DTEND:20251212T101000Z
SUMMARY:Методика обучения и воспитания: химия EO-Б23А-01 Лабораторное занятие
DESCRIPTION:Предмет: Методика обучения и воспитания: химия\nГруппа: EO-Б23А-01\nПреподаватель: Алякринский Д.Е.\nТип занятия: Лабораторное занятие\nАудитория: 1‑5‑28
LOCATION:1‑5‑28
END:VEVENT
BEGIN:VEVENT
UID:949785_1473@kspu.ru
DTSTAMP:20260419T164227Z
DTSTART:20251212T102000Z
DTEND:20251212T115000Z
SUMMARY:Методика обучения и воспитания: химия EO-Б23А-01 Лабораторное занятие
DESCRIPTION:Предмет: Методика обучения и воспитания: химия\nГруппа: EO-Б23А-01\nПреподаватель: Алякринский Д.Е.\nТип занятия: Лабораторное занятие\nАудитория: 1‑5‑28
LOCATION:1‑5‑28
END:VEVENT
BEGIN:VEVENT
UID:946812_1473@kspu.ru
DTSTAMP:20260419T164227Z
DTSTART:20251216T084000Z
DTEND:20251216T101000Z
SUMMARY:Методика обучения и воспитания: химия EO-Б22А-01 Лабораторное занятие (Подгруппа Б)
DESCRIPTION:Предмет: Методика обучения и воспитания: химия\nГруппа: EO-Б22А-01\nПреподаватель: Алякринский Д.Е.\nТип занятия: Лабораторное занятие\nАудитория: 1‑5‑23
LOCATION:1‑5‑23
END:VEVENT
BEGIN:VEVENT
UID:946820_1473@kspu.ru
DTSTAMP:20260419T164227Z
DTSTART:20251216T102000Z
DTEND:20251216T115000Z
SUMMARY:Методика обучения и воспитания: химия EO-Б22А-01 Лабораторное занятие (Подгруппа Б)
DESCRIPTION:Предмет: Методика обучения и воспитания: химия\nГруппа: EO-Б22А-01\nПреподаватель: Алякринский Д.Е.\nТип занятия: Лабораторное занятие\nАудитория: 1‑5‑23
LOCATION:1‑5‑23
END:VEVENT
BEGIN:VEVENT
UID:946813_1473@kspu.ru
DTSTAMP:20260419T164227Z
DTSTART:20251223T084000Z
DTEND:20251223T101000Z
SUMMARY:Методика обучения и воспитания: химия EO-Б22А-01 Лабораторное занятие (Подгруппа A)
DESCRIPTION:Предмет: Методика обучения и воспитания: химия\nГруппа: EO-Б22А-01\nПреподаватель: Алякринский Д.Е.\nТип занятия: Лабораторное занятие\nАудитория: 1‑5‑23
LOCATION:1‑5‑23
END:VEVENT
BEGIN:VEVENT
UID:946821_1473@kspu.ru
DTSTAMP:20260419T164227Z
DTSTART:20251223T102000Z
DTEND:20251223T115000Z
SUMMARY:Методика обучения и воспитания: химия EO-Б22А-01 Лабораторное занятие (Подгруппа A)
DESCRIPTION:Предмет: Методика обучения и воспитания: химия\nГруппа: EO-Б22А-01\nПреподаватель: Алякринский Д.Е.\nТип занятия: Лабораторное занятие\nАудитория: 1‑5‑23
LOCATION:1‑5‑23
END:VEVENT
BEGIN:VEVENT
UID:955371_1473@kspu.ru
DTSTAMP:20260419T164227Z
DTSTART:20260110T032000Z
DTEND:20260110T045000Z
SUMMARY:Экзамен по модулю "Педагогическая интернатура" EO-Б21А-01 Консультация
DESCRIPTION:Предмет: Экзамен по модулю "Педагогическая интернатура"\nГруппа: EO-Б21А-01\nПреподаватель: Горленко Н.М. / Алякринский Д.Е.\nТип занятия: Консультация\nАудитория: 1‑5‑02
LOCATION:1‑5‑02
END:VEVENT
BEGIN:VEVENT
UID:955372_1473@kspu.ru
DTSTAMP:20260419T164227Z
DTSTART:20260112T014000Z
DTEND:20260112T031000Z
SUMMARY:Экзамен по модулю "Педагогическая интернатура" EO-Б21А-01 Экзамен
DESCRIPTION:Предмет: Экзамен по модулю "Педагогическая интернатура"\nГруппа: EO-Б21А-01\nПреподаватель: Бережная О.В. / Горленко Н.М. / Алякринский Д.Е.\nТип занятия: Экзамен\nАудитория: 1‑5‑02
LOCATION:1‑5‑02
END:VEVENT
END:VCALENDAR