BEGIN:VCALENDAR
VERSION:2.0
PRODID:-//KSPU//Teacher Schedule Calendar//EN
CALSCALE:GREGORIAN
METHOD:PUBLISH
X-WR-CALNAME:Ясенецкая Е.П. Расписание
X-PUBLISHED-TTL:PT15M
BEGIN:VEVENT
UID:916917_1472@kspu.ru
DTSTAMP:20260422T101837Z
DTSTART:20251014T070000Z
DTEND:20251014T083000Z
SUMMARY:Современные воспитательные технологии GZ-М25А-01 Лекция
DESCRIPTION:Предмет: Современные воспитательные технологии\nГруппа: GZ-М25А-01\nПреподаватель: Ясенецкая Е.П.\nТип занятия: Лекция\nАудитория: 5‑2‑07
LOCATION:5‑2‑07
END:VEVENT
BEGIN:VEVENT
UID:916916_1472@kspu.ru
DTSTAMP:20260422T101837Z
DTSTART:20251014T084000Z
DTEND:20251014T101000Z
SUMMARY:Современные воспитательные технологии GZ-М25А-01 Лекция
DESCRIPTION:Предмет: Современные воспитательные технологии\nГруппа: GZ-М25А-01\nПреподаватель: Ясенецкая Е.П.\nТип занятия: Лекция\nАудитория: 5‑2‑07
LOCATION:5‑2‑07
END:VEVENT
BEGIN:VEVENT
UID:916927_1472@kspu.ru
DTSTAMP:20260422T101837Z
DTSTART:20251020T014000Z
DTEND:20251020T031000Z
SUMMARY:Современные воспитательные технологии GZ-М25А-01 Семинар
DESCRIPTION:Предмет: Современные воспитательные технологии\nГруппа: GZ-М25А-01\nПреподаватель: Ясенецкая Е.П.\nТип занятия: Семинар\nАудитория: 5‑2‑13
LOCATION:5‑2‑13
END:VEVENT
BEGIN:VEVENT
UID:916928_1472@kspu.ru
DTSTAMP:20260422T101837Z
DTSTART:20251020T032000Z
DTEND:20251020T045000Z
SUMMARY:Современные воспитательные технологии GZ-М25А-01 Семинар
DESCRIPTION:Предмет: Современные воспитательные технологии\nГруппа: GZ-М25А-01\nПреподаватель: Ясенецкая Е.П.\nТип занятия: Семинар\nАудитория: 5‑2‑13
LOCATION:5‑2‑13
END:VEVENT
BEGIN:VEVENT
UID:916929_1472@kspu.ru
DTSTAMP:20260422T101837Z
DTSTART:20251030T070000Z
DTEND:20251030T083000Z
SUMMARY:Современные воспитательные технологии GZ-М25А-01 Семинар
DESCRIPTION:Предмет: Современные воспитательные технологии\nГруппа: GZ-М25А-01\nПреподаватель: Ясенецкая Е.П.\nТип занятия: Семинар\nАудитория: 5‑2‑07
LOCATION:5‑2‑07
END:VEVENT
BEGIN:VEVENT
UID:916938_1472@kspu.ru
DTSTAMP:20260422T101837Z
DTSTART:20251030T084000Z
DTEND:20251030T101000Z
SUMMARY:Современные воспитательные технологии GZ-М25А-01 Зачёт
DESCRIPTION:Предмет: Современные воспитательные технологии\nГруппа: GZ-М25А-01\nПреподаватель: Ясенецкая Е.П.\nТип занятия: Зачёт\nАудитория: 5‑2‑07
LOCATION:5‑2‑07
END:VEVENT
BEGIN:VEVENT
UID:925612_1472@kspu.ru
DTSTAMP:20260422T101837Z
DTSTART:20251030T102000Z
DTEND:20251030T115000Z
SUMMARY:Современные воспитательные технологии GZ-М25А-01 Зачёт
DESCRIPTION:Предмет: Современные воспитательные технологии\nГруппа: GZ-М25А-01\nПреподаватель: Ясенецкая Е.П.\nТип занятия: Зачёт\nАудитория: 5‑2‑07
LOCATION:5‑2‑07
END:VEVENT
END:VCALENDAR