BEGIN:VCALENDAR
VERSION:2.0
PRODID:-//KSPU//Teacher Schedule Calendar//EN
CALSCALE:GREGORIAN
METHOD:PUBLISH
X-WR-CALNAME:Рамазанов Р.Э. Расписание
X-PUBLISHED-TTL:PT15M
BEGIN:VEVENT
UID:901030_1466@kspu.ru
DTSTAMP:20260419T193340Z
DTSTART:20250902T014000Z
DTEND:20250902T031000Z
SUMMARY:История физической культуры JO-Б25Б-02 Семинар
DESCRIPTION:Предмет: История физической культуры\nГруппа: JO-Б25Б-02\nПреподаватель: Рамазанов Р.Э.\nТип занятия: Семинар\nАудитория: 1‑2‑74
LOCATION:1‑2‑74
END:VEVENT
BEGIN:VEVENT
UID:901021_1466@kspu.ru
DTSTAMP:20260419T193340Z
DTSTART:20250902T032000Z
DTEND:20250902T045000Z
SUMMARY:Теория и методика физического воспитания JO-Б23Б-02 Семинар
DESCRIPTION:Предмет: Теория и методика физического воспитания\nГруппа: JO-Б23Б-02\nПреподаватель: Рамазанов Р.Э.\nТип занятия: Семинар\nАудитория: 1‑2‑74
LOCATION:1‑2‑74
END:VEVENT
BEGIN:VEVENT
UID:901104_1466@kspu.ru
DTSTAMP:20260419T193340Z
DTSTART:20250903T052000Z
DTEND:20250903T065000Z
SUMMARY:История физической культуры и спорта JO-Б25А-01 Семинар
DESCRIPTION:Предмет: История физической культуры и спорта\nГруппа: JO-Б25А-01\nПреподаватель: Рамазанов Р.Э.\nТип занятия: Семинар\nАудитория: 1‑2‑74
LOCATION:1‑2‑74
END:VEVENT
BEGIN:VEVENT
UID:916864_1466@kspu.ru
DTSTAMP:20260419T193340Z
DTSTART:20250904T014000Z
DTEND:20250904T031000Z
SUMMARY:История физической культуры JO-Б25Б-01 Семинар
DESCRIPTION:Предмет: История физической культуры\nГруппа: JO-Б25Б-01\nПреподаватель: Рамазанов Р.Э.\nТип занятия: Семинар\nАудитория: 1‑2‑74
LOCATION:1‑2‑74
END:VEVENT
BEGIN:VEVENT
UID:910788_1466@kspu.ru
DTSTAMP:20260419T193340Z
DTSTART:20250904T032000Z
DTEND:20250904T045000Z
SUMMARY:Теория и методика физического воспитания JO-Б23Б-01 Семинар
DESCRIPTION:Предмет: Теория и методика физического воспитания\nГруппа: JO-Б23Б-01\nПреподаватель: Рамазанов Р.Э.\nТип занятия: Семинар\nАудитория: 1‑2‑74
LOCATION:1‑2‑74
END:VEVENT
BEGIN:VEVENT
UID:901031_1466@kspu.ru
DTSTAMP:20260419T193340Z
DTSTART:20250910T014000Z
DTEND:20250910T031000Z
SUMMARY:История физической культуры JO-Б25Б-02 Семинар
DESCRIPTION:Предмет: История физической культуры\nГруппа: JO-Б25Б-02\nПреподаватель: Рамазанов Р.Э.\nТип занятия: Семинар\nАудитория: 1‑2‑74
LOCATION:1‑2‑74
END:VEVENT
BEGIN:VEVENT
UID:901105_1466@kspu.ru
DTSTAMP:20260419T193340Z
DTSTART:20250910T032000Z
DTEND:20250910T045000Z
SUMMARY:История физической культуры и спорта JO-Б25А-01 Семинар
DESCRIPTION:Предмет: История физической культуры и спорта\nГруппа: JO-Б25А-01\nПреподаватель: Рамазанов Р.Э.\nТип занятия: Семинар\nАудитория: 1‑2‑74
LOCATION:1‑2‑74
END:VEVENT
BEGIN:VEVENT
UID:916894_1466@kspu.ru
DTSTAMP:20260419T193340Z
DTSTART:20250911T014000Z
DTEND:20250911T031000Z
SUMMARY:История физической культуры JO-Б25Б-01 Семинар
DESCRIPTION:Предмет: История физической культуры\nГруппа: JO-Б25Б-01\nПреподаватель: Рамазанов Р.Э.\nТип занятия: Семинар\nАудитория: 1‑2‑74
LOCATION:1‑2‑74
END:VEVENT
BEGIN:VEVENT
UID:929355_1466@kspu.ru
DTSTAMP:20260419T193340Z
DTSTART:20250911T032000Z
DTEND:20250911T045000Z
SUMMARY:История физической культуры JO-Б25Б-01 Семинар
DESCRIPTION:Предмет: История физической культуры\nГруппа: JO-Б25Б-01\nПреподаватель: Рамазанов Р.Э.\nТип занятия: Семинар\nАудитория: 1‑2‑74
LOCATION:1‑2‑74
END:VEVENT
BEGIN:VEVENT
UID:948940_1466@kspu.ru
DTSTAMP:20260419T193340Z
DTSTART:20250915T014000Z
DTEND:20250915T031000Z
SUMMARY:Методика дополнительного образования JO-Б21Б-01 Семинар
DESCRIPTION:Предмет: Методика дополнительного образования\nГруппа: JO-Б21Б-01\nПреподаватель: Рамазанов Р.Э.\nТип занятия: Семинар\nАудитория: 1‑2‑74
LOCATION:1‑2‑74
END:VEVENT
BEGIN:VEVENT
UID:948936_1466@kspu.ru
DTSTAMP:20260419T193340Z
DTSTART:20250916T014000Z
DTEND:20250916T031000Z
SUMMARY:Методика дополнительного образования JO-Б21Б-01 Семинар
DESCRIPTION:Предмет: Методика дополнительного образования\nГруппа: JO-Б21Б-01\nПреподаватель: Рамазанов Р.Э.\nТип занятия: Семинар\nАудитория: 1‑1‑51
LOCATION:1‑1‑51
END:VEVENT
BEGIN:VEVENT
UID:948939_1466@kspu.ru
DTSTAMP:20260419T193340Z
DTSTART:20250916T032000Z
DTEND:20250916T045000Z
SUMMARY:Методика дополнительного образования JO-Б21Б-01 Семинар
DESCRIPTION:Предмет: Методика дополнительного образования\nГруппа: JO-Б21Б-01\nПреподаватель: Рамазанов Р.Э.\nТип занятия: Семинар\nАудитория: 1‑1‑36
LOCATION:1‑1‑36
END:VEVENT
BEGIN:VEVENT
UID:901032_1466@kspu.ru
DTSTAMP:20260419T193340Z
DTSTART:20250917T014000Z
DTEND:20250917T031000Z
SUMMARY:История физической культуры JO-Б25Б-02 Семинар
DESCRIPTION:Предмет: История физической культуры\nГруппа: JO-Б25Б-02\nПреподаватель: Рамазанов Р.Э.\nТип занятия: Семинар\nАудитория: 1‑2‑74
LOCATION:1‑2‑74
END:VEVENT
BEGIN:VEVENT
UID:901106_1466@kspu.ru
DTSTAMP:20260419T193340Z
DTSTART:20250917T032000Z
DTEND:20250917T045000Z
SUMMARY:История физической культуры и спорта JO-Б25А-01 Семинар
DESCRIPTION:Предмет: История физической культуры и спорта\nГруппа: JO-Б25А-01\nПреподаватель: Рамазанов Р.Э.\nТип занятия: Семинар\nАудитория: 1‑2‑74
LOCATION:1‑2‑74
END:VEVENT
BEGIN:VEVENT
UID:901090_1466@kspu.ru
DTSTAMP:20260419T193340Z
DTSTART:20250918T014000Z
DTEND:20250918T031000Z
SUMMARY:История физической культуры JO-Б25Б-01 Семинар
DESCRIPTION:Предмет: История физической культуры\nГруппа: JO-Б25Б-01\nПреподаватель: Рамазанов Р.Э.\nТип занятия: Семинар\nАудитория: 1‑2‑74
LOCATION:1‑2‑74
END:VEVENT
BEGIN:VEVENT
UID:901091_1466@kspu.ru
DTSTAMP:20260419T193340Z
DTSTART:20250918T032000Z
DTEND:20250918T045000Z
SUMMARY:История физической культуры JO-Б25Б-01 Семинар
DESCRIPTION:Предмет: История физической культуры\nГруппа: JO-Б25Б-01\nПреподаватель: Рамазанов Р.Э.\nТип занятия: Семинар\nАудитория: 1‑2‑74
LOCATION:1‑2‑74
END:VEVENT
END:VCALENDAR