BEGIN:VCALENDAR
VERSION:2.0
PRODID:-//KSPU//Teacher Schedule Calendar//EN
CALSCALE:GREGORIAN
METHOD:PUBLISH
X-WR-CALNAME:Плиева М.В. Расписание
X-PUBLISHED-TTL:PT15M
BEGIN:VEVENT
UID:901827_1465@kspu.ru
DTSTAMP:20260422T090035Z
DTSTART:20250911T070000Z
DTEND:20250911T083000Z
SUMMARY:Организация внеучебной деятельности по физической культуре в образовательных учреждениях JO-Б22Б-02 Семинар
DESCRIPTION:Предмет: Организация внеучебной деятельности по физической культуре в образовательных учреждениях\nГруппа: JO-Б22Б-02\nПреподаватель: Плиева М.В.\nТип занятия: Семинар\nАудитория: 1‑1‑51
LOCATION:1‑1‑51
END:VEVENT
BEGIN:VEVENT
UID:901859_1465@kspu.ru
DTSTAMP:20260422T090035Z
DTSTART:20250911T084000Z
DTEND:20250911T101000Z
SUMMARY:Организация внеучебной деятельности по физической культуре в образовательных учреждениях JO-Б22Б-01 Семинар
DESCRIPTION:Предмет: Организация внеучебной деятельности по физической культуре в образовательных учреждениях\nГруппа: JO-Б22Б-01\nПреподаватель: Плиева М.В.\nТип занятия: Семинар\nАудитория: 1‑1‑52
LOCATION:1‑1‑52
END:VEVENT
BEGIN:VEVENT
UID:901829_1465@kspu.ru
DTSTAMP:20260422T090035Z
DTSTART:20250918T070000Z
DTEND:20250918T083000Z
SUMMARY:Организация внеучебной деятельности по физической культуре в образовательных учреждениях JO-Б22Б-02 Семинар
DESCRIPTION:Предмет: Организация внеучебной деятельности по физической культуре в образовательных учреждениях\nГруппа: JO-Б22Б-02\nПреподаватель: Плиева М.В.\nТип занятия: Семинар\nАудитория: 1‑1‑51
LOCATION:1‑1‑51
END:VEVENT
BEGIN:VEVENT
UID:901861_1465@kspu.ru
DTSTAMP:20260422T090035Z
DTSTART:20250918T084000Z
DTEND:20250918T101000Z
SUMMARY:Организация внеучебной деятельности по физической культуре в образовательных учреждениях JO-Б22Б-01 Семинар
DESCRIPTION:Предмет: Организация внеучебной деятельности по физической культуре в образовательных учреждениях\nГруппа: JO-Б22Б-01\nПреподаватель: Плиева М.В.\nТип занятия: Семинар\nАудитория: 1‑1‑52
LOCATION:1‑1‑52
END:VEVENT
BEGIN:VEVENT
UID:901836_1465@kspu.ru
DTSTAMP:20260422T090035Z
DTSTART:20250923T014000Z
DTEND:20250923T031000Z
SUMMARY:Организация внеучебной деятельности по физической культуре в образовательных учреждениях JO-Б22Б-02 Семинар
DESCRIPTION:Предмет: Организация внеучебной деятельности по физической культуре в образовательных учреждениях\nГруппа: JO-Б22Б-02\nПреподаватель: Плиева М.В.\nТип занятия: Семинар\nАудитория: 1‑1‑51
LOCATION:1‑1‑51
END:VEVENT
BEGIN:VEVENT
UID:901867_1465@kspu.ru
DTSTAMP:20260422T090035Z
DTSTART:20250923T032000Z
DTEND:20250923T045000Z
SUMMARY:Организация внеучебной деятельности по физической культуре в образовательных учреждениях JO-Б22Б-01 Семинар
DESCRIPTION:Предмет: Организация внеучебной деятельности по физической культуре в образовательных учреждениях\nГруппа: JO-Б22Б-01\nПреподаватель: Плиева М.В.\nТип занятия: Семинар\nАудитория: 1‑1‑51
LOCATION:1‑1‑51
END:VEVENT
BEGIN:VEVENT
UID:901830_1465@kspu.ru
DTSTAMP:20260422T090035Z
DTSTART:20250925T070000Z
DTEND:20250925T083000Z
SUMMARY:Организация внеучебной деятельности по физической культуре в образовательных учреждениях JO-Б22Б-02 Семинар
DESCRIPTION:Предмет: Организация внеучебной деятельности по физической культуре в образовательных учреждениях\nГруппа: JO-Б22Б-02\nПреподаватель: Плиева М.В.\nТип занятия: Семинар\nАудитория: 1‑1‑51
LOCATION:1‑1‑51
END:VEVENT
BEGIN:VEVENT
UID:901862_1465@kspu.ru
DTSTAMP:20260422T090035Z
DTSTART:20250925T084000Z
DTEND:20250925T101000Z
SUMMARY:Организация внеучебной деятельности по физической культуре в образовательных учреждениях JO-Б22Б-01 Семинар
DESCRIPTION:Предмет: Организация внеучебной деятельности по физической культуре в образовательных учреждениях\nГруппа: JO-Б22Б-01\nПреподаватель: Плиева М.В.\nТип занятия: Семинар\nАудитория: 1‑1‑52
LOCATION:1‑1‑52
END:VEVENT
BEGIN:VEVENT
UID:901831_1465@kspu.ru
DTSTAMP:20260422T090035Z
DTSTART:20251002T070000Z
DTEND:20251002T083000Z
SUMMARY:Организация внеучебной деятельности по физической культуре в образовательных учреждениях JO-Б22Б-02 Семинар
DESCRIPTION:Предмет: Организация внеучебной деятельности по физической культуре в образовательных учреждениях\nГруппа: JO-Б22Б-02\nПреподаватель: Плиева М.В.\nТип занятия: Семинар\nАудитория: 1‑1‑51
LOCATION:1‑1‑51
END:VEVENT
BEGIN:VEVENT
UID:901863_1465@kspu.ru
DTSTAMP:20260422T090035Z
DTSTART:20251002T084000Z
DTEND:20251002T101000Z
SUMMARY:Организация внеучебной деятельности по физической культуре в образовательных учреждениях JO-Б22Б-01 Семинар
DESCRIPTION:Предмет: Организация внеучебной деятельности по физической культуре в образовательных учреждениях\nГруппа: JO-Б22Б-01\nПреподаватель: Плиева М.В.\nТип занятия: Семинар\nАудитория: 1‑1‑52
LOCATION:1‑1‑52
END:VEVENT
BEGIN:VEVENT
UID:901968_1465@kspu.ru
DTSTAMP:20260422T090035Z
DTSTART:20251003T032000Z
DTEND:20251003T045000Z
SUMMARY:Организация внеучебной деятельности по физической культуре в образовательных учреждениях JO-Б22Б-01 Семинар
DESCRIPTION:Предмет: Организация внеучебной деятельности по физической культуре в образовательных учреждениях\nГруппа: JO-Б22Б-01\nПреподаватель: Плиева М.В.\nТип занятия: Семинар\nАудитория: 1‑1‑34
LOCATION:1‑1‑34
END:VEVENT
BEGIN:VEVENT
UID:901970_1465@kspu.ru
DTSTAMP:20260422T090035Z
DTSTART:20251003T052000Z
DTEND:20251003T065000Z
SUMMARY:Организация внеучебной деятельности по физической культуре в образовательных учреждениях JO-Б22Б-02 Семинар
DESCRIPTION:Предмет: Организация внеучебной деятельности по физической культуре в образовательных учреждениях\nГруппа: JO-Б22Б-02\nПреподаватель: Плиева М.В.\nТип занятия: Семинар\nАудитория: 1‑1‑52
LOCATION:1‑1‑52
END:VEVENT
BEGIN:VEVENT
UID:901342_1465@kspu.ru
DTSTAMP:20260422T090035Z
DTSTART:20251008T014000Z
DTEND:20251008T031000Z
SUMMARY:Профессиональное развитие и карьера педагога JO-Б21Б-01 Семинар
DESCRIPTION:Предмет: Профессиональное развитие и карьера педагога\nГруппа: JO-Б21Б-01\nПреподаватель: Плиева М.В.\nТип занятия: Семинар\nАудитория: 1‑1‑51
LOCATION:1‑1‑51
END:VEVENT
BEGIN:VEVENT
UID:901343_1465@kspu.ru
DTSTAMP:20260422T090035Z
DTSTART:20251015T014000Z
DTEND:20251015T031000Z
SUMMARY:Профессиональное развитие и карьера педагога JO-Б21Б-01 Семинар
DESCRIPTION:Предмет: Профессиональное развитие и карьера педагога\nГруппа: JO-Б21Б-01\nПреподаватель: Плиева М.В.\nТип занятия: Семинар\nАудитория: 1‑1‑51
LOCATION:1‑1‑51
END:VEVENT
BEGIN:VEVENT
UID:901344_1465@kspu.ru
DTSTAMP:20260422T090035Z
DTSTART:20251022T014000Z
DTEND:20251022T031000Z
SUMMARY:Профессиональное развитие и карьера педагога JO-Б21Б-01 Семинар
DESCRIPTION:Предмет: Профессиональное развитие и карьера педагога\nГруппа: JO-Б21Б-01\nПреподаватель: Плиева М.В.\nТип занятия: Семинар\nАудитория: 1‑1‑51
LOCATION:1‑1‑51
END:VEVENT
BEGIN:VEVENT
UID:901345_1465@kspu.ru
DTSTAMP:20260422T090035Z
DTSTART:20251031T014000Z
DTEND:20251031T031000Z
SUMMARY:Профессиональное развитие и карьера педагога JO-Б21Б-01 Семинар
DESCRIPTION:Предмет: Профессиональное развитие и карьера педагога\nГруппа: JO-Б21Б-01\nПреподаватель: Плиева М.В.\nТип занятия: Семинар\nАудитория: 1‑1‑34
LOCATION:1‑1‑34
END:VEVENT
BEGIN:VEVENT
UID:901347_1465@kspu.ru
DTSTAMP:20260422T090035Z
DTSTART:20251105T014000Z
DTEND:20251105T031000Z
SUMMARY:Профессиональное развитие и карьера педагога JO-Б21Б-01 Семинар
DESCRIPTION:Предмет: Профессиональное развитие и карьера педагога\nГруппа: JO-Б21Б-01\nПреподаватель: Плиева М.В.\nТип занятия: Семинар\nАудитория: 1‑1‑34
LOCATION:1‑1‑34
END:VEVENT
BEGIN:VEVENT
UID:901346_1465@kspu.ru
DTSTAMP:20260422T090035Z
DTSTART:20251107T014000Z
DTEND:20251107T031000Z
SUMMARY:Профессиональное развитие и карьера педагога JO-Б21Б-01 Семинар
DESCRIPTION:Предмет: Профессиональное развитие и карьера педагога\nГруппа: JO-Б21Б-01\nПреподаватель: Плиева М.В.\nТип занятия: Семинар\nАудитория: 1‑1‑52
LOCATION:1‑1‑52
END:VEVENT
BEGIN:VEVENT
UID:901547_1465@kspu.ru
DTSTAMP:20260422T090035Z
DTSTART:20251119T032000Z
DTEND:20251119T045000Z
SUMMARY:Профессиональное развитие и карьера педагога JO-Б21Б-01 Семинар
DESCRIPTION:Предмет: Профессиональное развитие и карьера педагога\nГруппа: JO-Б21Б-01\nПреподаватель: Плиева М.В.\nТип занятия: Семинар\nАудитория: 1‑1‑51
LOCATION:1‑1‑51
END:VEVENT
BEGIN:VEVENT
UID:901605_1465@kspu.ru
DTSTAMP:20260422T090035Z
DTSTART:20251119T052000Z
DTEND:20251119T065000Z
SUMMARY:Физкультурно-спортивная деятельность в дошкольных организациях JO-Б21Б-01 Семинар
DESCRIPTION:Предмет: Физкультурно-спортивная деятельность в дошкольных организациях\nГруппа: JO-Б21Б-01\nПреподаватель: Плиева М.В.\nТип занятия: Семинар\nАудитория: 1‑1‑51
LOCATION:1‑1‑51
END:VEVENT
BEGIN:VEVENT
UID:901832_1465@kspu.ru
DTSTAMP:20260422T090035Z
DTSTART:20251120T070000Z
DTEND:20251120T083000Z
SUMMARY:Организация внеучебной деятельности по физической культуре в образовательных учреждениях JO-Б22Б-02 Семинар
DESCRIPTION:Предмет: Организация внеучебной деятельности по физической культуре в образовательных учреждениях\nГруппа: JO-Б22Б-02\nПреподаватель: Плиева М.В.\nТип занятия: Семинар\nАудитория: 1‑1‑51
LOCATION:1‑1‑51
END:VEVENT
BEGIN:VEVENT
UID:901864_1465@kspu.ru
DTSTAMP:20260422T090035Z
DTSTART:20251120T084000Z
DTEND:20251120T101000Z
SUMMARY:Организация внеучебной деятельности по физической культуре в образовательных учреждениях JO-Б22Б-01 Семинар
DESCRIPTION:Предмет: Организация внеучебной деятельности по физической культуре в образовательных учреждениях\nГруппа: JO-Б22Б-01\nПреподаватель: Плиева М.В.\nТип занятия: Семинар\nАудитория: 1‑1‑52
LOCATION:1‑1‑52
END:VEVENT
BEGIN:VEVENT
UID:901599_1465@kspu.ru
DTSTAMP:20260422T090035Z
DTSTART:20251121T052000Z
DTEND:20251121T065000Z
SUMMARY:Физкультурно-спортивная деятельность в дошкольных организациях JO-Б21Б-01 Семинар
DESCRIPTION:Предмет: Физкультурно-спортивная деятельность в дошкольных организациях\nГруппа: JO-Б21Б-01\nПреподаватель: Плиева М.В.\nТип занятия: Семинар\nАудитория: 1‑1‑51
LOCATION:1‑1‑51
END:VEVENT
BEGIN:VEVENT
UID:901602_1465@kspu.ru
DTSTAMP:20260422T090035Z
DTSTART:20251125T032000Z
DTEND:20251125T045000Z
SUMMARY:Физкультурно-спортивная деятельность в дошкольных организациях JO-Б21Б-01 Семинар
DESCRIPTION:Предмет: Физкультурно-спортивная деятельность в дошкольных организациях\nГруппа: JO-Б21Б-01\nПреподаватель: Плиева М.В.\nТип занятия: Семинар\nАудитория: 1‑1‑51
LOCATION:1‑1‑51
END:VEVENT
BEGIN:VEVENT
UID:901600_1465@kspu.ru
DTSTAMP:20260422T090035Z
DTSTART:20251125T052000Z
DTEND:20251125T065000Z
SUMMARY:Физкультурно-спортивная деятельность в дошкольных организациях JO-Б21Б-01 Семинар
DESCRIPTION:Предмет: Физкультурно-спортивная деятельность в дошкольных организациях\nГруппа: JO-Б21Б-01\nПреподаватель: Плиева М.В.\nТип занятия: Семинар\nАудитория: 1‑4‑29
LOCATION:1‑4‑29
END:VEVENT
BEGIN:VEVENT
UID:901548_1465@kspu.ru
DTSTAMP:20260422T090035Z
DTSTART:20251126T032000Z
DTEND:20251126T045000Z
SUMMARY:Профессиональное развитие и карьера педагога JO-Б21Б-01 Семинар
DESCRIPTION:Предмет: Профессиональное развитие и карьера педагога\nГруппа: JO-Б21Б-01\nПреподаватель: Плиева М.В.\nТип занятия: Семинар\nАудитория: 1‑1‑51
LOCATION:1‑1‑51
END:VEVENT
BEGIN:VEVENT
UID:901606_1465@kspu.ru
DTSTAMP:20260422T090035Z
DTSTART:20251126T052000Z
DTEND:20251126T065000Z
SUMMARY:Физкультурно-спортивная деятельность в дошкольных организациях JO-Б21Б-01 Семинар
DESCRIPTION:Предмет: Физкультурно-спортивная деятельность в дошкольных организациях\nГруппа: JO-Б21Б-01\nПреподаватель: Плиева М.В.\nТип занятия: Семинар\nАудитория: 1‑1‑51
LOCATION:1‑1‑51
END:VEVENT
BEGIN:VEVENT
UID:901834_1465@kspu.ru
DTSTAMP:20260422T090035Z
DTSTART:20251127T070000Z
DTEND:20251127T083000Z
SUMMARY:Организация внеучебной деятельности по физической культуре в образовательных учреждениях JO-Б22Б-02 Семинар
DESCRIPTION:Предмет: Организация внеучебной деятельности по физической культуре в образовательных учреждениях\nГруппа: JO-Б22Б-02\nПреподаватель: Плиева М.В.\nТип занятия: Семинар\nАудитория: 1‑1‑51
LOCATION:1‑1‑51
END:VEVENT
BEGIN:VEVENT
UID:901865_1465@kspu.ru
DTSTAMP:20260422T090035Z
DTSTART:20251127T084000Z
DTEND:20251127T101000Z
SUMMARY:Организация внеучебной деятельности по физической культуре в образовательных учреждениях JO-Б22Б-01 Семинар
DESCRIPTION:Предмет: Организация внеучебной деятельности по физической культуре в образовательных учреждениях\nГруппа: JO-Б22Б-01\nПреподаватель: Плиева М.В.\nТип занятия: Семинар\nАудитория: 1‑1‑52
LOCATION:1‑1‑52
END:VEVENT
BEGIN:VEVENT
UID:901593_1465@kspu.ru
DTSTAMP:20260422T090035Z
DTSTART:20251201T014000Z
DTEND:20251201T031000Z
SUMMARY:Физкультурно-спортивная деятельность в дошкольных организациях JO-Б21Б-01 Семинар
DESCRIPTION:Предмет: Физкультурно-спортивная деятельность в дошкольных организациях\nГруппа: JO-Б21Б-01\nПреподаватель: Плиева М.В.\nТип занятия: Семинар\nАудитория: 1‑1‑51
LOCATION:1‑1‑51
END:VEVENT
BEGIN:VEVENT
UID:901596_1465@kspu.ru
DTSTAMP:20260422T090035Z
DTSTART:20251201T032000Z
DTEND:20251201T045000Z
SUMMARY:Физкультурно-спортивная деятельность в дошкольных организациях JO-Б21Б-01 Семинар
DESCRIPTION:Предмет: Физкультурно-спортивная деятельность в дошкольных организациях\nГруппа: JO-Б21Б-01\nПреподаватель: Плиева М.В.\nТип занятия: Семинар\nАудитория: 1‑1‑34
LOCATION:1‑1‑34
END:VEVENT
BEGIN:VEVENT
UID:901592_1465@kspu.ru
DTSTAMP:20260422T090035Z
DTSTART:20251203T052000Z
DTEND:20251203T065000Z
SUMMARY:Физкультурно-спортивная деятельность в дошкольных организациях JO-Б21Б-01 Семинар
DESCRIPTION:Предмет: Физкультурно-спортивная деятельность в дошкольных организациях\nГруппа: JO-Б21Б-01\nПреподаватель: Плиева М.В.\nТип занятия: Семинар\nАудитория: 1‑1‑51
LOCATION:1‑1‑51
END:VEVENT
BEGIN:VEVENT
UID:901353_1465@kspu.ru
DTSTAMP:20260422T090035Z
DTSTART:20251203T070000Z
DTEND:20251203T083000Z
SUMMARY:Профессиональное развитие и карьера педагога JO-Б21Б-01 Семинар
DESCRIPTION:Предмет: Профессиональное развитие и карьера педагога\nГруппа: JO-Б21Б-01\nПреподаватель: Плиева М.В.\nТип занятия: Семинар\nАудитория: 1‑1‑51
LOCATION:1‑1‑51
END:VEVENT
BEGIN:VEVENT
UID:901835_1465@kspu.ru
DTSTAMP:20260422T090035Z
DTSTART:20251204T070000Z
DTEND:20251204T083000Z
SUMMARY:Организация внеучебной деятельности по физической культуре в образовательных учреждениях JO-Б22Б-02 Семинар
DESCRIPTION:Предмет: Организация внеучебной деятельности по физической культуре в образовательных учреждениях\nГруппа: JO-Б22Б-02\nПреподаватель: Плиева М.В.\nТип занятия: Семинар\nАудитория: 1‑1‑51
LOCATION:1‑1‑51
END:VEVENT
BEGIN:VEVENT
UID:901866_1465@kspu.ru
DTSTAMP:20260422T090035Z
DTSTART:20251204T084000Z
DTEND:20251204T101000Z
SUMMARY:Организация внеучебной деятельности по физической культуре в образовательных учреждениях JO-Б22Б-01 Семинар
DESCRIPTION:Предмет: Организация внеучебной деятельности по физической культуре в образовательных учреждениях\nГруппа: JO-Б22Б-01\nПреподаватель: Плиева М.В.\nТип занятия: Семинар\nАудитория: 1‑1‑52
LOCATION:1‑1‑52
END:VEVENT
BEGIN:VEVENT
UID:901352_1465@kspu.ru
DTSTAMP:20260422T090035Z
DTSTART:20251205T052000Z
DTEND:20251205T065000Z
SUMMARY:Профессиональное развитие и карьера педагога JO-Б21Б-01 Семинар
DESCRIPTION:Предмет: Профессиональное развитие и карьера педагога\nГруппа: JO-Б21Б-01\nПреподаватель: Плиева М.В.\nТип занятия: Семинар\nАудитория: 1‑1‑51
LOCATION:1‑1‑51
END:VEVENT
BEGIN:VEVENT
UID:901587_1465@kspu.ru
DTSTAMP:20260422T090035Z
DTSTART:20251205T070000Z
DTEND:20251205T083000Z
SUMMARY:Физкультурно-спортивная деятельность в дошкольных организациях JO-Б21Б-01 Семинар
DESCRIPTION:Предмет: Физкультурно-спортивная деятельность в дошкольных организациях\nГруппа: JO-Б21Б-01\nПреподаватель: Плиева М.В.\nТип занятия: Семинар\nАудитория: 1‑1‑51
LOCATION:1‑1‑51
END:VEVENT
BEGIN:VEVENT
UID:901591_1465@kspu.ru
DTSTAMP:20260422T090035Z
DTSTART:20251212T014000Z
DTEND:20251212T031000Z
SUMMARY:Физкультурно-спортивная деятельность в дошкольных организациях JO-Б21Б-01 Семинар
DESCRIPTION:Предмет: Физкультурно-спортивная деятельность в дошкольных организациях\nГруппа: JO-Б21Б-01\nПреподаватель: Плиева М.В.\nТип занятия: Семинар\nАудитория: 1‑1‑51
LOCATION:1‑1‑51
END:VEVENT
BEGIN:VEVENT
UID:965972_1465@kspu.ru
DTSTAMP:20260422T090035Z
DTSTART:20260311T052000Z
DTEND:20260311T065000Z
SUMMARY:Организация внеучебной деятельности по физической культуре в образовательных учреждениях JO-Б22Б-02 Семинар
DESCRIPTION:Предмет: Организация внеучебной деятельности по физической культуре в образовательных учреждениях\nГруппа: JO-Б22Б-02\nПреподаватель: Плиева М.В.\nТип занятия: Семинар\nАудитория: 1‑1‑36
LOCATION:1‑1‑36
END:VEVENT
BEGIN:VEVENT
UID:965973_1465@kspu.ru
DTSTAMP:20260422T090035Z
DTSTART:20260311T070000Z
DTEND:20260311T083000Z
SUMMARY:Организация внеучебной деятельности по физической культуре в образовательных учреждениях JO-Б22Б-01 Семинар
DESCRIPTION:Предмет: Организация внеучебной деятельности по физической культуре в образовательных учреждениях\nГруппа: JO-Б22Б-01\nПреподаватель: Плиева М.В.\nТип занятия: Семинар\nАудитория: 1‑1‑36
LOCATION:1‑1‑36
END:VEVENT
BEGIN:VEVENT
UID:965992_1465@kspu.ru
DTSTAMP:20260422T090035Z
DTSTART:20260320T070000Z
DTEND:20260320T083000Z
SUMMARY:Организация внеучебной деятельности по физической культуре в образовательных учреждениях JO-Б22Б-01 Семинар
DESCRIPTION:Предмет: Организация внеучебной деятельности по физической культуре в образовательных учреждениях\nГруппа: JO-Б22Б-01\nПреподаватель: Плиева М.В.\nТип занятия: Семинар\nАудитория: 1‑1‑36
LOCATION:1‑1‑36
END:VEVENT
BEGIN:VEVENT
UID:965978_1465@kspu.ru
DTSTAMP:20260422T090035Z
DTSTART:20260320T084000Z
DTEND:20260320T101000Z
SUMMARY:Организация внеучебной деятельности по физической культуре в образовательных учреждениях JO-Б22Б-02 Семинар
DESCRIPTION:Предмет: Организация внеучебной деятельности по физической культуре в образовательных учреждениях\nГруппа: JO-Б22Б-02\nПреподаватель: Плиева М.В.\nТип занятия: Семинар\nАудитория: 1‑1‑36
LOCATION:1‑1‑36
END:VEVENT
BEGIN:VEVENT
UID:965993_1465@kspu.ru
DTSTAMP:20260422T090035Z
DTSTART:20260327T070000Z
DTEND:20260327T083000Z
SUMMARY:Организация внеучебной деятельности по физической культуре в образовательных учреждениях JO-Б22Б-01 Семинар
DESCRIPTION:Предмет: Организация внеучебной деятельности по физической культуре в образовательных учреждениях\nГруппа: JO-Б22Б-01\nПреподаватель: Плиева М.В.\nТип занятия: Семинар\nАудитория: 1‑4‑40
LOCATION:1‑4‑40
END:VEVENT
BEGIN:VEVENT
UID:965979_1465@kspu.ru
DTSTAMP:20260422T090035Z
DTSTART:20260327T084000Z
DTEND:20260327T101000Z
SUMMARY:Организация внеучебной деятельности по физической культуре в образовательных учреждениях JO-Б22Б-02 Семинар
DESCRIPTION:Предмет: Организация внеучебной деятельности по физической культуре в образовательных учреждениях\nГруппа: JO-Б22Б-02\nПреподаватель: Плиева М.В.\nТип занятия: Семинар\nАудитория: 1‑4‑40
LOCATION:1‑4‑40
END:VEVENT
BEGIN:VEVENT
UID:965994_1465@kspu.ru
DTSTAMP:20260422T090035Z
DTSTART:20260403T070000Z
DTEND:20260403T083000Z
SUMMARY:Организация внеучебной деятельности по физической культуре в образовательных учреждениях JO-Б22Б-01 Семинар
DESCRIPTION:Предмет: Организация внеучебной деятельности по физической культуре в образовательных учреждениях\nГруппа: JO-Б22Б-01\nПреподаватель: Плиева М.В.\nТип занятия: Семинар\nАудитория: 1‑4‑40
LOCATION:1‑4‑40
END:VEVENT
BEGIN:VEVENT
UID:965980_1465@kspu.ru
DTSTAMP:20260422T090035Z
DTSTART:20260403T084000Z
DTEND:20260403T101000Z
SUMMARY:Организация внеучебной деятельности по физической культуре в образовательных учреждениях JO-Б22Б-02 Семинар
DESCRIPTION:Предмет: Организация внеучебной деятельности по физической культуре в образовательных учреждениях\nГруппа: JO-Б22Б-02\nПреподаватель: Плиева М.В.\nТип занятия: Семинар\nАудитория: 1‑4‑40
LOCATION:1‑4‑40
END:VEVENT
BEGIN:VEVENT
UID:965981_1465@kspu.ru
DTSTAMP:20260422T090035Z
DTSTART:20260410T032000Z
DTEND:20260410T045000Z
SUMMARY:Организация внеучебной деятельности по физической культуре в образовательных учреждениях JO-Б22Б-02 Семинар
DESCRIPTION:Предмет: Организация внеучебной деятельности по физической культуре в образовательных учреждениях\nГруппа: JO-Б22Б-02\nПреподаватель: Плиева М.В.\nТип занятия: Семинар\nАудитория: 1‑4‑40
LOCATION:1‑4‑40
END:VEVENT
BEGIN:VEVENT
UID:965995_1465@kspu.ru
DTSTAMP:20260422T090035Z
DTSTART:20260410T070000Z
DTEND:20260410T083000Z
SUMMARY:Организация внеучебной деятельности по физической культуре в образовательных учреждениях JO-Б22Б-01 Семинар
DESCRIPTION:Предмет: Организация внеучебной деятельности по физической культуре в образовательных учреждениях\nГруппа: JO-Б22Б-01\nПреподаватель: Плиева М.В.\nТип занятия: Семинар\nАудитория: 1‑2‑74
LOCATION:1‑2‑74
END:VEVENT
BEGIN:VEVENT
UID:1010845_1465@kspu.ru
DTSTAMP:20260422T090035Z
DTSTART:20260417T070000Z
DTEND:20260417T083000Z
SUMMARY:Организация внеучебной деятельности по физической культуре в образовательных учреждениях JO-Б22Б-01 Семинар
DESCRIPTION:Предмет: Организация внеучебной деятельности по физической культуре в образовательных учреждениях\nГруппа: JO-Б22Б-01\nПреподаватель: Плиева М.В.\nТип занятия: Семинар\nАудитория: 1‑1‑51
LOCATION:1‑1‑51
END:VEVENT
BEGIN:VEVENT
UID:1010844_1465@kspu.ru
DTSTAMP:20260422T090035Z
DTSTART:20260417T084000Z
DTEND:20260417T101000Z
SUMMARY:Организация внеучебной деятельности по физической культуре в образовательных учреждениях JO-Б22Б-02 Семинар
DESCRIPTION:Предмет: Организация внеучебной деятельности по физической культуре в образовательных учреждениях\nГруппа: JO-Б22Б-02\nПреподаватель: Плиева М.В.\nТип занятия: Семинар\nАудитория: 1‑1‑51
LOCATION:1‑1‑51
END:VEVENT
BEGIN:VEVENT
UID:965988_1465@kspu.ru
DTSTAMP:20260422T090035Z
DTSTART:20260424T070000Z
DTEND:20260424T083000Z
SUMMARY:Организация внеучебной деятельности по физической культуре в образовательных учреждениях JO-Б22Б-02 Семинар
DESCRIPTION:Предмет: Организация внеучебной деятельности по физической культуре в образовательных учреждениях\nГруппа: JO-Б22Б-02\nПреподаватель: Плиева М.В.\nТип занятия: Семинар\nАудитория: 1‑2‑74
LOCATION:1‑2‑74
END:VEVENT
BEGIN:VEVENT
UID:965983_1465@kspu.ru
DTSTAMP:20260422T090035Z
DTSTART:20260424T084000Z
DTEND:20260424T101000Z
SUMMARY:Организация внеучебной деятельности по физической культуре в образовательных учреждениях JO-Б22Б-01 Семинар
DESCRIPTION:Предмет: Организация внеучебной деятельности по физической культуре в образовательных учреждениях\nГруппа: JO-Б22Б-01\nПреподаватель: Плиева М.В.\nТип занятия: Семинар\nАудитория: 1‑2‑74
LOCATION:1‑2‑74
END:VEVENT
BEGIN:VEVENT
UID:1008138_1465@kspu.ru
DTSTAMP:20260422T090035Z
DTSTART:20260429T070000Z
DTEND:20260429T083000Z
SUMMARY:Физкультурно-оздоровительная деятельность в дошкольных образовательных учреждениях JZ-Б21А-01 Лекция
DESCRIPTION:Предмет: Физкультурно-оздоровительная деятельность в дошкольных образовательных учреждениях\nГруппа: JZ-Б21А-01\nПреподаватель: Плиева М.В.\nТип занятия: Лекция\nАудитория: 1‑1‑56
LOCATION:1‑1‑56
END:VEVENT
BEGIN:VEVENT
UID:1008139_1465@kspu.ru
DTSTAMP:20260422T090035Z
DTSTART:20260429T084000Z
DTEND:20260429T101000Z
SUMMARY:Физкультурно-оздоровительная деятельность в дошкольных образовательных учреждениях JZ-Б21А-01 Лекция
DESCRIPTION:Предмет: Физкультурно-оздоровительная деятельность в дошкольных образовательных учреждениях\nГруппа: JZ-Б21А-01\nПреподаватель: Плиева М.В.\nТип занятия: Лекция\nАудитория: 1‑1‑56
LOCATION:1‑1‑56
END:VEVENT
BEGIN:VEVENT
UID:1008141_1465@kspu.ru
DTSTAMP:20260422T090035Z
DTSTART:20260430T070000Z
DTEND:20260430T083000Z
SUMMARY:Физкультурно-оздоровительная деятельность в дошкольных образовательных учреждениях JZ-Б21А-01 Семинар
DESCRIPTION:Предмет: Физкультурно-оздоровительная деятельность в дошкольных образовательных учреждениях\nГруппа: JZ-Б21А-01\nПреподаватель: Плиева М.В.\nТип занятия: Семинар\nАудитория: 1‑1‑52
LOCATION:1‑1‑52
END:VEVENT
BEGIN:VEVENT
UID:1008142_1465@kspu.ru
DTSTAMP:20260422T090035Z
DTSTART:20260430T084000Z
DTEND:20260430T101000Z
SUMMARY:Физкультурно-оздоровительная деятельность в дошкольных образовательных учреждениях JZ-Б21А-01 Семинар
DESCRIPTION:Предмет: Физкультурно-оздоровительная деятельность в дошкольных образовательных учреждениях\nГруппа: JZ-Б21А-01\nПреподаватель: Плиева М.В.\nТип занятия: Семинар\nАудитория: 1‑1‑52
LOCATION:1‑1‑52
END:VEVENT
BEGIN:VEVENT
UID:1008143_1465@kspu.ru
DTSTAMP:20260422T090035Z
DTSTART:20260504T084000Z
DTEND:20260504T101000Z
SUMMARY:Физкультурно-оздоровительная деятельность в дошкольных образовательных учреждениях JZ-Б21А-01 Зачёт
DESCRIPTION:Предмет: Физкультурно-оздоровительная деятельность в дошкольных образовательных учреждениях\nГруппа: JZ-Б21А-01\nПреподаватель: Плиева М.В.\nТип занятия: Зачёт\nАудитория: 1‑1‑52
LOCATION:1‑1‑52
END:VEVENT
BEGIN:VEVENT
UID:1008144_1465@kspu.ru
DTSTAMP:20260422T090035Z
DTSTART:20260504T102000Z
DTEND:20260504T115000Z
SUMMARY:Физкультурно-оздоровительная деятельность в дошкольных образовательных учреждениях JZ-Б21А-01 Зачёт
DESCRIPTION:Предмет: Физкультурно-оздоровительная деятельность в дошкольных образовательных учреждениях\nГруппа: JZ-Б21А-01\nПреподаватель: Плиева М.В.\nТип занятия: Зачёт\nАудитория: 1‑1‑52
LOCATION:1‑1‑52
END:VEVENT
BEGIN:VEVENT
UID:965986_1465@kspu.ru
DTSTAMP:20260422T090035Z
DTSTART:20260508T014000Z
DTEND:20260508T031000Z
SUMMARY:Организация внеучебной деятельности по физической культуре в образовательных учреждениях JO-Б22Б-01 Семинар
DESCRIPTION:Предмет: Организация внеучебной деятельности по физической культуре в образовательных учреждениях\nГруппа: JO-Б22Б-01\nПреподаватель: Плиева М.В.\nТип занятия: Семинар\nАудитория: 1‑4‑40
LOCATION:1‑4‑40
END:VEVENT
BEGIN:VEVENT
UID:965985_1465@kspu.ru
DTSTAMP:20260422T090035Z
DTSTART:20260508T032000Z
DTEND:20260508T045000Z
SUMMARY:Организация внеучебной деятельности по физической культуре в образовательных учреждениях JO-Б22Б-01 Семинар
DESCRIPTION:Предмет: Организация внеучебной деятельности по физической культуре в образовательных учреждениях\nГруппа: JO-Б22Б-01\nПреподаватель: Плиева М.В.\nТип занятия: Семинар\nАудитория: 1‑4‑40
LOCATION:1‑4‑40
END:VEVENT
BEGIN:VEVENT
UID:965991_1465@kspu.ru
DTSTAMP:20260422T090035Z
DTSTART:20260508T052000Z
DTEND:20260508T065000Z
SUMMARY:Организация внеучебной деятельности по физической культуре в образовательных учреждениях JO-Б22Б-02 Семинар
DESCRIPTION:Предмет: Организация внеучебной деятельности по физической культуре в образовательных учреждениях\nГруппа: JO-Б22Б-02\nПреподаватель: Плиева М.В.\nТип занятия: Семинар\nАудитория: 1‑4‑40
LOCATION:1‑4‑40
END:VEVENT
BEGIN:VEVENT
UID:965990_1465@kspu.ru
DTSTAMP:20260422T090035Z
DTSTART:20260508T070000Z
DTEND:20260508T083000Z
SUMMARY:Организация внеучебной деятельности по физической культуре в образовательных учреждениях JO-Б22Б-02 Семинар
DESCRIPTION:Предмет: Организация внеучебной деятельности по физической культуре в образовательных учреждениях\nГруппа: JO-Б22Б-02\nПреподаватель: Плиева М.В.\nТип занятия: Семинар\nАудитория: 1‑4‑40
LOCATION:1‑4‑40
END:VEVENT
END:VCALENDAR