BEGIN:VCALENDAR
VERSION:2.0
PRODID:-//KSPU//Teacher Schedule Calendar//EN
CALSCALE:GREGORIAN
METHOD:PUBLISH
X-WR-CALNAME:Астахова А.Е. Расписание
X-PUBLISHED-TTL:PT15M
BEGIN:VEVENT
UID:910775_1428@kspu.ru
DTSTAMP:20260421T031808Z
DTSTART:20250916T014000Z
DTEND:20250916T031000Z
SUMMARY:Основы учебной и исследовательской деятельности EZ-Б24Б-01 Семинар
DESCRIPTION:Предмет: Основы учебной и исследовательской деятельности\nГруппа: EZ-Б24Б-01\nПреподаватель: Астахова А.Е.\nТип занятия: Семинар\nАудитория: 3‑3‑01
LOCATION:3‑3‑01
END:VEVENT
BEGIN:VEVENT
UID:910779_1428@kspu.ru
DTSTAMP:20260421T031808Z
DTSTART:20250917T014000Z
DTEND:20250917T031000Z
SUMMARY:Основы учебной и исследовательской деятельности EZ-Б24А-01 Семинар
DESCRIPTION:Предмет: Основы учебной и исследовательской деятельности\nГруппа: EZ-Б24А-01\nПреподаватель: Астахова А.Е.\nТип занятия: Семинар\nАудитория: 3‑3‑01
LOCATION:3‑3‑01
END:VEVENT
BEGIN:VEVENT
UID:910776_1428@kspu.ru
DTSTAMP:20260421T031808Z
DTSTART:20250918T014000Z
DTEND:20250918T031000Z
SUMMARY:Основы учебной и исследовательской деятельности EZ-Б24Б-01 Семинар
DESCRIPTION:Предмет: Основы учебной и исследовательской деятельности\nГруппа: EZ-Б24Б-01\nПреподаватель: Астахова А.Е.\nТип занятия: Семинар\nАудитория: 3‑3‑01
LOCATION:3‑3‑01
END:VEVENT
BEGIN:VEVENT
UID:910780_1428@kspu.ru
DTSTAMP:20260421T031808Z
DTSTART:20250920T014000Z
DTEND:20250920T031000Z
SUMMARY:Основы учебной и исследовательской деятельности EZ-Б24А-01 Семинар
DESCRIPTION:Предмет: Основы учебной и исследовательской деятельности\nГруппа: EZ-Б24А-01\nПреподаватель: Астахова А.Е.\nТип занятия: Семинар\nАудитория: 3‑3‑01
LOCATION:3‑3‑01
END:VEVENT
BEGIN:VEVENT
UID:910781_1428@kspu.ru
DTSTAMP:20260421T031808Z
DTSTART:20250920T032000Z
DTEND:20250920T045000Z
SUMMARY:Основы учебной и исследовательской деятельности EZ-Б24А-01 Семинар
DESCRIPTION:Предмет: Основы учебной и исследовательской деятельности\nГруппа: EZ-Б24А-01\nПреподаватель: Астахова А.Е.\nТип занятия: Семинар\nАудитория: 3‑3‑01
LOCATION:3‑3‑01
END:VEVENT
BEGIN:VEVENT
UID:910778_1428@kspu.ru
DTSTAMP:20260421T031808Z
DTSTART:20250920T052000Z
DTEND:20250920T065000Z
SUMMARY:Основы учебной и исследовательской деятельности EZ-Б24Б-01 Семинар
DESCRIPTION:Предмет: Основы учебной и исследовательской деятельности\nГруппа: EZ-Б24Б-01\nПреподаватель: Астахова А.Е.\nТип занятия: Семинар\nАудитория: 3‑3‑07
LOCATION:3‑3‑07
END:VEVENT
BEGIN:VEVENT
UID:943145_1428@kspu.ru
DTSTAMP:20260421T031808Z
DTSTART:20251017T014000Z
DTEND:20251017T031000Z
SUMMARY:Основы учебной и исследовательской деятельности HZ-Б24А-02 Семинар
DESCRIPTION:Предмет: Основы учебной и исследовательской деятельности\nГруппа: HZ-Б24А-02\nПреподаватель: Астахова А.Е.\nТип занятия: Семинар\nАудитория: 3‑3‑10
LOCATION:3‑3‑10
END:VEVENT
BEGIN:VEVENT
UID:943144_1428@kspu.ru
DTSTAMP:20260421T031808Z
DTSTART:20251017T014000Z
DTEND:20251017T031000Z
SUMMARY:Основы учебной и исследовательской деятельности HZ-Б24А-01 Семинар
DESCRIPTION:Предмет: Основы учебной и исследовательской деятельности\nГруппа: HZ-Б24А-01\nПреподаватель: Астахова А.Е.\nТип занятия: Семинар\nАудитория: 3‑3‑10
LOCATION:3‑3‑10
END:VEVENT
BEGIN:VEVENT
UID:943146_1428@kspu.ru
DTSTAMP:20260421T031808Z
DTSTART:20251017T032000Z
DTEND:20251017T045000Z
SUMMARY:Основы учебной и исследовательской деятельности HZ-Б24А-01 Семинар
DESCRIPTION:Предмет: Основы учебной и исследовательской деятельности\nГруппа: HZ-Б24А-01\nПреподаватель: Астахова А.Е.\nТип занятия: Семинар\nАудитория: 3‑3‑10
LOCATION:3‑3‑10
END:VEVENT
BEGIN:VEVENT
UID:943147_1428@kspu.ru
DTSTAMP:20260421T031808Z
DTSTART:20251017T032000Z
DTEND:20251017T045000Z
SUMMARY:Основы учебной и исследовательской деятельности HZ-Б24А-02 Семинар
DESCRIPTION:Предмет: Основы учебной и исследовательской деятельности\nГруппа: HZ-Б24А-02\nПреподаватель: Астахова А.Е.\nТип занятия: Семинар\nАудитория: 3‑3‑10
LOCATION:3‑3‑10
END:VEVENT
BEGIN:VEVENT
UID:943148_1428@kspu.ru
DTSTAMP:20260421T031808Z
DTSTART:20251017T052000Z
DTEND:20251017T065000Z
SUMMARY:Основы учебной и исследовательской деятельности HZ-Б24А-01 Семинар
DESCRIPTION:Предмет: Основы учебной и исследовательской деятельности\nГруппа: HZ-Б24А-01\nПреподаватель: Астахова А.Е.\nТип занятия: Семинар\nАудитория: 3‑3‑10
LOCATION:3‑3‑10
END:VEVENT
BEGIN:VEVENT
UID:943149_1428@kspu.ru
DTSTAMP:20260421T031808Z
DTSTART:20251017T052000Z
DTEND:20251017T065000Z
SUMMARY:Основы учебной и исследовательской деятельности HZ-Б24А-02 Семинар
DESCRIPTION:Предмет: Основы учебной и исследовательской деятельности\nГруппа: HZ-Б24А-02\nПреподаватель: Астахова А.Е.\nТип занятия: Семинар\nАудитория: 3‑3‑10
LOCATION:3‑3‑10
END:VEVENT
BEGIN:VEVENT
UID:951819_1428@kspu.ru
DTSTAMP:20260421T031808Z
DTSTART:20251110T070000Z
DTEND:20251110T083000Z
SUMMARY:Физическая география Приенисейской Сибири EO-Б22Б-01 Лабораторное занятие (Подгруппа A)
DESCRIPTION:Предмет: Физическая география Приенисейской Сибири\nГруппа: EO-Б22Б-01\nПреподаватель: Астахова А.Е.\nТип занятия: Лабораторное занятие\nАудитория: 1‑4‑27
LOCATION:1‑4‑27
END:VEVENT
BEGIN:VEVENT
UID:951820_1428@kspu.ru
DTSTAMP:20260421T031808Z
DTSTART:20251117T052000Z
DTEND:20251117T065000Z
SUMMARY:Физическая география Приенисейской Сибири EO-Б22Б-01 Лабораторное занятие (Подгруппа A)
DESCRIPTION:Предмет: Физическая география Приенисейской Сибири\nГруппа: EO-Б22Б-01\nПреподаватель: Астахова А.Е.\nТип занятия: Лабораторное занятие\nАудитория: 1‑4‑18
LOCATION:1‑4‑18
END:VEVENT
BEGIN:VEVENT
UID:951837_1428@kspu.ru
DTSTAMP:20260421T031808Z
DTSTART:20251119T032000Z
DTEND:20251119T045000Z
SUMMARY:Физическая география Приенисейской Сибири EO-Б22Б-01 Лабораторное занятие (Подгруппа A)
DESCRIPTION:Предмет: Физическая география Приенисейской Сибири\nГруппа: EO-Б22Б-01\nПреподаватель: Астахова А.Е.\nТип занятия: Лабораторное занятие\nАудитория: 1‑4‑28
LOCATION:1‑4‑28
END:VEVENT
BEGIN:VEVENT
UID:951839_1428@kspu.ru
DTSTAMP:20260421T031808Z
DTSTART:20251120T014000Z
DTEND:20251120T031000Z
SUMMARY:Физическая география Приенисейской Сибири EO-Б22Б-01 Лабораторное занятие (Подгруппа Б)
DESCRIPTION:Предмет: Физическая география Приенисейской Сибири\nГруппа: EO-Б22Б-01\nПреподаватель: Астахова А.Е.\nТип занятия: Лабораторное занятие\nАудитория: 1‑4‑28
LOCATION:1‑4‑28
END:VEVENT
BEGIN:VEVENT
UID:951830_1428@kspu.ru
DTSTAMP:20260421T031808Z
DTSTART:20251120T032000Z
DTEND:20251120T045000Z
SUMMARY:Физическая география Приенисейской Сибири EO-Б22Б-01 Лабораторное занятие (Подгруппа Б)
DESCRIPTION:Предмет: Физическая география Приенисейской Сибири\nГруппа: EO-Б22Б-01\nПреподаватель: Астахова А.Е.\nТип занятия: Лабораторное занятие\nАудитория: 1‑4‑28
LOCATION:1‑4‑28
END:VEVENT
BEGIN:VEVENT
UID:951821_1428@kspu.ru
DTSTAMP:20260421T031808Z
DTSTART:20251125T052000Z
DTEND:20251125T065000Z
SUMMARY:Физическая география Приенисейской Сибири EO-Б22Б-01 Лабораторное занятие (Подгруппа A)
DESCRIPTION:Предмет: Физическая география Приенисейской Сибири\nГруппа: EO-Б22Б-01\nПреподаватель: Астахова А.Е.\nТип занятия: Лабораторное занятие\nАудитория: 1‑4‑27
LOCATION:1‑4‑27
END:VEVENT
BEGIN:VEVENT
UID:951841_1428@kspu.ru
DTSTAMP:20260421T031808Z
DTSTART:20251125T070000Z
DTEND:20251125T083000Z
SUMMARY:Физическая география Приенисейской Сибири EO-Б22Б-01 Лабораторное занятие (Подгруппа A)
DESCRIPTION:Предмет: Физическая география Приенисейской Сибири\nГруппа: EO-Б22Б-01\nПреподаватель: Астахова А.Е.\nТип занятия: Лабораторное занятие\nАудитория: 1‑4‑27
LOCATION:1‑4‑27
END:VEVENT
BEGIN:VEVENT
UID:951831_1428@kspu.ru
DTSTAMP:20260421T031808Z
DTSTART:20251128T014000Z
DTEND:20251128T031000Z
SUMMARY:Физическая география Приенисейской Сибири EO-Б22Б-01 Лабораторное занятие (Подгруппа Б)
DESCRIPTION:Предмет: Физическая география Приенисейской Сибири\nГруппа: EO-Б22Б-01\nПреподаватель: Астахова А.Е.\nТип занятия: Лабораторное занятие\nАудитория: 1‑4‑27
LOCATION:1‑4‑27
END:VEVENT
BEGIN:VEVENT
UID:951840_1428@kspu.ru
DTSTAMP:20260421T031808Z
DTSTART:20251128T032000Z
DTEND:20251128T045000Z
SUMMARY:Физическая география Приенисейской Сибири EO-Б22Б-01 Лабораторное занятие (Подгруппа Б)
DESCRIPTION:Предмет: Физическая география Приенисейской Сибири\nГруппа: EO-Б22Б-01\nПреподаватель: Астахова А.Е.\nТип занятия: Лабораторное занятие\nАудитория: 1‑4‑27
LOCATION:1‑4‑27
END:VEVENT
BEGIN:VEVENT
UID:951842_1428@kspu.ru
DTSTAMP:20260421T031808Z
DTSTART:20251201T032000Z
DTEND:20251201T045000Z
SUMMARY:Физическая география Приенисейской Сибири EO-Б22Б-01 Лабораторное занятие (Подгруппа A)
DESCRIPTION:Предмет: Физическая география Приенисейской Сибири\nГруппа: EO-Б22Б-01\nПреподаватель: Астахова А.Е.\nТип занятия: Лабораторное занятие\nАудитория: 1‑4‑19
LOCATION:1‑4‑19
END:VEVENT
BEGIN:VEVENT
UID:951822_1428@kspu.ru
DTSTAMP:20260421T031808Z
DTSTART:20251202T032000Z
DTEND:20251202T045000Z
SUMMARY:Физическая география Приенисейской Сибири EO-Б22Б-01 Лабораторное занятие (Подгруппа A)
DESCRIPTION:Предмет: Физическая география Приенисейской Сибири\nГруппа: EO-Б22Б-01\nПреподаватель: Астахова А.Е.\nТип занятия: Лабораторное занятие\nАудитория: 1‑4‑18
LOCATION:1‑4‑18
END:VEVENT
BEGIN:VEVENT
UID:951846_1428@kspu.ru
DTSTAMP:20260421T031808Z
DTSTART:20251203T032000Z
DTEND:20251203T045000Z
SUMMARY:Физическая география Приенисейской Сибири EO-Б22Б-01 Лабораторное занятие (Подгруппа Б)
DESCRIPTION:Предмет: Физическая география Приенисейской Сибири\nГруппа: EO-Б22Б-01\nПреподаватель: Астахова А.Е.\nТип занятия: Лабораторное занятие\nАудитория: 1‑4‑27
LOCATION:1‑4‑27
END:VEVENT
BEGIN:VEVENT
UID:951832_1428@kspu.ru
DTSTAMP:20260421T031808Z
DTSTART:20251204T032000Z
DTEND:20251204T045000Z
SUMMARY:Физическая география Приенисейской Сибири EO-Б22Б-01 Лабораторное занятие (Подгруппа Б)
DESCRIPTION:Предмет: Физическая география Приенисейской Сибири\nГруппа: EO-Б22Б-01\nПреподаватель: Астахова А.Е.\nТип занятия: Лабораторное занятие\nАудитория: 1‑4‑18
LOCATION:1‑4‑18
END:VEVENT
BEGIN:VEVENT
UID:951844_1428@kspu.ru
DTSTAMP:20260421T031808Z
DTSTART:20251204T070000Z
DTEND:20251204T083000Z
SUMMARY:Физическая география Приенисейской Сибири EO-Б22Б-01 Лабораторное занятие (Подгруппа Б)
DESCRIPTION:Предмет: Физическая география Приенисейской Сибири\nГруппа: EO-Б22Б-01\nПреподаватель: Астахова А.Е.\nТип занятия: Лабораторное занятие\nАудитория: 1‑4‑27
LOCATION:1‑4‑27
END:VEVENT
BEGIN:VEVENT
UID:951824_1428@kspu.ru
DTSTAMP:20260421T031808Z
DTSTART:20251216T032000Z
DTEND:20251216T045000Z
SUMMARY:Физическая география Приенисейской Сибири EO-Б22Б-01 Лабораторное занятие (Подгруппа A)
DESCRIPTION:Предмет: Физическая география Приенисейской Сибири\nГруппа: EO-Б22Б-01\nПреподаватель: Астахова А.Е.\nТип занятия: Лабораторное занятие\nАудитория: 1‑4‑18
LOCATION:1‑4‑18
END:VEVENT
BEGIN:VEVENT
UID:951834_1428@kspu.ru
DTSTAMP:20260421T031808Z
DTSTART:20251216T052000Z
DTEND:20251216T065000Z
SUMMARY:Физическая география Приенисейской Сибири EO-Б22Б-01 Лабораторное занятие (Подгруппа Б)
DESCRIPTION:Предмет: Физическая география Приенисейской Сибири\nГруппа: EO-Б22Б-01\nПреподаватель: Астахова А.Е.\nТип занятия: Лабораторное занятие\nАудитория: 1‑4‑27
LOCATION:1‑4‑27
END:VEVENT
BEGIN:VEVENT
UID:951853_1428@kspu.ru
DTSTAMP:20260421T031808Z
DTSTART:20251218T070000Z
DTEND:20251218T083000Z
SUMMARY:Физическая география Приенисейской Сибири EO-Б22Б-01 Лабораторное занятие (Подгруппа A)
DESCRIPTION:Предмет: Физическая география Приенисейской Сибири\nГруппа: EO-Б22Б-01\nПреподаватель: Астахова А.Е.\nТип занятия: Лабораторное занятие\nАудитория: 1‑4‑23
LOCATION:1‑4‑23
END:VEVENT
BEGIN:VEVENT
UID:951854_1428@kspu.ru
DTSTAMP:20260421T031808Z
DTSTART:20251219T014000Z
DTEND:20251219T031000Z
SUMMARY:Физическая география Приенисейской Сибири EO-Б22Б-01 Лабораторное занятие (Подгруппа Б)
DESCRIPTION:Предмет: Физическая география Приенисейской Сибири\nГруппа: EO-Б22Б-01\nПреподаватель: Астахова А.Е.\nТип занятия: Лабораторное занятие\nАудитория: 1‑4‑27
LOCATION:1‑4‑27
END:VEVENT
BEGIN:VEVENT
UID:951912_1428@kspu.ru
DTSTAMP:20260421T031808Z
DTSTART:20251222T032000Z
DTEND:20251222T045000Z
SUMMARY:Физическая география Приенисейской Сибири EO-Б22Б-01 Лабораторное занятие (Подгруппа Б)
DESCRIPTION:Предмет: Физическая география Приенисейской Сибири\nГруппа: EO-Б22Б-01\nПреподаватель: Астахова А.Е.\nТип занятия: Лабораторное занятие\nАудитория: 1‑4‑19
LOCATION:1‑4‑19
END:VEVENT
BEGIN:VEVENT
UID:951849_1428@kspu.ru
DTSTAMP:20260421T031808Z
DTSTART:20251223T014000Z
DTEND:20251223T031000Z
SUMMARY:Физическая география Приенисейской Сибири EO-Б22Б-01 Лабораторное занятие (Подгруппа Б)
DESCRIPTION:Предмет: Физическая география Приенисейской Сибири\nГруппа: EO-Б22Б-01\nПреподаватель: Астахова А.Е.\nТип занятия: Лабораторное занятие\nАудитория: 1‑4‑19
LOCATION:1‑4‑19
END:VEVENT
BEGIN:VEVENT
UID:951833_1428@kspu.ru
DTSTAMP:20260421T031808Z
DTSTART:20251223T032000Z
DTEND:20251223T045000Z
SUMMARY:Физическая география Приенисейской Сибири EO-Б22Б-01 Лабораторное занятие (Подгруппа Б)
DESCRIPTION:Предмет: Физическая география Приенисейской Сибири\nГруппа: EO-Б22Б-01\nПреподаватель: Астахова А.Е.\nТип занятия: Лабораторное занятие\nАудитория: 1‑4‑19
LOCATION:1‑4‑19
END:VEVENT
BEGIN:VEVENT
UID:951823_1428@kspu.ru
DTSTAMP:20260421T031808Z
DTSTART:20251223T052000Z
DTEND:20251223T065000Z
SUMMARY:Физическая география Приенисейской Сибири EO-Б22Б-01 Лабораторное занятие (Подгруппа A)
DESCRIPTION:Предмет: Физическая география Приенисейской Сибири\nГруппа: EO-Б22Б-01\nПреподаватель: Астахова А.Е.\nТип занятия: Лабораторное занятие\nАудитория: 1‑4‑27
LOCATION:1‑4‑27
END:VEVENT
BEGIN:VEVENT
UID:951848_1428@kspu.ru
DTSTAMP:20260421T031808Z
DTSTART:20251223T070000Z
DTEND:20251223T083000Z
SUMMARY:Физическая география Приенисейской Сибири EO-Б22Б-01 Лабораторное занятие (Подгруппа A)
DESCRIPTION:Предмет: Физическая география Приенисейской Сибири\nГруппа: EO-Б22Б-01\nПреподаватель: Астахова А.Е.\nТип занятия: Лабораторное занятие\nАудитория: 1‑4‑18
LOCATION:1‑4‑18
END:VEVENT
BEGIN:VEVENT
UID:951825_1428@kspu.ru
DTSTAMP:20260421T031808Z
DTSTART:20251224T032000Z
DTEND:20251224T045000Z
SUMMARY:Физическая география Приенисейской Сибири EO-Б22Б-01 Лабораторное занятие (Подгруппа A)
DESCRIPTION:Предмет: Физическая география Приенисейской Сибири\nГруппа: EO-Б22Б-01\nПреподаватель: Астахова А.Е.\nТип занятия: Лабораторное занятие\nАудитория: 1‑4‑18
LOCATION:1‑4‑18
END:VEVENT
BEGIN:VEVENT
UID:985950_1428@kspu.ru
DTSTAMP:20260421T031808Z
DTSTART:20260211T052000Z
DTEND:20260211T065000Z
SUMMARY:Физическая география Красноярского края EO-Б21Б-01 Лабораторное занятие (Подгруппа Б)
DESCRIPTION:Предмет: Физическая география Красноярского края\nГруппа: EO-Б21Б-01\nПреподаватель: Астахова А.Е.\nТип занятия: Лабораторное занятие\nАудитория: 1‑4‑27
LOCATION:1‑4‑27
END:VEVENT
BEGIN:VEVENT
UID:985934_1428@kspu.ru
DTSTAMP:20260421T031808Z
DTSTART:20260212T052000Z
DTEND:20260212T065000Z
SUMMARY:Физическая география Красноярского края EO-Б21Б-01 Лабораторное занятие (Подгруппа A)
DESCRIPTION:Предмет: Физическая география Красноярского края\nГруппа: EO-Б21Б-01\nПреподаватель: Астахова А.Е.\nТип занятия: Лабораторное занятие\nАудитория: 1‑4‑27
LOCATION:1‑4‑27
END:VEVENT
BEGIN:VEVENT
UID:986025_1428@kspu.ru
DTSTAMP:20260421T031808Z
DTSTART:20260216T032000Z
DTEND:20260216T045000Z
SUMMARY:Физическая география Красноярского края EO-Б21Б-01 Лабораторное занятие (Подгруппа Б)
DESCRIPTION:Предмет: Физическая география Красноярского края\nГруппа: EO-Б21Б-01\nПреподаватель: Астахова А.Е.\nТип занятия: Лабораторное занятие\nАудитория: 1‑4‑19
LOCATION:1‑4‑19
END:VEVENT
BEGIN:VEVENT
UID:985951_1428@kspu.ru
DTSTAMP:20260421T031808Z
DTSTART:20260217T032000Z
DTEND:20260217T045000Z
SUMMARY:Физическая география Красноярского края EO-Б21Б-01 Лабораторное занятие (Подгруппа A)
DESCRIPTION:Предмет: Физическая география Красноярского края\nГруппа: EO-Б21Б-01\nПреподаватель: Астахова А.Е.\nТип занятия: Лабораторное занятие\nАудитория: 1‑4‑27
LOCATION:1‑4‑27
END:VEVENT
BEGIN:VEVENT
UID:988246_1428@kspu.ru
DTSTAMP:20260421T031808Z
DTSTART:20260220T084000Z
DTEND:20260220T101000Z
SUMMARY:Физическая география Приенисейской Сибири EZ-Б24А-01 Лабораторное занятие
DESCRIPTION:Предмет: Физическая география Приенисейской Сибири\nГруппа: EZ-Б24А-01\nПреподаватель: Астахова А.Е.\nТип занятия: Лабораторное занятие\nАудитория: 1‑4‑23
LOCATION:1‑4‑23
END:VEVENT
BEGIN:VEVENT
UID:988249_1428@kspu.ru
DTSTAMP:20260421T031808Z
DTSTART:20260224T014000Z
DTEND:20260224T031000Z
SUMMARY:Физическая география Приенисейской Сибири EZ-Б24А-01 Лабораторное занятие
DESCRIPTION:Предмет: Физическая география Приенисейской Сибири\nГруппа: EZ-Б24А-01\nПреподаватель: Астахова А.Е.\nТип занятия: Лабораторное занятие\nАудитория: 1‑4‑33
LOCATION:1‑4‑33
END:VEVENT
BEGIN:VEVENT
UID:988254_1428@kspu.ru
DTSTAMP:20260421T031808Z
DTSTART:20260224T032000Z
DTEND:20260224T045000Z
SUMMARY:Физическая география Приенисейской Сибири EZ-Б24А-01 Лабораторное занятие
DESCRIPTION:Предмет: Физическая география Приенисейской Сибири\nГруппа: EZ-Б24А-01\nПреподаватель: Астахова А.Е.\nТип занятия: Лабораторное занятие\nАудитория: 1‑4‑23
LOCATION:1‑4‑23
END:VEVENT
BEGIN:VEVENT
UID:985937_1428@kspu.ru
DTSTAMP:20260421T031808Z
DTSTART:20260224T070000Z
DTEND:20260224T083000Z
SUMMARY:Физическая география Красноярского края EO-Б21Б-01 Лабораторное занятие (Подгруппа A)
DESCRIPTION:Предмет: Физическая география Красноярского края\nГруппа: EO-Б21Б-01\nПреподаватель: Астахова А.Е.\nТип занятия: Лабораторное занятие\nАудитория: 1‑4‑19
LOCATION:1‑4‑19
END:VEVENT
BEGIN:VEVENT
UID:985952_1428@kspu.ru
DTSTAMP:20260421T031808Z
DTSTART:20260225T032000Z
DTEND:20260225T045000Z
SUMMARY:Физическая география Красноярского края EO-Б21Б-01 Лабораторное занятие (Подгруппа Б)
DESCRIPTION:Предмет: Физическая география Красноярского края\nГруппа: EO-Б21Б-01\nПреподаватель: Астахова А.Е.\nТип занятия: Лабораторное занятие\nАудитория: 1‑4‑19
LOCATION:1‑4‑19
END:VEVENT
BEGIN:VEVENT
UID:988261_1428@kspu.ru
DTSTAMP:20260421T031808Z
DTSTART:20260226T014000Z
DTEND:20260226T031000Z
SUMMARY:Физическая география Приенисейской Сибири EZ-Б24А-01 Лабораторное занятие
DESCRIPTION:Предмет: Физическая география Приенисейской Сибири\nГруппа: EZ-Б24А-01\nПреподаватель: Астахова А.Е.\nТип занятия: Лабораторное занятие\nАудитория: 1‑4‑33
LOCATION:1‑4‑33
END:VEVENT
BEGIN:VEVENT
UID:986018_1428@kspu.ru
DTSTAMP:20260421T031808Z
DTSTART:20260310T070000Z
DTEND:20260310T083000Z
SUMMARY:Физическая география Красноярского края EO-Б21Б-01 Лабораторное занятие (Подгруппа A)
DESCRIPTION:Предмет: Физическая география Красноярского края\nГруппа: EO-Б21Б-01\nПреподаватель: Астахова А.Е.\nТип занятия: Лабораторное занятие\nАудитория: 1‑4‑19
LOCATION:1‑4‑19
END:VEVENT
BEGIN:VEVENT
UID:985954_1428@kspu.ru
DTSTAMP:20260421T031808Z
DTSTART:20260310T084000Z
DTEND:20260310T101000Z
SUMMARY:Физическая география Красноярского края EO-Б21Б-01 Лабораторное занятие (Подгруппа A)
DESCRIPTION:Предмет: Физическая география Красноярского края\nГруппа: EO-Б21Б-01\nПреподаватель: Астахова А.Е.\nТип занятия: Лабораторное занятие\nАудитория: 1‑4‑19
LOCATION:1‑4‑19
END:VEVENT
BEGIN:VEVENT
UID:985939_1428@kspu.ru
DTSTAMP:20260421T031808Z
DTSTART:20260311T014000Z
DTEND:20260311T031000Z
SUMMARY:Физическая география Красноярского края EO-Б21Б-01 Лабораторное занятие (Подгруппа Б)
DESCRIPTION:Предмет: Физическая география Красноярского края\nГруппа: EO-Б21Б-01\nПреподаватель: Астахова А.Е.\nТип занятия: Лабораторное занятие\nАудитория: 1‑4‑18
LOCATION:1‑4‑18
END:VEVENT
BEGIN:VEVENT
UID:986012_1428@kspu.ru
DTSTAMP:20260421T031808Z
DTSTART:20260311T032000Z
DTEND:20260311T045000Z
SUMMARY:Физическая география Красноярского края EO-Б21Б-01 Лабораторное занятие (Подгруппа Б)
DESCRIPTION:Предмет: Физическая география Красноярского края\nГруппа: EO-Б21Б-01\nПреподаватель: Астахова А.Е.\nТип занятия: Лабораторное занятие\nАудитория: 1‑4‑18
LOCATION:1‑4‑18
END:VEVENT
BEGIN:VEVENT
UID:985956_1428@kspu.ru
DTSTAMP:20260421T031808Z
DTSTART:20260324T052000Z
DTEND:20260324T065000Z
SUMMARY:Физическая география Красноярского края EO-Б21Б-01 Лабораторное занятие (Подгруппа A)
DESCRIPTION:Предмет: Физическая география Красноярского края\nГруппа: EO-Б21Б-01\nПреподаватель: Астахова А.Е.\nТип занятия: Лабораторное занятие\nАудитория: 1‑4‑27
LOCATION:1‑4‑27
END:VEVENT
BEGIN:VEVENT
UID:985941_1428@kspu.ru
DTSTAMP:20260421T031808Z
DTSTART:20260324T070000Z
DTEND:20260324T083000Z
SUMMARY:Физическая география Красноярского края EO-Б21Б-01 Лабораторное занятие (Подгруппа A)
DESCRIPTION:Предмет: Физическая география Красноярского края\nГруппа: EO-Б21Б-01\nПреподаватель: Астахова А.Е.\nТип занятия: Лабораторное занятие\nАудитория: 1‑4‑27
LOCATION:1‑4‑27
END:VEVENT
BEGIN:VEVENT
UID:986020_1428@kspu.ru
DTSTAMP:20260421T031808Z
DTSTART:20260324T084000Z
DTEND:20260324T101000Z
SUMMARY:Физическая география Красноярского края EO-Б21Б-01 Лабораторное занятие (Подгруппа Б)
DESCRIPTION:Предмет: Физическая география Красноярского края\nГруппа: EO-Б21Б-01\nПреподаватель: Астахова А.Е.\nТип занятия: Лабораторное занятие\nАудитория: 1‑4‑19
LOCATION:1‑4‑19
END:VEVENT
BEGIN:VEVENT
UID:985940_1428@kspu.ru
DTSTAMP:20260421T031808Z
DTSTART:20260325T014000Z
DTEND:20260325T031000Z
SUMMARY:Физическая география Красноярского края EO-Б21Б-01 Лабораторное занятие (Подгруппа Б)
DESCRIPTION:Предмет: Физическая география Красноярского края\nГруппа: EO-Б21Б-01\nПреподаватель: Астахова А.Е.\nТип занятия: Лабораторное занятие\nАудитория: 1‑4‑19
LOCATION:1‑4‑19
END:VEVENT
BEGIN:VEVENT
UID:986013_1428@kspu.ru
DTSTAMP:20260421T031808Z
DTSTART:20260325T032000Z
DTEND:20260325T045000Z
SUMMARY:Физическая география Красноярского края EO-Б21Б-01 Лабораторное занятие (Подгруппа Б)
DESCRIPTION:Предмет: Физическая география Красноярского края\nГруппа: EO-Б21Б-01\nПреподаватель: Астахова А.Е.\nТип занятия: Лабораторное занятие\nАудитория: 1‑4‑18
LOCATION:1‑4‑18
END:VEVENT
BEGIN:VEVENT
UID:985953_1428@kspu.ru
DTSTAMP:20260421T031808Z
DTSTART:20260325T052000Z
DTEND:20260325T065000Z
SUMMARY:Физическая география Красноярского края EO-Б21Б-01 Лабораторное занятие (Подгруппа Б)
DESCRIPTION:Предмет: Физическая география Красноярского края\nГруппа: EO-Б21Б-01\nПреподаватель: Астахова А.Е.\nТип занятия: Лабораторное занятие\nАудитория: 1‑4‑27
LOCATION:1‑4‑27
END:VEVENT
BEGIN:VEVENT
UID:986014_1428@kspu.ru
DTSTAMP:20260421T031808Z
DTSTART:20260326T032000Z
DTEND:20260326T045000Z
SUMMARY:Физическая география Красноярского края EO-Б21Б-01 Лабораторное занятие (Подгруппа Б)
DESCRIPTION:Предмет: Физическая география Красноярского края\nГруппа: EO-Б21Б-01\nПреподаватель: Астахова А.Е.\nТип занятия: Лабораторное занятие\nАудитория: 1‑4‑27
LOCATION:1‑4‑27
END:VEVENT
BEGIN:VEVENT
UID:985938_1428@kspu.ru
DTSTAMP:20260421T031808Z
DTSTART:20260326T070000Z
DTEND:20260326T083000Z
SUMMARY:Физическая география Красноярского края EO-Б21Б-01 Лабораторное занятие (Подгруппа A)
DESCRIPTION:Предмет: Физическая география Красноярского края\nГруппа: EO-Б21Б-01\nПреподаватель: Астахова А.Е.\nТип занятия: Лабораторное занятие\nАудитория: 1‑4‑27
LOCATION:1‑4‑27
END:VEVENT
BEGIN:VEVENT
UID:985942_1428@kspu.ru
DTSTAMP:20260421T031808Z
DTSTART:20260330T014000Z
DTEND:20260330T031000Z
SUMMARY:Физическая география Красноярского края EO-Б21Б-01 Лабораторное занятие (Подгруппа Б)
DESCRIPTION:Предмет: Физическая география Красноярского края\nГруппа: EO-Б21Б-01\nПреподаватель: Астахова А.Е.\nТип занятия: Лабораторное занятие\nАудитория: 1‑4‑19
LOCATION:1‑4‑19
END:VEVENT
BEGIN:VEVENT
UID:985957_1428@kspu.ru
DTSTAMP:20260421T031808Z
DTSTART:20260331T052000Z
DTEND:20260331T065000Z
SUMMARY:Физическая география Красноярского края EO-Б21Б-01 Лабораторное занятие (Подгруппа A)
DESCRIPTION:Предмет: Физическая география Красноярского края\nГруппа: EO-Б21Б-01\nПреподаватель: Астахова А.Е.\nТип занятия: Лабораторное занятие\nАудитория: 1‑4‑33
LOCATION:1‑4‑33
END:VEVENT
BEGIN:VEVENT
UID:986021_1428@kspu.ru
DTSTAMP:20260421T031808Z
DTSTART:20260331T070000Z
DTEND:20260331T083000Z
SUMMARY:Физическая география Красноярского края EO-Б21Б-01 Лабораторное занятие (Подгруппа A)
DESCRIPTION:Предмет: Физическая география Красноярского края\nГруппа: EO-Б21Б-01\nПреподаватель: Астахова А.Е.\nТип занятия: Лабораторное занятие\nАудитория: 1‑4‑27
LOCATION:1‑4‑27
END:VEVENT
BEGIN:VEVENT
UID:986015_1428@kspu.ru
DTSTAMP:20260421T031808Z
DTSTART:20260402T070000Z
DTEND:20260402T083000Z
SUMMARY:Физическая география Красноярского края EO-Б21Б-01 Лабораторное занятие (Подгруппа Б)
DESCRIPTION:Предмет: Физическая география Красноярского края\nГруппа: EO-Б21Б-01\nПреподаватель: Астахова А.Е.\nТип занятия: Лабораторное занятие\nАудитория: 1‑4‑18
LOCATION:1‑4‑18
END:VEVENT
BEGIN:VEVENT
UID:986016_1428@kspu.ru
DTSTAMP:20260421T031808Z
DTSTART:20260406T052000Z
DTEND:20260406T065000Z
SUMMARY:Физическая география Красноярского края EO-Б21Б-01 Лабораторное занятие (Подгруппа Б)
DESCRIPTION:Предмет: Физическая география Красноярского края\nГруппа: EO-Б21Б-01\nПреподаватель: Астахова А.Е.\nТип занятия: Лабораторное занятие\nАудитория: 1‑4‑33
LOCATION:1‑4‑33
END:VEVENT
BEGIN:VEVENT
UID:985943_1428@kspu.ru
DTSTAMP:20260421T031808Z
DTSTART:20260406T070000Z
DTEND:20260406T083000Z
SUMMARY:Физическая география Красноярского края EO-Б21Б-01 Лабораторное занятие (Подгруппа Б)
DESCRIPTION:Предмет: Физическая география Красноярского края\nГруппа: EO-Б21Б-01\nПреподаватель: Астахова А.Е.\nТип занятия: Лабораторное занятие\nАудитория: 1‑4‑33
LOCATION:1‑4‑33
END:VEVENT
BEGIN:VEVENT
UID:985958_1428@kspu.ru
DTSTAMP:20260421T031808Z
DTSTART:20260407T052000Z
DTEND:20260407T065000Z
SUMMARY:Физическая география Красноярского края EO-Б21Б-01 Лабораторное занятие (Подгруппа A)
DESCRIPTION:Предмет: Физическая география Красноярского края\nГруппа: EO-Б21Б-01\nПреподаватель: Астахова А.Е.\nТип занятия: Лабораторное занятие\nАудитория: 1‑4‑33
LOCATION:1‑4‑33
END:VEVENT
BEGIN:VEVENT
UID:986022_1428@kspu.ru
DTSTAMP:20260421T031808Z
DTSTART:20260407T070000Z
DTEND:20260407T083000Z
SUMMARY:Физическая география Красноярского края EO-Б21Б-01 Лабораторное занятие (Подгруппа A)
DESCRIPTION:Предмет: Физическая география Красноярского края\nГруппа: EO-Б21Б-01\nПреподаватель: Астахова А.Е.\nТип занятия: Лабораторное занятие\nАудитория: 1‑4‑33
LOCATION:1‑4‑33
END:VEVENT
BEGIN:VEVENT
UID:985955_1428@kspu.ru
DTSTAMP:20260421T031808Z
DTSTART:20260408T070000Z
DTEND:20260408T083000Z
SUMMARY:Физическая география Красноярского края EO-Б21Б-01 Лабораторное занятие (Подгруппа A)
DESCRIPTION:Предмет: Физическая география Красноярского края\nГруппа: EO-Б21Б-01\nПреподаватель: Астахова А.Е.\nТип занятия: Лабораторное занятие\nАудитория: 1‑4‑27
LOCATION:1‑4‑27
END:VEVENT
BEGIN:VEVENT
UID:986019_1428@kspu.ru
DTSTAMP:20260421T031808Z
DTSTART:20260408T084000Z
DTEND:20260408T101000Z
SUMMARY:Физическая география Красноярского края EO-Б21Б-01 Лабораторное занятие (Подгруппа A)
DESCRIPTION:Предмет: Физическая география Красноярского края\nГруппа: EO-Б21Б-01\nПреподаватель: Астахова А.Е.\nТип занятия: Лабораторное занятие\nАудитория: 1‑4‑27
LOCATION:1‑4‑27
END:VEVENT
BEGIN:VEVENT
UID:986023_1428@kspu.ru
DTSTAMP:20260421T031808Z
DTSTART:20260411T014000Z
DTEND:20260411T031000Z
SUMMARY:Физическая география Красноярского края EO-Б21Б-01 Лабораторное занятие (Подгруппа A)
DESCRIPTION:Предмет: Физическая география Красноярского края\nГруппа: EO-Б21Б-01\nПреподаватель: Астахова А.Е.\nТип занятия: Лабораторное занятие\nАудитория: 1‑4‑23
LOCATION:1‑4‑23
END:VEVENT
BEGIN:VEVENT
UID:986032_1428@kspu.ru
DTSTAMP:20260421T031808Z
DTSTART:20260411T032000Z
DTEND:20260411T045000Z
SUMMARY:Физическая география Красноярского края EO-Б21Б-01 Лабораторное занятие (Подгруппа A)
DESCRIPTION:Предмет: Физическая география Красноярского края\nГруппа: EO-Б21Б-01\nПреподаватель: Астахова А.Е.\nТип занятия: Лабораторное занятие\nАудитория: 1‑4‑23
LOCATION:1‑4‑23
END:VEVENT
BEGIN:VEVENT
UID:985944_1428@kspu.ru
DTSTAMP:20260421T031808Z
DTSTART:20260411T052000Z
DTEND:20260411T065000Z
SUMMARY:Физическая география Красноярского края EO-Б21Б-01 Лабораторное занятие (Подгруппа Б)
DESCRIPTION:Предмет: Физическая география Красноярского края\nГруппа: EO-Б21Б-01\nПреподаватель: Астахова А.Е.\nТип занятия: Лабораторное занятие\nАудитория: 1‑4‑23
LOCATION:1‑4‑23
END:VEVENT
BEGIN:VEVENT
UID:986017_1428@kspu.ru
DTSTAMP:20260421T031808Z
DTSTART:20260411T070000Z
DTEND:20260411T083000Z
SUMMARY:Физическая география Красноярского края EO-Б21Б-01 Лабораторное занятие (Подгруппа Б)
DESCRIPTION:Предмет: Физическая география Красноярского края\nГруппа: EO-Б21Б-01\nПреподаватель: Астахова А.Е.\nТип занятия: Лабораторное занятие\nАудитория: 1‑4‑23
LOCATION:1‑4‑23
END:VEVENT
BEGIN:VEVENT
UID:1006161_1428@kspu.ru
DTSTAMP:20260421T031808Z
DTSTART:20260627T032000Z
DTEND:20260627T045000Z
SUMMARY:Учебная практика: Полевая практика (по профилю География) 9 дней EO-Б25Б-01 Семинар
DESCRIPTION:Предмет: Учебная практика: Полевая практика (по профилю География) 9 дней\nГруппа: EO-Б25Б-01\nПреподаватель: Мельниченко Т.Н. / Астахова А.Е.\nТип занятия: Семинар\nАудитория: 1‑4‑33
LOCATION:1‑4‑33
END:VEVENT
BEGIN:VEVENT
UID:1006162_1428@kspu.ru
DTSTAMP:20260421T031808Z
DTSTART:20260706T032000Z
DTEND:20260706T045000Z
SUMMARY:Учебная практика: Полевая практика (по профилю География) 9 дней EO-Б25Б-01 Зачёт с оценкой
DESCRIPTION:Предмет: Учебная практика: Полевая практика (по профилю География) 9 дней\nГруппа: EO-Б25Б-01\nПреподаватель: Мельниченко Т.Н. / Астахова А.Е.\nТип занятия: Зачёт с оценкой\nАудитория: 1‑4‑33
LOCATION:1‑4‑33
END:VEVENT
END:VCALENDAR