BEGIN:VCALENDAR
VERSION:2.0
PRODID:-//KSPU//Teacher Schedule Calendar//EN
CALSCALE:GREGORIAN
METHOD:PUBLISH
X-WR-CALNAME:Фаут Ю.В. Расписание
X-PUBLISHED-TTL:PT15M
BEGIN:VEVENT
UID:923186_1422@kspu.ru
DTSTAMP:20260419T131532Z
DTSTART:20250905T014000Z
DTEND:20250905T031000Z
SUMMARY:Теоретические основы информатики DO-Б23А-02 Лабораторное занятие
DESCRIPTION:Предмет: Теоретические основы информатики\nГруппа: DO-Б23А-02\nПреподаватель: Фаут Ю.В.\nТип занятия: Лабораторное занятие\nАудитория: 4‑3‑13\,4‑3‑14
LOCATION:4‑3‑13\,4‑3‑14
END:VEVENT
BEGIN:VEVENT
UID:923185_1422@kspu.ru
DTSTAMP:20260419T131532Z
DTSTART:20250905T032000Z
DTEND:20250905T045000Z
SUMMARY:Теоретические основы информатики DO-Б23А-02 Лабораторное занятие
DESCRIPTION:Предмет: Теоретические основы информатики\nГруппа: DO-Б23А-02\nПреподаватель: Фаут Ю.В.\nТип занятия: Лабораторное занятие\nАудитория: 4‑3‑13\,4‑3‑14
LOCATION:4‑3‑13\,4‑3‑14
END:VEVENT
BEGIN:VEVENT
UID:896435_1422@kspu.ru
DTSTAMP:20260419T131532Z
DTSTART:20250911T052000Z
DTEND:20250911T065000Z
SUMMARY:Математические основы информатики  DO-Б25А-02 Лабораторное занятие (Подгруппа Б)
DESCRIPTION:Предмет: Математические основы информатики \nГруппа: DO-Б25А-02\nПреподаватель: Фаут Ю.В.\nТип занятия: Лабораторное занятие\nАудитория: 4‑4‑12
LOCATION:4‑4‑12
END:VEVENT
BEGIN:VEVENT
UID:896448_1422@kspu.ru
DTSTAMP:20260419T131532Z
DTSTART:20250911T070000Z
DTEND:20250911T083000Z
SUMMARY:Математические основы информатики  DO-Б25А-02 Лабораторное занятие (Подгруппа A)
DESCRIPTION:Предмет: Математические основы информатики \nГруппа: DO-Б25А-02\nПреподаватель: Фаут Ю.В.\nТип занятия: Лабораторное занятие\nАудитория: 4‑4‑12
LOCATION:4‑4‑12
END:VEVENT
BEGIN:VEVENT
UID:899591_1422@kspu.ru
DTSTAMP:20260419T131532Z
DTSTART:20250912T032000Z
DTEND:20250912T045000Z
SUMMARY:Методика обучения информатике DO-Б22Б-02 Лабораторное занятие
DESCRIPTION:Предмет: Методика обучения информатике\nГруппа: DO-Б22Б-02\nПреподаватель: Фаут Ю.В.\nТип занятия: Лабораторное занятие\nАудитория: 4‑1‑09
LOCATION:4‑1‑09
END:VEVENT
BEGIN:VEVENT
UID:923184_1422@kspu.ru
DTSTAMP:20260419T131532Z
DTSTART:20250912T052000Z
DTEND:20250912T065000Z
SUMMARY:Теоретические основы информатики DO-Б23А-02 Лабораторное занятие
DESCRIPTION:Предмет: Теоретические основы информатики\nГруппа: DO-Б23А-02\nПреподаватель: Фаут Ю.В.\nТип занятия: Лабораторное занятие\nАудитория: 4‑4‑12
LOCATION:4‑4‑12
END:VEVENT
BEGIN:VEVENT
UID:896450_1422@kspu.ru
DTSTAMP:20260419T131532Z
DTSTART:20251002T014000Z
DTEND:20251002T031000Z
SUMMARY:Математические основы информатики  DO-Б25А-02 Лабораторное занятие (Подгруппа A)
DESCRIPTION:Предмет: Математические основы информатики \nГруппа: DO-Б25А-02\nПреподаватель: Фаут Ю.В.\nТип занятия: Лабораторное занятие\nАудитория: 4‑4‑12
LOCATION:4‑4‑12
END:VEVENT
BEGIN:VEVENT
UID:896438_1422@kspu.ru
DTSTAMP:20260419T131532Z
DTSTART:20251002T052000Z
DTEND:20251002T065000Z
SUMMARY:Математические основы информатики  DO-Б25А-02 Лабораторное занятие (Подгруппа Б)
DESCRIPTION:Предмет: Математические основы информатики \nГруппа: DO-Б25А-02\nПреподаватель: Фаут Ю.В.\nТип занятия: Лабораторное занятие\nАудитория: 4‑4‑12
LOCATION:4‑4‑12
END:VEVENT
BEGIN:VEVENT
UID:896451_1422@kspu.ru
DTSTAMP:20260419T131532Z
DTSTART:20251002T070000Z
DTEND:20251002T083000Z
SUMMARY:Математические основы информатики  DO-Б25А-02 Лабораторное занятие (Подгруппа A)
DESCRIPTION:Предмет: Математические основы информатики \nГруппа: DO-Б25А-02\nПреподаватель: Фаут Ю.В.\nТип занятия: Лабораторное занятие\nАудитория: 4‑4‑12
LOCATION:4‑4‑12
END:VEVENT
BEGIN:VEVENT
UID:899594_1422@kspu.ru
DTSTAMP:20260419T131532Z
DTSTART:20251003T032000Z
DTEND:20251003T045000Z
SUMMARY:Методика обучения информатике DO-Б22Б-02 Лабораторное занятие
DESCRIPTION:Предмет: Методика обучения информатике\nГруппа: DO-Б22Б-02\nПреподаватель: Фаут Ю.В.\nТип занятия: Лабораторное занятие\nАудитория: 4‑1‑09
LOCATION:4‑1‑09
END:VEVENT
BEGIN:VEVENT
UID:923187_1422@kspu.ru
DTSTAMP:20260419T131532Z
DTSTART:20251003T052000Z
DTEND:20251003T065000Z
SUMMARY:Теоретические основы информатики DO-Б23А-02 Лабораторное занятие
DESCRIPTION:Предмет: Теоретические основы информатики\nГруппа: DO-Б23А-02\nПреподаватель: Фаут Ю.В.\nТип занятия: Лабораторное занятие\nАудитория: 4‑4‑12
LOCATION:4‑4‑12
END:VEVENT
BEGIN:VEVENT
UID:896449_1422@kspu.ru
DTSTAMP:20260419T131532Z
DTSTART:20251003T070000Z
DTEND:20251003T083000Z
SUMMARY:Математические основы информатики  DO-Б25А-02 Лабораторное занятие (Подгруппа A)
DESCRIPTION:Предмет: Математические основы информатики \nГруппа: DO-Б25А-02\nПреподаватель: Фаут Ю.В.\nТип занятия: Лабораторное занятие\nАудитория: 4‑4‑12
LOCATION:4‑4‑12
END:VEVENT
BEGIN:VEVENT
UID:896437_1422@kspu.ru
DTSTAMP:20260419T131532Z
DTSTART:20251004T052000Z
DTEND:20251004T065000Z
SUMMARY:Математические основы информатики  DO-Б25А-02 Лабораторное занятие (Подгруппа Б)
DESCRIPTION:Предмет: Математические основы информатики \nГруппа: DO-Б25А-02\nПреподаватель: Фаут Ю.В.\nТип занятия: Лабораторное занятие\nАудитория: 4‑4‑12
LOCATION:4‑4‑12
END:VEVENT
BEGIN:VEVENT
UID:896436_1422@kspu.ru
DTSTAMP:20260419T131532Z
DTSTART:20251004T070000Z
DTEND:20251004T083000Z
SUMMARY:Математические основы информатики  DO-Б25А-02 Лабораторное занятие (Подгруппа Б)
DESCRIPTION:Предмет: Математические основы информатики \nГруппа: DO-Б25А-02\nПреподаватель: Фаут Ю.В.\nТип занятия: Лабораторное занятие\nАудитория: 4‑4‑12
LOCATION:4‑4‑12
END:VEVENT
BEGIN:VEVENT
UID:896439_1422@kspu.ru
DTSTAMP:20260419T131532Z
DTSTART:20251009T052000Z
DTEND:20251009T065000Z
SUMMARY:Математические основы информатики  DO-Б25А-02 Лабораторное занятие (Подгруппа Б)
DESCRIPTION:Предмет: Математические основы информатики \nГруппа: DO-Б25А-02\nПреподаватель: Фаут Ю.В.\nТип занятия: Лабораторное занятие\nАудитория: 4‑4‑12
LOCATION:4‑4‑12
END:VEVENT
BEGIN:VEVENT
UID:896452_1422@kspu.ru
DTSTAMP:20260419T131532Z
DTSTART:20251009T070000Z
DTEND:20251009T083000Z
SUMMARY:Математические основы информатики  DO-Б25А-02 Лабораторное занятие (Подгруппа A)
DESCRIPTION:Предмет: Математические основы информатики \nГруппа: DO-Б25А-02\nПреподаватель: Фаут Ю.В.\nТип занятия: Лабораторное занятие\nАудитория: 4‑4‑12
LOCATION:4‑4‑12
END:VEVENT
BEGIN:VEVENT
UID:899595_1422@kspu.ru
DTSTAMP:20260419T131532Z
DTSTART:20251010T032000Z
DTEND:20251010T045000Z
SUMMARY:Методика обучения информатике DO-Б22Б-02 Лабораторное занятие
DESCRIPTION:Предмет: Методика обучения информатике\nГруппа: DO-Б22Б-02\nПреподаватель: Фаут Ю.В.\nТип занятия: Лабораторное занятие\nАудитория: 4‑1‑09
LOCATION:4‑1‑09
END:VEVENT
BEGIN:VEVENT
UID:923188_1422@kspu.ru
DTSTAMP:20260419T131532Z
DTSTART:20251010T052000Z
DTEND:20251010T065000Z
SUMMARY:Теоретические основы информатики DO-Б23А-02 Лабораторное занятие
DESCRIPTION:Предмет: Теоретические основы информатики\nГруппа: DO-Б23А-02\nПреподаватель: Фаут Ю.В.\nТип занятия: Лабораторное занятие\nАудитория: 4‑4‑12
LOCATION:4‑4‑12
END:VEVENT
BEGIN:VEVENT
UID:899593_1422@kspu.ru
DTSTAMP:20260419T131532Z
DTSTART:20251011T032000Z
DTEND:20251011T045000Z
SUMMARY:Методика обучения информатике DO-Б22Б-02 Лабораторное занятие
DESCRIPTION:Предмет: Методика обучения информатике\nГруппа: DO-Б22Б-02\nПреподаватель: Фаут Ю.В.\nТип занятия: Лабораторное занятие\nАудитория: 4‑1‑09
LOCATION:4‑1‑09
END:VEVENT
BEGIN:VEVENT
UID:899592_1422@kspu.ru
DTSTAMP:20260419T131532Z
DTSTART:20251011T052000Z
DTEND:20251011T065000Z
SUMMARY:Методика обучения информатике DO-Б22Б-02 Лабораторное занятие
DESCRIPTION:Предмет: Методика обучения информатике\nГруппа: DO-Б22Б-02\nПреподаватель: Фаут Ю.В.\nТип занятия: Лабораторное занятие\nАудитория: 4‑1‑09
LOCATION:4‑1‑09
END:VEVENT
BEGIN:VEVENT
UID:896441_1422@kspu.ru
DTSTAMP:20260419T131532Z
DTSTART:20251016T052000Z
DTEND:20251016T065000Z
SUMMARY:Математические основы информатики  DO-Б25А-02 Лабораторное занятие (Подгруппа Б)
DESCRIPTION:Предмет: Математические основы информатики \nГруппа: DO-Б25А-02\nПреподаватель: Фаут Ю.В.\nТип занятия: Лабораторное занятие\nАудитория: 4‑4‑12
LOCATION:4‑4‑12
END:VEVENT
BEGIN:VEVENT
UID:896453_1422@kspu.ru
DTSTAMP:20260419T131532Z
DTSTART:20251016T070000Z
DTEND:20251016T083000Z
SUMMARY:Математические основы информатики  DO-Б25А-02 Лабораторное занятие (Подгруппа A)
DESCRIPTION:Предмет: Математические основы информатики \nГруппа: DO-Б25А-02\nПреподаватель: Фаут Ю.В.\nТип занятия: Лабораторное занятие\nАудитория: 4‑4‑12
LOCATION:4‑4‑12
END:VEVENT
BEGIN:VEVENT
UID:899596_1422@kspu.ru
DTSTAMP:20260419T131532Z
DTSTART:20251017T032000Z
DTEND:20251017T045000Z
SUMMARY:Методика обучения информатике DO-Б22Б-02 Лабораторное занятие
DESCRIPTION:Предмет: Методика обучения информатике\nГруппа: DO-Б22Б-02\nПреподаватель: Фаут Ю.В.\nТип занятия: Лабораторное занятие\nАудитория: 4‑1‑09
LOCATION:4‑1‑09
END:VEVENT
BEGIN:VEVENT
UID:923189_1422@kspu.ru
DTSTAMP:20260419T131532Z
DTSTART:20251017T052000Z
DTEND:20251017T065000Z
SUMMARY:Теоретические основы информатики DO-Б23А-02 Лабораторное занятие
DESCRIPTION:Предмет: Теоретические основы информатики\nГруппа: DO-Б23А-02\nПреподаватель: Фаут Ю.В.\nТип занятия: Лабораторное занятие\nАудитория: 4‑4‑12
LOCATION:4‑4‑12
END:VEVENT
BEGIN:VEVENT
UID:896442_1422@kspu.ru
DTSTAMP:20260419T131532Z
DTSTART:20251023T052000Z
DTEND:20251023T065000Z
SUMMARY:Математические основы информатики  DO-Б25А-02 Лабораторное занятие (Подгруппа Б)
DESCRIPTION:Предмет: Математические основы информатики \nГруппа: DO-Б25А-02\nПреподаватель: Фаут Ю.В.\nТип занятия: Лабораторное занятие\nАудитория: 4‑4‑12
LOCATION:4‑4‑12
END:VEVENT
BEGIN:VEVENT
UID:896454_1422@kspu.ru
DTSTAMP:20260419T131532Z
DTSTART:20251023T070000Z
DTEND:20251023T083000Z
SUMMARY:Математические основы информатики  DO-Б25А-02 Лабораторное занятие (Подгруппа A)
DESCRIPTION:Предмет: Математические основы информатики \nГруппа: DO-Б25А-02\nПреподаватель: Фаут Ю.В.\nТип занятия: Лабораторное занятие\nАудитория: 4‑4‑12
LOCATION:4‑4‑12
END:VEVENT
BEGIN:VEVENT
UID:899597_1422@kspu.ru
DTSTAMP:20260419T131532Z
DTSTART:20251024T032000Z
DTEND:20251024T045000Z
SUMMARY:Методика обучения информатике DO-Б22Б-02 Лабораторное занятие
DESCRIPTION:Предмет: Методика обучения информатике\nГруппа: DO-Б22Б-02\nПреподаватель: Фаут Ю.В.\nТип занятия: Лабораторное занятие\nАудитория: 4‑1‑09
LOCATION:4‑1‑09
END:VEVENT
BEGIN:VEVENT
UID:923190_1422@kspu.ru
DTSTAMP:20260419T131532Z
DTSTART:20251029T052000Z
DTEND:20251029T065000Z
SUMMARY:Теоретические основы информатики DO-Б23А-02 Лабораторное занятие
DESCRIPTION:Предмет: Теоретические основы информатики\nГруппа: DO-Б23А-02\nПреподаватель: Фаут Ю.В.\nТип занятия: Лабораторное занятие\nАудитория: 4‑2‑04
LOCATION:4‑2‑04
END:VEVENT
BEGIN:VEVENT
UID:896443_1422@kspu.ru
DTSTAMP:20260419T131532Z
DTSTART:20251030T052000Z
DTEND:20251030T065000Z
SUMMARY:Математические основы информатики  DO-Б25А-02 Лабораторное занятие (Подгруппа Б)
DESCRIPTION:Предмет: Математические основы информатики \nГруппа: DO-Б25А-02\nПреподаватель: Фаут Ю.В.\nТип занятия: Лабораторное занятие\nАудитория: 4‑4‑12
LOCATION:4‑4‑12
END:VEVENT
BEGIN:VEVENT
UID:896455_1422@kspu.ru
DTSTAMP:20260419T131532Z
DTSTART:20251030T070000Z
DTEND:20251030T083000Z
SUMMARY:Математические основы информатики  DO-Б25А-02 Лабораторное занятие (Подгруппа A)
DESCRIPTION:Предмет: Математические основы информатики \nГруппа: DO-Б25А-02\nПреподаватель: Фаут Ю.В.\nТип занятия: Лабораторное занятие\nАудитория: 4‑4‑12
LOCATION:4‑4‑12
END:VEVENT
BEGIN:VEVENT
UID:899598_1422@kspu.ru
DTSTAMP:20260419T131532Z
DTSTART:20251031T032000Z
DTEND:20251031T045000Z
SUMMARY:Методика обучения информатике DO-Б22Б-02 Лабораторное занятие
DESCRIPTION:Предмет: Методика обучения информатике\nГруппа: DO-Б22Б-02\nПреподаватель: Фаут Ю.В.\nТип занятия: Лабораторное занятие\nАудитория: 4‑1‑09
LOCATION:4‑1‑09
END:VEVENT
BEGIN:VEVENT
UID:936578_1422@kspu.ru
DTSTAMP:20260419T131532Z
DTSTART:20251105T032000Z
DTEND:20251105T045000Z
SUMMARY:Математические основы информатики  DO-Б25А-02 Лабораторное занятие (Подгруппа Б)
DESCRIPTION:Предмет: Математические основы информатики \nГруппа: DO-Б25А-02\nПреподаватель: Фаут Ю.В.\nТип занятия: Лабораторное занятие\nАудитория: 4‑1‑09
LOCATION:4‑1‑09
END:VEVENT
BEGIN:VEVENT
UID:936579_1422@kspu.ru
DTSTAMP:20260419T131532Z
DTSTART:20251105T052000Z
DTEND:20251105T065000Z
SUMMARY:Математические основы информатики  DO-Б25А-02 Лабораторное занятие (Подгруппа A)
DESCRIPTION:Предмет: Математические основы информатики \nГруппа: DO-Б25А-02\nПреподаватель: Фаут Ю.В.\nТип занятия: Лабораторное занятие\nАудитория: 4‑1‑09
LOCATION:4‑1‑09
END:VEVENT
BEGIN:VEVENT
UID:923191_1422@kspu.ru
DTSTAMP:20260419T131532Z
DTSTART:20251105T070000Z
DTEND:20251105T083000Z
SUMMARY:Теоретические основы информатики DO-Б23А-02 Лабораторное занятие
DESCRIPTION:Предмет: Теоретические основы информатики\nГруппа: DO-Б23А-02\nПреподаватель: Фаут Ю.В.\nТип занятия: Лабораторное занятие\nАудитория: 4‑1‑09
LOCATION:4‑1‑09
END:VEVENT
BEGIN:VEVENT
UID:896444_1422@kspu.ru
DTSTAMP:20260419T131532Z
DTSTART:20251106T052000Z
DTEND:20251106T065000Z
SUMMARY:Математические основы информатики  DO-Б25А-02 Лабораторное занятие (Подгруппа Б)
DESCRIPTION:Предмет: Математические основы информатики \nГруппа: DO-Б25А-02\nПреподаватель: Фаут Ю.В.\nТип занятия: Лабораторное занятие\nАудитория: 4‑4‑12
LOCATION:4‑4‑12
END:VEVENT
BEGIN:VEVENT
UID:896456_1422@kspu.ru
DTSTAMP:20260419T131532Z
DTSTART:20251106T070000Z
DTEND:20251106T083000Z
SUMMARY:Математические основы информатики  DO-Б25А-02 Лабораторное занятие (Подгруппа A)
DESCRIPTION:Предмет: Математические основы информатики \nГруппа: DO-Б25А-02\nПреподаватель: Фаут Ю.В.\nТип занятия: Лабораторное занятие\nАудитория: 4‑4‑12
LOCATION:4‑4‑12
END:VEVENT
BEGIN:VEVENT
UID:899599_1422@kspu.ru
DTSTAMP:20260419T131532Z
DTSTART:20251107T032000Z
DTEND:20251107T045000Z
SUMMARY:Методика обучения информатике DO-Б22Б-02 Лабораторное занятие
DESCRIPTION:Предмет: Методика обучения информатике\nГруппа: DO-Б22Б-02\nПреподаватель: Фаут Ю.В.\nТип занятия: Лабораторное занятие\nАудитория: 4‑1‑09
LOCATION:4‑1‑09
END:VEVENT
BEGIN:VEVENT
UID:923192_1422@kspu.ru
DTSTAMP:20260419T131532Z
DTSTART:20251107T052000Z
DTEND:20251107T065000Z
SUMMARY:Теоретические основы информатики DO-Б23А-02 Лабораторное занятие
DESCRIPTION:Предмет: Теоретические основы информатики\nГруппа: DO-Б23А-02\nПреподаватель: Фаут Ю.В.\nТип занятия: Лабораторное занятие\nАудитория: 4‑1‑09
LOCATION:4‑1‑09
END:VEVENT
BEGIN:VEVENT
UID:896445_1422@kspu.ru
DTSTAMP:20260419T131532Z
DTSTART:20251113T052000Z
DTEND:20251113T065000Z
SUMMARY:Математические основы информатики  DO-Б25А-02 Лабораторное занятие (Подгруппа Б)
DESCRIPTION:Предмет: Математические основы информатики \nГруппа: DO-Б25А-02\nПреподаватель: Фаут Ю.В.\nТип занятия: Лабораторное занятие\nАудитория: 4‑4‑12
LOCATION:4‑4‑12
END:VEVENT
BEGIN:VEVENT
UID:896457_1422@kspu.ru
DTSTAMP:20260419T131532Z
DTSTART:20251113T070000Z
DTEND:20251113T083000Z
SUMMARY:Математические основы информатики  DO-Б25А-02 Лабораторное занятие (Подгруппа A)
DESCRIPTION:Предмет: Математические основы информатики \nГруппа: DO-Б25А-02\nПреподаватель: Фаут Ю.В.\nТип занятия: Лабораторное занятие\nАудитория: 4‑4‑12
LOCATION:4‑4‑12
END:VEVENT
BEGIN:VEVENT
UID:899634_1422@kspu.ru
DTSTAMP:20260419T131532Z
DTSTART:20251114T032000Z
DTEND:20251114T045000Z
SUMMARY:Методика обучения информатике DO-Б22Б-02 Лабораторное занятие
DESCRIPTION:Предмет: Методика обучения информатике\nГруппа: DO-Б22Б-02\nПреподаватель: Фаут Ю.В.\nТип занятия: Лабораторное занятие\nАудитория: 4‑1‑09
LOCATION:4‑1‑09
END:VEVENT
BEGIN:VEVENT
UID:923193_1422@kspu.ru
DTSTAMP:20260419T131532Z
DTSTART:20251114T052000Z
DTEND:20251114T065000Z
SUMMARY:Теоретические основы информатики DO-Б23А-02 Лабораторное занятие
DESCRIPTION:Предмет: Теоретические основы информатики\nГруппа: DO-Б23А-02\nПреподаватель: Фаут Ю.В.\nТип занятия: Лабораторное занятие\nАудитория: 4‑4‑12
LOCATION:4‑4‑12
END:VEVENT
BEGIN:VEVENT
UID:923204_1422@kspu.ru
DTSTAMP:20260419T131532Z
DTSTART:20251118T014000Z
DTEND:20251118T031000Z
SUMMARY:Теоретические основы информатики DO-Б23А-02 Лабораторное занятие
DESCRIPTION:Предмет: Теоретические основы информатики\nГруппа: DO-Б23А-02\nПреподаватель: Фаут Ю.В.\nТип занятия: Лабораторное занятие\nАудитория: 4‑3‑13\,4‑3‑14
LOCATION:4‑3‑13\,4‑3‑14
END:VEVENT
BEGIN:VEVENT
UID:896446_1422@kspu.ru
DTSTAMP:20260419T131532Z
DTSTART:20251120T052000Z
DTEND:20251120T065000Z
SUMMARY:Математические основы информатики  DO-Б25А-02 Лабораторное занятие (Подгруппа Б)
DESCRIPTION:Предмет: Математические основы информатики \nГруппа: DO-Б25А-02\nПреподаватель: Фаут Ю.В.\nТип занятия: Лабораторное занятие\nАудитория: 4‑4‑12
LOCATION:4‑4‑12
END:VEVENT
BEGIN:VEVENT
UID:896458_1422@kspu.ru
DTSTAMP:20260419T131532Z
DTSTART:20251120T070000Z
DTEND:20251120T083000Z
SUMMARY:Математические основы информатики  DO-Б25А-02 Лабораторное занятие (Подгруппа A)
DESCRIPTION:Предмет: Математические основы информатики \nГруппа: DO-Б25А-02\nПреподаватель: Фаут Ю.В.\nТип занятия: Лабораторное занятие\nАудитория: 4‑4‑12
LOCATION:4‑4‑12
END:VEVENT
BEGIN:VEVENT
UID:923205_1422@kspu.ru
DTSTAMP:20260419T131532Z
DTSTART:20251125T014000Z
DTEND:20251125T031000Z
SUMMARY:Теоретические основы информатики DO-Б23А-02 Лабораторное занятие
DESCRIPTION:Предмет: Теоретические основы информатики\nГруппа: DO-Б23А-02\nПреподаватель: Фаут Ю.В.\nТип занятия: Лабораторное занятие\nАудитория: 4‑3‑13\,4‑3‑14
LOCATION:4‑3‑13\,4‑3‑14
END:VEVENT
BEGIN:VEVENT
UID:919593_1422@kspu.ru
DTSTAMP:20260419T131532Z
DTSTART:20251127T032000Z
DTEND:20251127T045000Z
SUMMARY:Методика обучения информатике DO-Б22Б-02 Лабораторное занятие
DESCRIPTION:Предмет: Методика обучения информатике\nГруппа: DO-Б22Б-02\nПреподаватель: Фаут Ю.В.\nТип занятия: Лабораторное занятие\nАудитория: 4‑3‑08
LOCATION:4‑3‑08
END:VEVENT
BEGIN:VEVENT
UID:896447_1422@kspu.ru
DTSTAMP:20260419T131532Z
DTSTART:20251127T052000Z
DTEND:20251127T065000Z
SUMMARY:Математические основы информатики  DO-Б25А-02 Лабораторное занятие (Подгруппа Б)
DESCRIPTION:Предмет: Математические основы информатики \nГруппа: DO-Б25А-02\nПреподаватель: Фаут Ю.В.\nТип занятия: Лабораторное занятие\nАудитория: 4‑4‑12
LOCATION:4‑4‑12
END:VEVENT
BEGIN:VEVENT
UID:896460_1422@kspu.ru
DTSTAMP:20260419T131532Z
DTSTART:20251127T070000Z
DTEND:20251127T083000Z
SUMMARY:Математические основы информатики  DO-Б25А-02 Лабораторное занятие (Подгруппа A)
DESCRIPTION:Предмет: Математические основы информатики \nГруппа: DO-Б25А-02\nПреподаватель: Фаут Ю.В.\nТип занятия: Лабораторное занятие\nАудитория: 4‑4‑12
LOCATION:4‑4‑12
END:VEVENT
BEGIN:VEVENT
UID:923200_1422@kspu.ru
DTSTAMP:20260419T131532Z
DTSTART:20251128T014000Z
DTEND:20251128T031000Z
SUMMARY:Теоретические основы информатики DO-Б23А-02 Лабораторное занятие
DESCRIPTION:Предмет: Теоретические основы информатики\nГруппа: DO-Б23А-02\nПреподаватель: Фаут Ю.В.\nТип занятия: Лабораторное занятие\nАудитория: 4‑3‑13\,4‑3‑14
LOCATION:4‑3‑13\,4‑3‑14
END:VEVENT
BEGIN:VEVENT
UID:960641_1422@kspu.ru
DTSTAMP:20260419T131532Z
DTSTART:20251128T032000Z
DTEND:20251128T045000Z
SUMMARY:Кураторский час DO-Б25А-01 Прочее
DESCRIPTION:Предмет: Кураторский час\nГруппа: DO-Б25А-01\nПреподаватель: Фаут Ю.В.\nТип занятия: Прочее\nАудитория: 4‑4‑11
LOCATION:4‑4‑11
END:VEVENT
BEGIN:VEVENT
UID:923199_1422@kspu.ru
DTSTAMP:20260419T131532Z
DTSTART:20251201T014000Z
DTEND:20251201T031000Z
SUMMARY:Теоретические основы информатики DO-Б23А-02 Лабораторное занятие
DESCRIPTION:Предмет: Теоретические основы информатики\nГруппа: DO-Б23А-02\nПреподаватель: Фаут Ю.В.\nТип занятия: Лабораторное занятие\nАудитория: 4‑1‑09
LOCATION:4‑1‑09
END:VEVENT
BEGIN:VEVENT
UID:923206_1422@kspu.ru
DTSTAMP:20260419T131532Z
DTSTART:20251202T014000Z
DTEND:20251202T031000Z
SUMMARY:Теоретические основы информатики DO-Б23А-02 Лабораторное занятие
DESCRIPTION:Предмет: Теоретические основы информатики\nГруппа: DO-Б23А-02\nПреподаватель: Фаут Ю.В.\nТип занятия: Лабораторное занятие\nАудитория: 4‑3‑13\,4‑3‑14
LOCATION:4‑3‑13\,4‑3‑14
END:VEVENT
BEGIN:VEVENT
UID:923207_1422@kspu.ru
DTSTAMP:20260419T131532Z
DTSTART:20251202T032000Z
DTEND:20251202T045000Z
SUMMARY:Теоретические основы информатики DO-Б23А-02 Лабораторное занятие
DESCRIPTION:Предмет: Теоретические основы информатики\nГруппа: DO-Б23А-02\nПреподаватель: Фаут Ю.В.\nТип занятия: Лабораторное занятие\nАудитория: 4‑3‑13\,4‑3‑14
LOCATION:4‑3‑13\,4‑3‑14
END:VEVENT
BEGIN:VEVENT
UID:919594_1422@kspu.ru
DTSTAMP:20260419T131532Z
DTSTART:20251204T014000Z
DTEND:20251204T031000Z
SUMMARY:Методика обучения информатике DO-Б22Б-02 Лабораторное занятие
DESCRIPTION:Предмет: Методика обучения информатике\nГруппа: DO-Б22Б-02\nПреподаватель: Фаут Ю.В.\nТип занятия: Лабораторное занятие\nАудитория: 4‑3‑08
LOCATION:4‑3‑08
END:VEVENT
BEGIN:VEVENT
UID:897417_1422@kspu.ru
DTSTAMP:20260419T131532Z
DTSTART:20251204T052000Z
DTEND:20251204T065000Z
SUMMARY:Математические основы информатики  DO-Б25А-02 Лабораторное занятие (Подгруппа Б)
DESCRIPTION:Предмет: Математические основы информатики \nГруппа: DO-Б25А-02\nПреподаватель: Фаут Ю.В.\nТип занятия: Лабораторное занятие\nАудитория: 4‑4‑12
LOCATION:4‑4‑12
END:VEVENT
BEGIN:VEVENT
UID:897426_1422@kspu.ru
DTSTAMP:20260419T131532Z
DTSTART:20251204T070000Z
DTEND:20251204T083000Z
SUMMARY:Математические основы информатики  DO-Б25А-02 Лабораторное занятие (Подгруппа A)
DESCRIPTION:Предмет: Математические основы информатики \nГруппа: DO-Б25А-02\nПреподаватель: Фаут Ю.В.\nТип занятия: Лабораторное занятие\nАудитория: 4‑4‑12
LOCATION:4‑4‑12
END:VEVENT
BEGIN:VEVENT
UID:923201_1422@kspu.ru
DTSTAMP:20260419T131532Z
DTSTART:20251205T032000Z
DTEND:20251205T045000Z
SUMMARY:Теоретические основы информатики DO-Б23А-02 Лабораторное занятие
DESCRIPTION:Предмет: Теоретические основы информатики\nГруппа: DO-Б23А-02\nПреподаватель: Фаут Ю.В.\nТип занятия: Лабораторное занятие\nАудитория: 4‑1‑09
LOCATION:4‑1‑09
END:VEVENT
BEGIN:VEVENT
UID:919595_1422@kspu.ru
DTSTAMP:20260419T131532Z
DTSTART:20251211T014000Z
DTEND:20251211T031000Z
SUMMARY:Методика обучения информатике DO-Б22Б-02 Лабораторное занятие
DESCRIPTION:Предмет: Методика обучения информатике\nГруппа: DO-Б22Б-02\nПреподаватель: Фаут Ю.В.\nТип занятия: Лабораторное занятие\nАудитория: 4‑3‑08
LOCATION:4‑3‑08
END:VEVENT
BEGIN:VEVENT
UID:919598_1422@kspu.ru
DTSTAMP:20260419T131532Z
DTSTART:20251211T032000Z
DTEND:20251211T045000Z
SUMMARY:Методика обучения информатике DO-Б22Б-02 Лабораторное занятие
DESCRIPTION:Предмет: Методика обучения информатике\nГруппа: DO-Б22Б-02\nПреподаватель: Фаут Ю.В.\nТип занятия: Лабораторное занятие\nАудитория: 4‑3‑08
LOCATION:4‑3‑08
END:VEVENT
BEGIN:VEVENT
UID:923202_1422@kspu.ru
DTSTAMP:20260419T131532Z
DTSTART:20251212T014000Z
DTEND:20251212T031000Z
SUMMARY:Теоретические основы информатики DO-Б23А-02 Лабораторное занятие
DESCRIPTION:Предмет: Теоретические основы информатики\nГруппа: DO-Б23А-02\nПреподаватель: Фаут Ю.В.\nТип занятия: Лабораторное занятие\nАудитория: 4‑3‑13\,4‑3‑14
LOCATION:4‑3‑13\,4‑3‑14
END:VEVENT
BEGIN:VEVENT
UID:919599_1422@kspu.ru
DTSTAMP:20260419T131532Z
DTSTART:20251218T032000Z
DTEND:20251218T045000Z
SUMMARY:Методика обучения информатике DO-Б22Б-02 Лабораторное занятие
DESCRIPTION:Предмет: Методика обучения информатике\nГруппа: DO-Б22Б-02\nПреподаватель: Фаут Ю.В.\nТип занятия: Лабораторное занятие\nАудитория: 4‑3‑08
LOCATION:4‑3‑08
END:VEVENT
BEGIN:VEVENT
UID:919596_1422@kspu.ru
DTSTAMP:20260419T131532Z
DTSTART:20251218T052000Z
DTEND:20251218T065000Z
SUMMARY:Методика обучения информатике DO-Б22Б-02 Лабораторное занятие
DESCRIPTION:Предмет: Методика обучения информатике\nГруппа: DO-Б22Б-02\nПреподаватель: Фаут Ю.В.\nТип занятия: Лабораторное занятие\nАудитория: 4‑3‑08
LOCATION:4‑3‑08
END:VEVENT
BEGIN:VEVENT
UID:919600_1422@kspu.ru
DTSTAMP:20260419T131532Z
DTSTART:20251225T032000Z
DTEND:20251225T045000Z
SUMMARY:Методика обучения информатике DO-Б22Б-02 Лабораторное занятие
DESCRIPTION:Предмет: Методика обучения информатике\nГруппа: DO-Б22Б-02\nПреподаватель: Фаут Ю.В.\nТип занятия: Лабораторное занятие\nАудитория: 4‑3‑08
LOCATION:4‑3‑08
END:VEVENT
BEGIN:VEVENT
UID:919597_1422@kspu.ru
DTSTAMP:20260419T131532Z
DTSTART:20251225T052000Z
DTEND:20251225T065000Z
SUMMARY:Методика обучения информатике DO-Б22Б-02 Лабораторное занятие
DESCRIPTION:Предмет: Методика обучения информатике\nГруппа: DO-Б22Б-02\nПреподаватель: Фаут Ю.В.\nТип занятия: Лабораторное занятие\nАудитория: 4‑3‑08
LOCATION:4‑3‑08
END:VEVENT
BEGIN:VEVENT
UID:936614_1422@kspu.ru
DTSTAMP:20260419T131532Z
DTSTART:20260113T052000Z
DTEND:20260113T065000Z
SUMMARY:Математические основы информатики  DO-Б25А-02 Зачёт с оценкой (Подгруппа Б)
DESCRIPTION:Предмет: Математические основы информатики \nГруппа: DO-Б25А-02\nПреподаватель: Фаут Ю.В.\nТип занятия: Зачёт с оценкой\nАудитория: 4‑1‑09
LOCATION:4‑1‑09
END:VEVENT
BEGIN:VEVENT
UID:936615_1422@kspu.ru
DTSTAMP:20260419T131532Z
DTSTART:20260113T070000Z
DTEND:20260113T083000Z
SUMMARY:Математические основы информатики  DO-Б25А-02 Зачёт с оценкой (Подгруппа A)
DESCRIPTION:Предмет: Математические основы информатики \nГруппа: DO-Б25А-02\nПреподаватель: Фаут Ю.В.\nТип занятия: Зачёт с оценкой\nАудитория: 4‑1‑09
LOCATION:4‑1‑09
END:VEVENT
BEGIN:VEVENT
UID:965067_1422@kspu.ru
DTSTAMP:20260419T131532Z
DTSTART:20260117T052000Z
DTEND:20260117T065000Z
SUMMARY:Теоретические основы информатики DO-Б23А-02 Консультация
DESCRIPTION:Предмет: Теоретические основы информатики\nГруппа: DO-Б23А-02\nПреподаватель: Фаут Ю.В.\nТип занятия: Консультация\nАудитория: 4‑3‑13\,4‑3‑14
LOCATION:4‑3‑13\,4‑3‑14
END:VEVENT
BEGIN:VEVENT
UID:965068_1422@kspu.ru
DTSTAMP:20260419T131532Z
DTSTART:20260119T014000Z
DTEND:20260119T031000Z
SUMMARY:Теоретические основы информатики DO-Б23А-02 Экзамен
DESCRIPTION:Предмет: Теоретические основы информатики\nГруппа: DO-Б23А-02\nПреподаватель: Фаут Ю.В.\nТип занятия: Экзамен\nАудитория: 4‑2‑04
LOCATION:4‑2‑04
END:VEVENT
END:VCALENDAR