BEGIN:VCALENDAR
VERSION:2.0
PRODID:-//KSPU//Teacher Schedule Calendar//EN
CALSCALE:GREGORIAN
METHOD:PUBLISH
X-WR-CALNAME:Мироевская Т.Н. Расписание
X-PUBLISHED-TTL:PT15M
BEGIN:VEVENT
UID:951587_1403@kspu.ru
DTSTAMP:20260422T153253Z
DTSTART:20251027T014000Z
DTEND:20251027T031000Z
SUMMARY:Организационное собрание DO-Б25Б-01 Прочее (Подгруппа A)
DESCRIPTION:Предмет: Организационное собрание\nГруппа: DO-Б25Б-01\nПреподаватель: Мироевская Т.Н.\nТип занятия: Прочее\nАудитория: 4‑3‑13\,4‑3‑14
LOCATION:4‑3‑13\,4‑3‑14
END:VEVENT
END:VCALENDAR