BEGIN:VCALENDAR
VERSION:2.0
PRODID:-//KSPU//Teacher Schedule Calendar//EN
CALSCALE:GREGORIAN
METHOD:PUBLISH
X-WR-CALNAME:Лопатина Н.В. Расписание
X-PUBLISHED-TTL:PT15M
BEGIN:VEVENT
UID:926688_1313@kspu.ru
DTSTAMP:20260419T153312Z
DTSTART:20250908T070000Z
DTEND:20250908T083000Z
SUMMARY:Организационное собрание MZ-М25В-01 Прочее
DESCRIPTION:Предмет: Организационное собрание\nГруппа: MZ-М25В-01\nПреподаватель: Лопатина Н.В.\nТип занятия: Прочее\nАудитория: 2‑1‑10
LOCATION:2‑1‑10
END:VEVENT
BEGIN:VEVENT
UID:939144_1313@kspu.ru
DTSTAMP:20260419T153312Z
DTSTART:20251013T052000Z
DTEND:20251013T065000Z
SUMMARY:Организационное собрание MZ-Б25А-01 Прочее
DESCRIPTION:Предмет: Организационное собрание\nГруппа: MZ-Б25А-01\nПреподаватель: Лопатина Н.В.\nТип занятия: Прочее\nАудитория: 2‑2‑13
LOCATION:2‑2‑13
END:VEVENT
BEGIN:VEVENT
UID:939145_1313@kspu.ru
DTSTAMP:20260419T153312Z
DTSTART:20251013T052000Z
DTEND:20251013T065000Z
SUMMARY:Организационное собрание MZ-Б25В-01 Прочее
DESCRIPTION:Предмет: Организационное собрание\nГруппа: MZ-Б25В-01\nПреподаватель: Лопатина Н.В.\nТип занятия: Прочее\nАудитория: 2‑2‑13
LOCATION:2‑2‑13
END:VEVENT
BEGIN:VEVENT
UID:939146_1313@kspu.ru
DTSTAMP:20260419T153312Z
DTSTART:20251013T052000Z
DTEND:20251013T065000Z
SUMMARY:Организационное собрание MZ-Б25Б-01 Прочее
DESCRIPTION:Предмет: Организационное собрание\nГруппа: MZ-Б25Б-01\nПреподаватель: Лопатина Н.В.\nТип занятия: Прочее\nАудитория: 2‑2‑13
LOCATION:2‑2‑13
END:VEVENT
BEGIN:VEVENT
UID:933365_1313@kspu.ru
DTSTAMP:20260419T153312Z
DTSTART:20251013T084000Z
DTEND:20251013T101000Z
SUMMARY:Организационное собрание MZ-М25А-01 Прочее
DESCRIPTION:Предмет: Организационное собрание\nГруппа: MZ-М25А-01\nПреподаватель: Лопатина Н.В.\nТип занятия: Прочее\nАудитория: 2‑1‑15
LOCATION:2‑1‑15
END:VEVENT
BEGIN:VEVENT
UID:1010646_1313@kspu.ru
DTSTAMP:20260419T153312Z
DTSTART:20260528T032000Z
DTEND:20260528T045000Z
SUMMARY:Организационное собрание MZ-Б21В-01 Прочее
DESCRIPTION:Предмет: Организационное собрание\nГруппа: MZ-Б21В-01\nПреподаватель: Лопатина Н.В.\nТип занятия: Прочее\nАудитория: 2‑1‑02
LOCATION:2‑1‑02
END:VEVENT
END:VCALENDAR