BEGIN:VCALENDAR
VERSION:2.0
PRODID:-//KSPU//Teacher Schedule Calendar//EN
CALSCALE:GREGORIAN
METHOD:PUBLISH
X-WR-CALNAME:Старосветская Н.А. Расписание
X-PUBLISHED-TTL:PT15M
BEGIN:VEVENT
UID:925012_1116@kspu.ru
DTSTAMP:20260421T050115Z
DTSTART:20250905T032000Z
DTEND:20250905T045000Z
SUMMARY:Организация развития детей раннего возраста в образовании OO-Б23Б-01 Лекция
DESCRIPTION:Предмет: Организация развития детей раннего возраста в образовании\nГруппа: OO-Б23Б-01\nПреподаватель: Старосветская Н.А.\nТип занятия: Лекция\nАудитория: 3‑2‑02
LOCATION:3‑2‑02
END:VEVENT
BEGIN:VEVENT
UID:925014_1116@kspu.ru
DTSTAMP:20260421T050115Z
DTSTART:20250905T052000Z
DTEND:20250905T065000Z
SUMMARY:Организация развития детей раннего возраста в образовании OO-Б23Б-01 Лекция
DESCRIPTION:Предмет: Организация развития детей раннего возраста в образовании\nГруппа: OO-Б23Б-01\nПреподаватель: Старосветская Н.А.\nТип занятия: Лекция\nАудитория: 3‑2‑02
LOCATION:3‑2‑02
END:VEVENT
BEGIN:VEVENT
UID:930762_1116@kspu.ru
DTSTAMP:20260421T050115Z
DTSTART:20250909T032000Z
DTEND:20250909T045000Z
SUMMARY:Методика гендерного воспитания детей дошкольного возраста OZ-Б24Б-01 Лекция
DESCRIPTION:Предмет: Методика гендерного воспитания детей дошкольного возраста\nГруппа: OZ-Б24Б-01\nПреподаватель: Старосветская Н.А.\nТип занятия: Лекция\nАудитория: 3‑2‑09
LOCATION:3‑2‑09
END:VEVENT
BEGIN:VEVENT
UID:930763_1116@kspu.ru
DTSTAMP:20260421T050115Z
DTSTART:20250909T052000Z
DTEND:20250909T065000Z
SUMMARY:Методика гендерного воспитания детей дошкольного возраста OZ-Б24Б-01 Лекция
DESCRIPTION:Предмет: Методика гендерного воспитания детей дошкольного возраста\nГруппа: OZ-Б24Б-01\nПреподаватель: Старосветская Н.А.\nТип занятия: Лекция\nАудитория: 3‑2‑09
LOCATION:3‑2‑09
END:VEVENT
BEGIN:VEVENT
UID:930764_1116@kspu.ru
DTSTAMP:20260421T050115Z
DTSTART:20250909T070000Z
DTEND:20250909T083000Z
SUMMARY:Методика гендерного воспитания детей дошкольного возраста OZ-Б24Б-01 Семинар
DESCRIPTION:Предмет: Методика гендерного воспитания детей дошкольного возраста\nГруппа: OZ-Б24Б-01\nПреподаватель: Старосветская Н.А.\nТип занятия: Семинар\nАудитория: 3‑2‑09
LOCATION:3‑2‑09
END:VEVENT
BEGIN:VEVENT
UID:925013_1116@kspu.ru
DTSTAMP:20260421T050115Z
DTSTART:20250912T032000Z
DTEND:20250912T045000Z
SUMMARY:Организация развития детей раннего возраста в образовании OO-Б23Б-01 Лекция
DESCRIPTION:Предмет: Организация развития детей раннего возраста в образовании\nГруппа: OO-Б23Б-01\nПреподаватель: Старосветская Н.А.\nТип занятия: Лекция\nАудитория: 3‑2‑02
LOCATION:3‑2‑02
END:VEVENT
BEGIN:VEVENT
UID:925015_1116@kspu.ru
DTSTAMP:20260421T050115Z
DTSTART:20250912T052000Z
DTEND:20250912T065000Z
SUMMARY:Организация развития детей раннего возраста в образовании OO-Б23Б-01 Семинар
DESCRIPTION:Предмет: Организация развития детей раннего возраста в образовании\nГруппа: OO-Б23Б-01\nПреподаватель: Старосветская Н.А.\nТип занятия: Семинар\nАудитория: 3‑2‑02
LOCATION:3‑2‑02
END:VEVENT
BEGIN:VEVENT
UID:944328_1116@kspu.ru
DTSTAMP:20260421T050115Z
DTSTART:20251023T052000Z
DTEND:20251023T065000Z
SUMMARY:Теория и практика педагогического проектирования в дошкольном образовании OZ-М25А-01 Лекция
DESCRIPTION:Предмет: Теория и практика педагогического проектирования в дошкольном образовании\nГруппа: OZ-М25А-01\nПреподаватель: Старосветская Н.А.\nТип занятия: Лекция\nАудитория: 3‑2‑09
LOCATION:3‑2‑09
END:VEVENT
BEGIN:VEVENT
UID:944332_1116@kspu.ru
DTSTAMP:20260421T050115Z
DTSTART:20251023T070000Z
DTEND:20251023T083000Z
SUMMARY:Теория и практика педагогического проектирования в дошкольном образовании OZ-М25А-01 Лекция
DESCRIPTION:Предмет: Теория и практика педагогического проектирования в дошкольном образовании\nГруппа: OZ-М25А-01\nПреподаватель: Старосветская Н.А.\nТип занятия: Лекция\nАудитория: 3‑2‑09
LOCATION:3‑2‑09
END:VEVENT
BEGIN:VEVENT
UID:944336_1116@kspu.ru
DTSTAMP:20260421T050115Z
DTSTART:20251024T032000Z
DTEND:20251024T045000Z
SUMMARY:Теория и практика педагогического проектирования в дошкольном образовании OZ-М25А-01 Семинар
DESCRIPTION:Предмет: Теория и практика педагогического проектирования в дошкольном образовании\nГруппа: OZ-М25А-01\nПреподаватель: Старосветская Н.А.\nТип занятия: Семинар\nАудитория: 3‑2‑09
LOCATION:3‑2‑09
END:VEVENT
BEGIN:VEVENT
UID:944338_1116@kspu.ru
DTSTAMP:20260421T050115Z
DTSTART:20251024T052000Z
DTEND:20251024T065000Z
SUMMARY:Теория и практика педагогического проектирования в дошкольном образовании OZ-М25А-01 Семинар
DESCRIPTION:Предмет: Теория и практика педагогического проектирования в дошкольном образовании\nГруппа: OZ-М25А-01\nПреподаватель: Старосветская Н.А.\nТип занятия: Семинар\nАудитория: 3‑2‑09
LOCATION:3‑2‑09
END:VEVENT
BEGIN:VEVENT
UID:944340_1116@kspu.ru
DTSTAMP:20260421T050115Z
DTSTART:20251024T070000Z
DTEND:20251024T083000Z
SUMMARY:Теория и практика педагогического проектирования в дошкольном образовании OZ-М25А-01 Семинар
DESCRIPTION:Предмет: Теория и практика педагогического проектирования в дошкольном образовании\nГруппа: OZ-М25А-01\nПреподаватель: Старосветская Н.А.\nТип занятия: Семинар\nАудитория: 3‑2‑09
LOCATION:3‑2‑09
END:VEVENT
BEGIN:VEVENT
UID:935818_1116@kspu.ru
DTSTAMP:20260421T050115Z
DTSTART:20251027T032000Z
DTEND:20251027T045000Z
SUMMARY:Организация развития детей раннего возраста в образовании OO-Б23Б-01 Семинар
DESCRIPTION:Предмет: Организация развития детей раннего возраста в образовании\nГруппа: OO-Б23Б-01\nПреподаватель: Старосветская Н.А.\nТип занятия: Семинар\nАудитория: 3‑2‑03
LOCATION:3‑2‑03
END:VEVENT
BEGIN:VEVENT
UID:935815_1116@kspu.ru
DTSTAMP:20260421T050115Z
DTSTART:20251027T052000Z
DTEND:20251027T065000Z
SUMMARY:Организация развития детей раннего возраста в образовании OO-Б23Б-01 Семинар
DESCRIPTION:Предмет: Организация развития детей раннего возраста в образовании\nГруппа: OO-Б23Б-01\nПреподаватель: Старосветская Н.А.\nТип занятия: Семинар\nАудитория: 3‑2‑03
LOCATION:3‑2‑03
END:VEVENT
BEGIN:VEVENT
UID:950618_1116@kspu.ru
DTSTAMP:20260421T050115Z
DTSTART:20251028T052000Z
DTEND:20251028T065000Z
SUMMARY:ДВ 05.01 Практикум по профилактике жестокого обращения с детьми OZ-Б23Б-01 Семинар
DESCRIPTION:Предмет: ДВ 05.01 Практикум по профилактике жестокого обращения с детьми\nГруппа: OZ-Б23Б-01\nПреподаватель: Старосветская Н.А.\nТип занятия: Семинар\nАудитория: 3‑1‑05
LOCATION:3‑1‑05
END:VEVENT
BEGIN:VEVENT
UID:913262_1116@kspu.ru
DTSTAMP:20260421T050115Z
DTSTART:20251028T070000Z
DTEND:20251028T083000Z
SUMMARY:Элективная дисциплина "Профилактика жестокого обращения с детьми" OO-Б22А-01 Лекция
DESCRIPTION:Предмет: Элективная дисциплина "Профилактика жестокого обращения с детьми"\nГруппа: OO-Б22А-01\nПреподаватель: Старосветская Н.А.\nТип занятия: Лекция\nАудитория: 3‑1‑05
LOCATION:3‑1‑05
END:VEVENT
BEGIN:VEVENT
UID:913274_1116@kspu.ru
DTSTAMP:20260421T050115Z
DTSTART:20251028T084000Z
DTEND:20251028T101000Z
SUMMARY:Элективная дисциплина "Профилактика жестокого обращения с детьми" OO-Б22А-01 Лекция
DESCRIPTION:Предмет: Элективная дисциплина "Профилактика жестокого обращения с детьми"\nГруппа: OO-Б22А-01\nПреподаватель: Старосветская Н.А.\nТип занятия: Лекция\nАудитория: 3‑1‑05
LOCATION:3‑1‑05
END:VEVENT
BEGIN:VEVENT
UID:913263_1116@kspu.ru
DTSTAMP:20260421T050115Z
DTSTART:20251030T052000Z
DTEND:20251030T065000Z
SUMMARY:Элективная дисциплина "Профилактика жестокого обращения с детьми" OO-Б22А-01 Лекция
DESCRIPTION:Предмет: Элективная дисциплина "Профилактика жестокого обращения с детьми"\nГруппа: OO-Б22А-01\nПреподаватель: Старосветская Н.А.\nТип занятия: Лекция\nАудитория: 3‑1‑05
LOCATION:3‑1‑05
END:VEVENT
BEGIN:VEVENT
UID:913271_1116@kspu.ru
DTSTAMP:20260421T050115Z
DTSTART:20251030T070000Z
DTEND:20251030T083000Z
SUMMARY:Элективная дисциплина "Профилактика жестокого обращения с детьми" OO-Б22А-01 Семинар
DESCRIPTION:Предмет: Элективная дисциплина "Профилактика жестокого обращения с детьми"\nГруппа: OO-Б22А-01\nПреподаватель: Старосветская Н.А.\nТип занятия: Семинар\nАудитория: 3‑1‑05
LOCATION:3‑1‑05
END:VEVENT
BEGIN:VEVENT
UID:913282_1116@kspu.ru
DTSTAMP:20260421T050115Z
DTSTART:20251031T052000Z
DTEND:20251031T065000Z
SUMMARY:Элективная дисциплина "Профилактика жестокого обращения с детьми" OO-Б22А-01 Семинар
DESCRIPTION:Предмет: Элективная дисциплина "Профилактика жестокого обращения с детьми"\nГруппа: OO-Б22А-01\nПреподаватель: Старосветская Н.А.\nТип занятия: Семинар\nАудитория: 3‑2‑04
LOCATION:3‑2‑04
END:VEVENT
BEGIN:VEVENT
UID:950619_1116@kspu.ru
DTSTAMP:20260421T050115Z
DTSTART:20251031T070000Z
DTEND:20251031T083000Z
SUMMARY:ДВ 05.01 Практикум по профилактике жестокого обращения с детьми OZ-Б23Б-01 Семинар
DESCRIPTION:Предмет: ДВ 05.01 Практикум по профилактике жестокого обращения с детьми\nГруппа: OZ-Б23Б-01\nПреподаватель: Старосветская Н.А.\nТип занятия: Семинар\nАудитория: 3‑1‑05
LOCATION:3‑1‑05
END:VEVENT
BEGIN:VEVENT
UID:950622_1116@kspu.ru
DTSTAMP:20260421T050115Z
DTSTART:20251105T070000Z
DTEND:20251105T083000Z
SUMMARY:ДВ 05.01 Практикум по профилактике жестокого обращения с детьми OZ-Б23Б-01 Семинар
DESCRIPTION:Предмет: ДВ 05.01 Практикум по профилактике жестокого обращения с детьми\nГруппа: OZ-Б23Б-01\nПреподаватель: Старосветская Н.А.\nТип занятия: Семинар\nАудитория: 3‑1‑05
LOCATION:3‑1‑05
END:VEVENT
BEGIN:VEVENT
UID:935804_1116@kspu.ru
DTSTAMP:20260421T050115Z
DTSTART:20251106T032000Z
DTEND:20251106T045000Z
SUMMARY:Организация развития детей раннего возраста в образовании OO-Б23Б-01 Лекция
DESCRIPTION:Предмет: Организация развития детей раннего возраста в образовании\nГруппа: OO-Б23Б-01\nПреподаватель: Старосветская Н.А.\nТип занятия: Лекция\nАудитория: 3‑2‑02
LOCATION:3‑2‑02
END:VEVENT
BEGIN:VEVENT
UID:913278_1116@kspu.ru
DTSTAMP:20260421T050115Z
DTSTART:20251106T052000Z
DTEND:20251106T065000Z
SUMMARY:Элективная дисциплина "Профилактика жестокого обращения с детьми" OO-Б22А-01 Семинар
DESCRIPTION:Предмет: Элективная дисциплина "Профилактика жестокого обращения с детьми"\nГруппа: OO-Б22А-01\nПреподаватель: Старосветская Н.А.\nТип занятия: Семинар\nАудитория: 3‑1‑05
LOCATION:3‑1‑05
END:VEVENT
BEGIN:VEVENT
UID:950624_1116@kspu.ru
DTSTAMP:20260421T050115Z
DTSTART:20251106T070000Z
DTEND:20251106T083000Z
SUMMARY:ДВ 05.01 Практикум по профилактике жестокого обращения с детьми OZ-Б23Б-01 Семинар
DESCRIPTION:Предмет: ДВ 05.01 Практикум по профилактике жестокого обращения с детьми\nГруппа: OZ-Б23Б-01\nПреподаватель: Старосветская Н.А.\nТип занятия: Семинар\nАудитория: 3‑2‑02
LOCATION:3‑2‑02
END:VEVENT
BEGIN:VEVENT
UID:950625_1116@kspu.ru
DTSTAMP:20260421T050115Z
DTSTART:20251106T084000Z
DTEND:20251106T101000Z
SUMMARY:ДВ 05.01 Практикум по профилактике жестокого обращения с детьми OZ-Б23Б-01 Семинар
DESCRIPTION:Предмет: ДВ 05.01 Практикум по профилактике жестокого обращения с детьми\nГруппа: OZ-Б23Б-01\nПреподаватель: Старосветская Н.А.\nТип занятия: Семинар\nАудитория: 3‑2‑02
LOCATION:3‑2‑02
END:VEVENT
BEGIN:VEVENT
UID:950620_1116@kspu.ru
DTSTAMP:20260421T050115Z
DTSTART:20251107T014000Z
DTEND:20251107T031000Z
SUMMARY:ДВ 05.01 Практикум по профилактике жестокого обращения с детьми OZ-Б23Б-01 Семинар
DESCRIPTION:Предмет: ДВ 05.01 Практикум по профилактике жестокого обращения с детьми\nГруппа: OZ-Б23Б-01\nПреподаватель: Старосветская Н.А.\nТип занятия: Семинар\nАудитория: 3‑1‑05
LOCATION:3‑1‑05
END:VEVENT
BEGIN:VEVENT
UID:950621_1116@kspu.ru
DTSTAMP:20260421T050115Z
DTSTART:20251107T032000Z
DTEND:20251107T045000Z
SUMMARY:ДВ 05.01 Практикум по профилактике жестокого обращения с детьми OZ-Б23Б-01 Семинар
DESCRIPTION:Предмет: ДВ 05.01 Практикум по профилактике жестокого обращения с детьми\nГруппа: OZ-Б23Б-01\nПреподаватель: Старосветская Н.А.\nТип занятия: Семинар\nАудитория: 3‑1‑05
LOCATION:3‑1‑05
END:VEVENT
BEGIN:VEVENT
UID:950626_1116@kspu.ru
DTSTAMP:20260421T050115Z
DTSTART:20251107T052000Z
DTEND:20251107T065000Z
SUMMARY:ДВ 05.01 Практикум по профилактике жестокого обращения с детьми OZ-Б23Б-01 Зачёт
DESCRIPTION:Предмет: ДВ 05.01 Практикум по профилактике жестокого обращения с детьми\nГруппа: OZ-Б23Б-01\nПреподаватель: Старосветская Н.А.\nТип занятия: Зачёт\nАудитория: 3‑2‑09
LOCATION:3‑2‑09
END:VEVENT
BEGIN:VEVENT
UID:913275_1116@kspu.ru
DTSTAMP:20260421T050115Z
DTSTART:20251110T032000Z
DTEND:20251110T045000Z
SUMMARY:Элективная дисциплина "Профилактика жестокого обращения с детьми" OO-Б22А-01 Лекция
DESCRIPTION:Предмет: Элективная дисциплина "Профилактика жестокого обращения с детьми"\nГруппа: OO-Б22А-01\nПреподаватель: Старосветская Н.А.\nТип занятия: Лекция\nАудитория: 3‑2‑02
LOCATION:3‑2‑02
END:VEVENT
BEGIN:VEVENT
UID:935805_1116@kspu.ru
DTSTAMP:20260421T050115Z
DTSTART:20251110T070000Z
DTEND:20251110T083000Z
SUMMARY:Организация развития детей раннего возраста в образовании OO-Б23Б-01 Семинар
DESCRIPTION:Предмет: Организация развития детей раннего возраста в образовании\nГруппа: OO-Б23Б-01\nПреподаватель: Старосветская Н.А.\nТип занятия: Семинар\nАудитория: 3‑2‑01
LOCATION:3‑2‑01
END:VEVENT
BEGIN:VEVENT
UID:935806_1116@kspu.ru
DTSTAMP:20260421T050115Z
DTSTART:20251110T084000Z
DTEND:20251110T101000Z
SUMMARY:Организация развития детей раннего возраста в образовании OO-Б23Б-01 Семинар
DESCRIPTION:Предмет: Организация развития детей раннего возраста в образовании\nГруппа: OO-Б23Б-01\nПреподаватель: Старосветская Н.А.\nТип занятия: Семинар\nАудитория: 3‑2‑02
LOCATION:3‑2‑02
END:VEVENT
BEGIN:VEVENT
UID:935807_1116@kspu.ru
DTSTAMP:20260421T050115Z
DTSTART:20251113T032000Z
DTEND:20251113T045000Z
SUMMARY:Организация развития детей раннего возраста в образовании OO-Б23Б-01 Лекция
DESCRIPTION:Предмет: Организация развития детей раннего возраста в образовании\nГруппа: OO-Б23Б-01\nПреподаватель: Старосветская Н.А.\nТип занятия: Лекция\nАудитория: 3‑2‑02
LOCATION:3‑2‑02
END:VEVENT
BEGIN:VEVENT
UID:913279_1116@kspu.ru
DTSTAMP:20260421T050115Z
DTSTART:20251113T052000Z
DTEND:20251113T065000Z
SUMMARY:Элективная дисциплина "Профилактика жестокого обращения с детьми" OO-Б22А-01 Семинар
DESCRIPTION:Предмет: Элективная дисциплина "Профилактика жестокого обращения с детьми"\nГруппа: OO-Б22А-01\nПреподаватель: Старосветская Н.А.\nТип занятия: Семинар\nАудитория: 3‑1‑05
LOCATION:3‑1‑05
END:VEVENT
BEGIN:VEVENT
UID:913283_1116@kspu.ru
DTSTAMP:20260421T050115Z
DTSTART:20251113T070000Z
DTEND:20251113T083000Z
SUMMARY:Элективная дисциплина "Профилактика жестокого обращения с детьми" OO-Б22А-01 Семинар
DESCRIPTION:Предмет: Элективная дисциплина "Профилактика жестокого обращения с детьми"\nГруппа: OO-Б22А-01\nПреподаватель: Старосветская Н.А.\nТип занятия: Семинар\nАудитория: 3‑1‑05
LOCATION:3‑1‑05
END:VEVENT
BEGIN:VEVENT
UID:935808_1116@kspu.ru
DTSTAMP:20260421T050115Z
DTSTART:20251114T052000Z
DTEND:20251114T065000Z
SUMMARY:Организация развития детей раннего возраста в образовании OO-Б23Б-01 Семинар
DESCRIPTION:Предмет: Организация развития детей раннего возраста в образовании\nГруппа: OO-Б23Б-01\nПреподаватель: Старосветская Н.А.\nТип занятия: Семинар\nАудитория: 3‑2‑04
LOCATION:3‑2‑04
END:VEVENT
BEGIN:VEVENT
UID:935811_1116@kspu.ru
DTSTAMP:20260421T050115Z
DTSTART:20251114T070000Z
DTEND:20251114T083000Z
SUMMARY:Организация развития детей раннего возраста в образовании OO-Б23Б-01 Семинар
DESCRIPTION:Предмет: Организация развития детей раннего возраста в образовании\nГруппа: OO-Б23Б-01\nПреподаватель: Старосветская Н.А.\nТип занятия: Семинар\nАудитория: 3‑2‑04
LOCATION:3‑2‑04
END:VEVENT
BEGIN:VEVENT
UID:913276_1116@kspu.ru
DTSTAMP:20260421T050115Z
DTSTART:20251118T032000Z
DTEND:20251118T045000Z
SUMMARY:Элективная дисциплина "Профилактика жестокого обращения с детьми" OO-Б22А-01 Лекция
DESCRIPTION:Предмет: Элективная дисциплина "Профилактика жестокого обращения с детьми"\nГруппа: OO-Б22А-01\nПреподаватель: Старосветская Н.А.\nТип занятия: Лекция\nАудитория: 3‑1‑05
LOCATION:3‑1‑05
END:VEVENT
BEGIN:VEVENT
UID:913284_1116@kspu.ru
DTSTAMP:20260421T050115Z
DTSTART:20251120T052000Z
DTEND:20251120T065000Z
SUMMARY:Элективная дисциплина "Профилактика жестокого обращения с детьми" OO-Б22А-01 Семинар
DESCRIPTION:Предмет: Элективная дисциплина "Профилактика жестокого обращения с детьми"\nГруппа: OO-Б22А-01\nПреподаватель: Старосветская Н.А.\nТип занятия: Семинар\nАудитория: 3‑1‑05
LOCATION:3‑1‑05
END:VEVENT
BEGIN:VEVENT
UID:913280_1116@kspu.ru
DTSTAMP:20260421T050115Z
DTSTART:20251120T070000Z
DTEND:20251120T083000Z
SUMMARY:Элективная дисциплина "Профилактика жестокого обращения с детьми" OO-Б22А-01 Семинар
DESCRIPTION:Предмет: Элективная дисциплина "Профилактика жестокого обращения с детьми"\nГруппа: OO-Б22А-01\nПреподаватель: Старосветская Н.А.\nТип занятия: Семинар\nАудитория: 3‑1‑05
LOCATION:3‑1‑05
END:VEVENT
BEGIN:VEVENT
UID:935809_1116@kspu.ru
DTSTAMP:20260421T050115Z
DTSTART:20251121T052000Z
DTEND:20251121T065000Z
SUMMARY:Организация развития детей раннего возраста в образовании OO-Б23Б-01 Семинар
DESCRIPTION:Предмет: Организация развития детей раннего возраста в образовании\nГруппа: OO-Б23Б-01\nПреподаватель: Старосветская Н.А.\nТип занятия: Семинар\nАудитория: 3‑2‑02
LOCATION:3‑2‑02
END:VEVENT
BEGIN:VEVENT
UID:935812_1116@kspu.ru
DTSTAMP:20260421T050115Z
DTSTART:20251121T070000Z
DTEND:20251121T083000Z
SUMMARY:Организация развития детей раннего возраста в образовании OO-Б23Б-01 Семинар
DESCRIPTION:Предмет: Организация развития детей раннего возраста в образовании\nГруппа: OO-Б23Б-01\nПреподаватель: Старосветская Н.А.\nТип занятия: Семинар\nАудитория: 3‑2‑02
LOCATION:3‑2‑02
END:VEVENT
BEGIN:VEVENT
UID:913277_1116@kspu.ru
DTSTAMP:20260421T050115Z
DTSTART:20251127T032000Z
DTEND:20251127T045000Z
SUMMARY:Элективная дисциплина "Профилактика жестокого обращения с детьми" OO-Б22А-01 Лекция
DESCRIPTION:Предмет: Элективная дисциплина "Профилактика жестокого обращения с детьми"\nГруппа: OO-Б22А-01\nПреподаватель: Старосветская Н.А.\nТип занятия: Лекция\nАудитория: 3‑1‑05
LOCATION:3‑1‑05
END:VEVENT
BEGIN:VEVENT
UID:913281_1116@kspu.ru
DTSTAMP:20260421T050115Z
DTSTART:20251127T052000Z
DTEND:20251127T065000Z
SUMMARY:Элективная дисциплина "Профилактика жестокого обращения с детьми" OO-Б22А-01 Семинар
DESCRIPTION:Предмет: Элективная дисциплина "Профилактика жестокого обращения с детьми"\nГруппа: OO-Б22А-01\nПреподаватель: Старосветская Н.А.\nТип занятия: Семинар\nАудитория: 3‑1‑05
LOCATION:3‑1‑05
END:VEVENT
BEGIN:VEVENT
UID:913326_1116@kspu.ru
DTSTAMP:20260421T050115Z
DTSTART:20251127T070000Z
DTEND:20251127T083000Z
SUMMARY:Элективная дисциплина "Профилактика жестокого обращения с детьми" OO-Б22А-01 Зачёт
DESCRIPTION:Предмет: Элективная дисциплина "Профилактика жестокого обращения с детьми"\nГруппа: OO-Б22А-01\nПреподаватель: Старосветская Н.А.\nТип занятия: Зачёт\nАудитория: 3‑1‑05
LOCATION:3‑1‑05
END:VEVENT
BEGIN:VEVENT
UID:935810_1116@kspu.ru
DTSTAMP:20260421T050115Z
DTSTART:20251128T052000Z
DTEND:20251128T065000Z
SUMMARY:Организация развития детей раннего возраста в образовании OO-Б23Б-01 Семинар
DESCRIPTION:Предмет: Организация развития детей раннего возраста в образовании\nГруппа: OO-Б23Б-01\nПреподаватель: Старосветская Н.А.\nТип занятия: Семинар\nАудитория: 3‑2‑02
LOCATION:3‑2‑02
END:VEVENT
BEGIN:VEVENT
UID:935813_1116@kspu.ru
DTSTAMP:20260421T050115Z
DTSTART:20251128T070000Z
DTEND:20251128T083000Z
SUMMARY:Организация развития детей раннего возраста в образовании OO-Б23Б-01 Семинар
DESCRIPTION:Предмет: Организация развития детей раннего возраста в образовании\nГруппа: OO-Б23Б-01\nПреподаватель: Старосветская Н.А.\nТип занятия: Семинар\nАудитория: 3‑2‑02
LOCATION:3‑2‑02
END:VEVENT
BEGIN:VEVENT
UID:958919_1116@kspu.ru
DTSTAMP:20260421T050115Z
DTSTART:20260116T070000Z
DTEND:20260116T083000Z
SUMMARY:Организация развития детей раннего возраста в образовании OO-Б23Б-01 Консультация
DESCRIPTION:Предмет: Организация развития детей раннего возраста в образовании\nГруппа: OO-Б23Б-01\nПреподаватель: Старосветская Н.А.\nТип занятия: Консультация\nАудитория: 3‑2‑09
LOCATION:3‑2‑09
END:VEVENT
BEGIN:VEVENT
UID:958917_1116@kspu.ru
DTSTAMP:20260421T050115Z
DTSTART:20260119T014000Z
DTEND:20260119T031000Z
SUMMARY:Организация развития детей раннего возраста в образовании OO-Б23Б-01 Экзамен
DESCRIPTION:Предмет: Организация развития детей раннего возраста в образовании\nГруппа: OO-Б23Б-01\nПреподаватель: Старосветская Н.А.\nТип занятия: Экзамен\nАудитория: 3‑2‑02
LOCATION:3‑2‑02
END:VEVENT
BEGIN:VEVENT
UID:958918_1116@kspu.ru
DTSTAMP:20260421T050115Z
DTSTART:20260119T032000Z
DTEND:20260119T045000Z
SUMMARY:Организация развития детей раннего возраста в образовании OO-Б23Б-01 Экзамен
DESCRIPTION:Предмет: Организация развития детей раннего возраста в образовании\nГруппа: OO-Б23Б-01\nПреподаватель: Старосветская Н.А.\nТип занятия: Экзамен\nАудитория: 3‑2‑02
LOCATION:3‑2‑02
END:VEVENT
BEGIN:VEVENT
UID:998063_1116@kspu.ru
DTSTAMP:20260421T050115Z
DTSTART:20260209T070000Z
DTEND:20260209T083000Z
SUMMARY:ДВ Практикум по профилактике жестокого обращения с детьми OZ-Б24Б-01 Лекция
DESCRIPTION:Предмет: ДВ Практикум по профилактике жестокого обращения с детьми\nГруппа: OZ-Б24Б-01\nПреподаватель: Старосветская Н.А.\nТип занятия: Лекция\nАудитория: 3‑1‑05
LOCATION:3‑1‑05
END:VEVENT
BEGIN:VEVENT
UID:998064_1116@kspu.ru
DTSTAMP:20260421T050115Z
DTSTART:20260209T084000Z
DTEND:20260209T101000Z
SUMMARY:ДВ Практикум по профилактике жестокого обращения с детьми OZ-Б24Б-01 Лекция
DESCRIPTION:Предмет: ДВ Практикум по профилактике жестокого обращения с детьми\nГруппа: OZ-Б24Б-01\nПреподаватель: Старосветская Н.А.\nТип занятия: Лекция\nАудитория: 3‑1‑05
LOCATION:3‑1‑05
END:VEVENT
BEGIN:VEVENT
UID:998065_1116@kspu.ru
DTSTAMP:20260421T050115Z
DTSTART:20260210T032000Z
DTEND:20260210T045000Z
SUMMARY:ДВ Практикум по профилактике жестокого обращения с детьми OZ-Б24Б-01 Семинар
DESCRIPTION:Предмет: ДВ Практикум по профилактике жестокого обращения с детьми\nГруппа: OZ-Б24Б-01\nПреподаватель: Старосветская Н.А.\nТип занятия: Семинар\nАудитория: 3‑1‑05
LOCATION:3‑1‑05
END:VEVENT
BEGIN:VEVENT
UID:998066_1116@kspu.ru
DTSTAMP:20260421T050115Z
DTSTART:20260210T052000Z
DTEND:20260210T065000Z
SUMMARY:Методика гендерного воспитания детей дошкольного возраста OZ-Б24Б-01 Семинар
DESCRIPTION:Предмет: Методика гендерного воспитания детей дошкольного возраста\nГруппа: OZ-Б24Б-01\nПреподаватель: Старосветская Н.А.\nТип занятия: Семинар\nАудитория: 3‑1‑05
LOCATION:3‑1‑05
END:VEVENT
BEGIN:VEVENT
UID:998068_1116@kspu.ru
DTSTAMP:20260421T050115Z
DTSTART:20260213T052000Z
DTEND:20260213T065000Z
SUMMARY:Методика гендерного воспитания детей дошкольного возраста OZ-Б24Б-01 Семинар
DESCRIPTION:Предмет: Методика гендерного воспитания детей дошкольного возраста\nГруппа: OZ-Б24Б-01\nПреподаватель: Старосветская Н.А.\nТип занятия: Семинар\nАудитория: 3‑2‑02
LOCATION:3‑2‑02
END:VEVENT
BEGIN:VEVENT
UID:998069_1116@kspu.ru
DTSTAMP:20260421T050115Z
DTSTART:20260217T070000Z
DTEND:20260217T083000Z
SUMMARY:Методика гендерного воспитания детей дошкольного возраста OZ-Б24Б-01 Семинар
DESCRIPTION:Предмет: Методика гендерного воспитания детей дошкольного возраста\nГруппа: OZ-Б24Б-01\nПреподаватель: Старосветская Н.А.\nТип занятия: Семинар\nАудитория: 3‑1‑05
LOCATION:3‑1‑05
END:VEVENT
BEGIN:VEVENT
UID:998073_1116@kspu.ru
DTSTAMP:20260421T050115Z
DTSTART:20260217T084000Z
DTEND:20260217T101000Z
SUMMARY:Методика гендерного воспитания детей дошкольного возраста OZ-Б24Б-01 Семинар
DESCRIPTION:Предмет: Методика гендерного воспитания детей дошкольного возраста\nГруппа: OZ-Б24Б-01\nПреподаватель: Старосветская Н.А.\nТип занятия: Семинар\nАудитория: 3‑1‑05
LOCATION:3‑1‑05
END:VEVENT
BEGIN:VEVENT
UID:998071_1116@kspu.ru
DTSTAMP:20260421T050115Z
DTSTART:20260217T102000Z
DTEND:20260217T115000Z
SUMMARY:Методика гендерного воспитания детей дошкольного возраста OZ-Б24Б-01 Семинар
DESCRIPTION:Предмет: Методика гендерного воспитания детей дошкольного возраста\nГруппа: OZ-Б24Б-01\nПреподаватель: Старосветская Н.А.\nТип занятия: Семинар\nАудитория: 3‑1‑05
LOCATION:3‑1‑05
END:VEVENT
BEGIN:VEVENT
UID:998094_1116@kspu.ru
DTSTAMP:20260421T050115Z
DTSTART:20260219T102000Z
DTEND:20260219T115000Z
SUMMARY:Организация учебно-исследовательской работы (профильное исследование): курсовая работа OZ-Б24Б-01 Зачёт
DESCRIPTION:Предмет: Организация учебно-исследовательской работы (профильное исследование): курсовая работа\nГруппа: OZ-Б24Б-01\nПреподаватель: Вербианова О.М. / Груздева О.В. / Кухар М.А. / Старосветская Н.А. / Яценко И.А.\nТип занятия: Зачёт\nАудитория: 3‑2‑05
LOCATION:3‑2‑05
END:VEVENT
BEGIN:VEVENT
UID:998074_1116@kspu.ru
DTSTAMP:20260421T050115Z
DTSTART:20260224T032000Z
DTEND:20260224T045000Z
SUMMARY:Методика гендерного воспитания детей дошкольного возраста OZ-Б24Б-01 Семинар
DESCRIPTION:Предмет: Методика гендерного воспитания детей дошкольного возраста\nГруппа: OZ-Б24Б-01\nПреподаватель: Старосветская Н.А.\nТип занятия: Семинар\nАудитория: 3‑1‑05
LOCATION:3‑1‑05
END:VEVENT
BEGIN:VEVENT
UID:998075_1116@kspu.ru
DTSTAMP:20260421T050115Z
DTSTART:20260224T052000Z
DTEND:20260224T065000Z
SUMMARY:Методика гендерного воспитания детей дошкольного возраста OZ-Б24Б-01 Семинар
DESCRIPTION:Предмет: Методика гендерного воспитания детей дошкольного возраста\nГруппа: OZ-Б24Б-01\nПреподаватель: Старосветская Н.А.\nТип занятия: Семинар\nАудитория: 3‑1‑05
LOCATION:3‑1‑05
END:VEVENT
BEGIN:VEVENT
UID:998076_1116@kspu.ru
DTSTAMP:20260421T050115Z
DTSTART:20260224T070000Z
DTEND:20260224T083000Z
SUMMARY:Методика гендерного воспитания детей дошкольного возраста OZ-Б24Б-01 Зачёт с оценкой
DESCRIPTION:Предмет: Методика гендерного воспитания детей дошкольного возраста\nГруппа: OZ-Б24Б-01\nПреподаватель: Старосветская Н.А.\nТип занятия: Зачёт с оценкой\nАудитория: 3‑1‑05
LOCATION:3‑1‑05
END:VEVENT
END:VCALENDAR