BEGIN:VCALENDAR
VERSION:2.0
PRODID:-//KSPU//Teacher Schedule Calendar//EN
CALSCALE:GREGORIAN
METHOD:PUBLISH
X-WR-CALNAME:Новоселова Н.А. Расписание
X-PUBLISHED-TTL:PT15M
BEGIN:VEVENT
UID:904220_1015@kspu.ru
DTSTAMP:20260419T203822Z
DTSTART:20251013T070000Z
DTEND:20251013T083000Z
SUMMARY:Учебная практика: фольклорная практика (2 недели) HO-Б24А-02 Семинар
DESCRIPTION:Предмет: Учебная практика: фольклорная практика (2 недели)\nГруппа: HO-Б24А-02\nПреподаватель: Новоселова Н.А.\nТип занятия: Семинар\nАудитория: 1‑3‑43
LOCATION:1‑3‑43
END:VEVENT
BEGIN:VEVENT
UID:904221_1015@kspu.ru
DTSTAMP:20260419T203822Z
DTSTART:20251015T070000Z
DTEND:20251015T083000Z
SUMMARY:Учебная практика: фольклорная практика (2 недели) HO-Б24А-02 Семинар
DESCRIPTION:Предмет: Учебная практика: фольклорная практика (2 недели)\nГруппа: HO-Б24А-02\nПреподаватель: Новоселова Н.А.\nТип занятия: Семинар\nАудитория: 1‑3‑43
LOCATION:1‑3‑43
END:VEVENT
BEGIN:VEVENT
UID:904222_1015@kspu.ru
DTSTAMP:20260419T203822Z
DTSTART:20251017T070000Z
DTEND:20251017T083000Z
SUMMARY:Учебная практика: фольклорная практика (2 недели) HO-Б24А-02 Семинар
DESCRIPTION:Предмет: Учебная практика: фольклорная практика (2 недели)\nГруппа: HO-Б24А-02\nПреподаватель: Новоселова Н.А.\nТип занятия: Семинар\nАудитория: 1‑3‑43
LOCATION:1‑3‑43
END:VEVENT
BEGIN:VEVENT
UID:904223_1015@kspu.ru
DTSTAMP:20260419T203822Z
DTSTART:20251020T070000Z
DTEND:20251020T083000Z
SUMMARY:Учебная практика: фольклорная практика (2 недели) HO-Б24А-02 Семинар
DESCRIPTION:Предмет: Учебная практика: фольклорная практика (2 недели)\nГруппа: HO-Б24А-02\nПреподаватель: Новоселова Н.А.\nТип занятия: Семинар\nАудитория: 1‑3‑43
LOCATION:1‑3‑43
END:VEVENT
BEGIN:VEVENT
UID:904224_1015@kspu.ru
DTSTAMP:20260419T203822Z
DTSTART:20251024T070000Z
DTEND:20251024T083000Z
SUMMARY:Учебная практика: фольклорная практика (2 недели) HO-Б24А-02 Семинар
DESCRIPTION:Предмет: Учебная практика: фольклорная практика (2 недели)\nГруппа: HO-Б24А-02\nПреподаватель: Новоселова Н.А.\nТип занятия: Семинар\nАудитория: 1‑3‑43
LOCATION:1‑3‑43
END:VEVENT
BEGIN:VEVENT
UID:960016_1015@kspu.ru
DTSTAMP:20260419T203822Z
DTSTART:20251128T084000Z
DTEND:20251128T101000Z
SUMMARY:Учебная практика: фольклорная практика (2 недели) HO-Б24А-02 Зачёт с оценкой
DESCRIPTION:Предмет: Учебная практика: фольклорная практика (2 недели)\nГруппа: HO-Б24А-02\nПреподаватель: Новоселова Н.А.\nТип занятия: Зачёт с оценкой\nАудитория: 1‑3‑37
LOCATION:1‑3‑37
END:VEVENT
BEGIN:VEVENT
UID:970357_1015@kspu.ru
DTSTAMP:20260419T203822Z
DTSTART:20251218T052000Z
DTEND:20251218T065000Z
SUMMARY:Организационное собрание HZ-Б21А-01 Прочее
DESCRIPTION:Предмет: Организационное собрание\nГруппа: HZ-Б21А-01\nПреподаватель: Новоселова Н.А.\nТип занятия: Прочее\nАудитория: 1‑3‑19
LOCATION:1‑3‑19
END:VEVENT
BEGIN:VEVENT
UID:970358_1015@kspu.ru
DTSTAMP:20260419T203822Z
DTSTART:20251218T052000Z
DTEND:20251218T065000Z
SUMMARY:Организационное собрание HZ-Б21А-02 Прочее
DESCRIPTION:Предмет: Организационное собрание\nГруппа: HZ-Б21А-02\nПреподаватель: Новоселова Н.А.\nТип занятия: Прочее\nАудитория: 1‑3‑19
LOCATION:1‑3‑19
END:VEVENT
BEGIN:VEVENT
UID:1010606_1015@kspu.ru
DTSTAMP:20260419T203822Z
DTSTART:20260415T052000Z
DTEND:20260415T065000Z
SUMMARY:Организационное собрание HZ-Б21А-02 Прочее
DESCRIPTION:Предмет: Организационное собрание\nГруппа: HZ-Б21А-02\nПреподаватель: Новоселова Н.А.\nТип занятия: Прочее\nАудитория: 1‑3‑13
LOCATION:1‑3‑13
END:VEVENT
BEGIN:VEVENT
UID:1010607_1015@kspu.ru
DTSTAMP:20260419T203822Z
DTSTART:20260415T052000Z
DTEND:20260415T065000Z
SUMMARY:Организационное собрание HZ-Б21А-01 Прочее
DESCRIPTION:Предмет: Организационное собрание\nГруппа: HZ-Б21А-01\nПреподаватель: Новоселова Н.А.\nТип занятия: Прочее\nАудитория: 1‑3‑13
LOCATION:1‑3‑13
END:VEVENT
END:VCALENDAR